BEGIN:VCALENDAR
PRODID:-//Ben Fortuna//iCal4j 1.0//EN
VERSION:2.0
CALSCALE:GREGORIAN
BEGIN:VTIMEZONE
TZID:America/Chicago
LAST-MODIFIED:20260306T231828Z
TZURL:https://www.tzurl.org/zoneinfo-outlook/America/Chicago
X-LIC-LOCATION:America/Chicago
BEGIN:DAYLIGHT
TZNAME:CDT
TZOFFSETFROM:-0600
TZOFFSETTO:-0500
DTSTART:19700308T020000
RRULE:FREQ=YEARLY;BYMONTH=3;BYDAY=2SU
END:DAYLIGHT
BEGIN:STANDARD
TZNAME:CST
TZOFFSETFROM:-0500
TZOFFSETTO:-0600
DTSTART:19701101T020000
RRULE:FREQ=YEARLY;BYMONTH=11;BYDAY=1SU
END:STANDARD
END:VTIMEZONE
BEGIN:VEVENT
DTSTAMP:20260423T001046Z
DTSTART;TZID=America/Chicago:20251202T183000
DTEND;TZID=America/Chicago:20251202T200000
SUMMARY:Regular Club Meeting
RRULE:FREQ=MONTHLY;UNTIL=20251216;BYDAY=1TU,3TU
DESCRIPTION:Meal starts at 6:30pm (pot luck) and meeting starts at 7:00pm. 
 Pledges (US and Texas) Recognitions Reports New Business
X-ALT-DESC;FMTTYPE=text/html:<p><span style='font-size: 14pt\;'>Meal starts
  at 6:30pm (pot luck)<br />and meeting starts at 7:00pm.</span><br /><br /
 ><span style='font-size: 14pt\;'>Pledges (US and Texas)</span><br /><span 
 style='font-size: 14pt\;'>Recognitions</span><br /><span style='font-size:
  14pt\;'>Reports</span><br /><span style='font-size: 14pt\;'>New Business<
 /span></p>  <p></p>
CATEGORIES:General
UID:20251216T2059190Z-3199870-2@localendar.com
END:VEVENT
BEGIN:VEVENT
DTSTAMP:20260423T001046Z
DTSTART;TZID=America/Chicago:20251207T160000
DTEND;TZID=America/Chicago:20251207T200000
SUMMARY:Pancake Supper
DESCRIPTION:4:00pm - 8:00pm 400 S. Concho (Senior Citizen's Center) $10 don
 ation Age 6 and under FREE
X-ALT-DESC;FMTTYPE=text/html:<p><strong><span style='font-size: 12pt\;'>4:0
 0pm - 8:00pm</span></strong><br /><strong><span style='font-size: 12pt\;'>
 400 S. Concho (Senior Citizen's Center)</span></strong><br /><strong><span
  style='font-size: 12pt\;'>$10 donation</span></strong><br /><strong><span
  style='font-size: 12pt\;'>Age 6 and under FREE</span></strong></p>
CATEGORIES:General
UID:20251208T1540570Z-3199870-3@localendar.com
END:VEVENT
BEGIN:VEVENT
DTSTAMP:20260423T001046Z
DTSTART;TZID=America/Chicago:20251211T170000
DTEND;TZID=America/Chicago:20251211T190000
SUMMARY:Holiday Hill Health Fair and Christmas Event
DESCRIPTION:5:00pm - 7:00 pm Vision Screening FREE
X-ALT-DESC;FMTTYPE=text/html:<p><strong><span style='font-size: 12pt\;'>5:0
 0pm - 7:00 pm</span></strong><br /><strong><span style='font-size: 12pt\;'
 >Vision Screening FREE</span></strong></p>
CATEGORIES:General
UID:20251208T1544270Z-3199870-4@localendar.com
END:VEVENT
BEGIN:VEVENT
DTSTAMP:20260423T001046Z
DTSTART;TZID=America/Chicago:20251212T080000
DTEND;TZID=America/Chicago:20251212T090000
SUMMARY:Book Delivery at Panther Creek
DESCRIPTION:8:00am Contact Nancy Baker for details text to 325-636-3443
X-ALT-DESC;FMTTYPE=text/html:<p><strong><span style='font-size: 12pt\;'>8:0
 0am</span></strong><br /><strong><span style='font-size: 12pt\;'>Contact N
 ancy Baker for details</span></strong><br /><strong><span style='font-size
 : 12pt\;'>text to 325-636-3443</span></strong></p>
CATEGORIES:General
UID:20251208T1549070Z-3199870-5@localendar.com
END:VEVENT
BEGIN:VEVENT
DTSTAMP:20260423T001046Z
DTSTART;TZID=America/Chicago:20251218T080000
DTEND;TZID=America/Chicago:20251218T090000
SUMMARY:Book Delivery at Santa Anna
DESCRIPTION:8:00am Contact Nancy Baker for details text to 325-636-3443
X-ALT-DESC;FMTTYPE=text/html:<p><strong><span style='font-size: 12pt\;'>8:0
 0am</span></strong><br /><strong><span style='font-size: 12pt\;'>Contact N
 ancy Baker for details</span></strong><br /><strong><span style='font-size
 : 12pt\;'>text to 325-636-3443</span></strong></p>
CATEGORIES:General
UID:20251208T1552010Z-3199870-6@localendar.com
END:VEVENT
BEGIN:VEVENT
DTSTAMP:20260423T001046Z
DTSTART;TZID=America/Chicago:20251218T080000
DTEND;TZID=America/Chicago:20251218T090000
SUMMARY:Book Delivery at Coleman
DESCRIPTION:8:00am Contact Nancy Baker for details text to 325-636-3443
X-ALT-DESC;FMTTYPE=text/html:<p><strong><span style='font-size: 12pt\;'>8:0
 0am</span></strong><br /><strong><span style='font-size: 12pt\;'>Contact N
 ancy Baker for details</span></strong><br /><strong><span style='font-size
 : 12pt\;'>text to 325-636-3443</span></strong></p>
CATEGORIES:General
UID:20251208T1552490Z-3199870-7@localendar.com
END:VEVENT
BEGIN:VEVENT
DTSTAMP:20260423T001046Z
DTSTART;TZID=America/Chicago:20260203T183000
DTEND;TZID=America/Chicago:20260203T203000
SUMMARY:Regular Club Meeting
RRULE:FREQ=MONTHLY;UNTIL=20300203;BYDAY=1TU,3TU
DESCRIPTION:Pot Luck Meal 6:30 pm Meeting 7:00 pm Cornerstone Community Act
 ion Building 114 Needham - Coleman TX Park and enter in back
X-ALT-DESC;FMTTYPE=text/html:<p>Pot Luck Meal 6:30 pm<br />Meeting 7:00 pm<
 br />Cornerstone Community Action Building<br />114 Needham - Coleman TX<b
 r />Park and enter in back</p>
CATEGORIES:General
UID:20260203T2049420Z-3199870-8@localendar.com
END:VEVENT
BEGIN:VEVENT
DTSTAMP:20260423T001046Z
DTSTART;VALUE=DATE:20260418
SUMMARY:Coleman 150 Year Celebration
DESCRIPTION:Lions work the entrance gates
X-ALT-DESC;FMTTYPE=text/html:<p>Lions work the entrance gates</p>
CATEGORIES:General
UID:20260203T2050500Z-3199870-9@localendar.com
END:VEVENT
BEGIN:VEVENT
DTSTAMP:20260423T001046Z
DTSTART;VALUE=DATE:20260725
SUMMARY:Back to School Bonanza
DESCRIPTION:At Boys/Girls Club
X-ALT-DESC;FMTTYPE=text/html:<p>At Boys/Girls Club</p>
CATEGORIES:General
UID:20260203T2052030Z-3199870-10@localendar.com
END:VEVENT
END:VCALENDAR
