BEGIN:VCALENDAR
PRODID:-//Ben Fortuna//iCal4j 1.0//EN
VERSION:2.0
CALSCALE:GREGORIAN
BEGIN:VTIMEZONE
TZID:America/New_York
LAST-MODIFIED:20260306T231828Z
TZURL:https://www.tzurl.org/zoneinfo-outlook/America/New_York
X-LIC-LOCATION:America/New_York
BEGIN:DAYLIGHT
TZNAME:EDT
TZOFFSETFROM:-0500
TZOFFSETTO:-0400
DTSTART:19700308T020000
RRULE:FREQ=YEARLY;BYMONTH=3;BYDAY=2SU
END:DAYLIGHT
BEGIN:STANDARD
TZNAME:EST
TZOFFSETFROM:-0400
TZOFFSETTO:-0500
DTSTART:19701101T020000
RRULE:FREQ=YEARLY;BYMONTH=11;BYDAY=1SU
END:STANDARD
END:VTIMEZONE
BEGIN:VEVENT
DTSTAMP:20260419T124712Z
DTSTART;TZID=America/New_York:20160303T183000
DTEND;TZID=America/New_York:20160303T203000
SUMMARY:A&S meeting
RRULE:FREQ=MONTHLY;UNTIL=20161230;BYDAY=1TH,3TH
DESCRIPTION:A meeting to plan and work on arts & science related projects\,
  as well as discussing current events and goings-on in the shire. Check ou
 r Facebook page for meeting location: https://www.facebook.com/ShireofCopp
 ertree/
X-ALT-DESC;FMTTYPE=text/html:<p><span style='color: #800000\;'>A meeting to
  plan&nbsp\;and work on arts &amp\;&nbsp\;science related projects\, as we
 ll as discussing&nbsp\;current events and goings-on in the shire. Check ou
 r Facebook page for meeting location:&nbsp\;<a href='https://www.facebook.
 com/ShireofCoppertree/'><span style='color: #800000\;'>https://www.faceboo
 k.com/ShireofCoppertree/</span></a></span></p>
CATEGORIES:Clubs & Organizations
UID:20160303T1643360Z-416135-15@localendar.com
END:VEVENT
BEGIN:VEVENT
DTSTAMP:20260419T124712Z
DTSTART;TZID=America/New_York:20191021T180000
DTEND;TZID=America/New_York:20191021T200000
SUMMARY:Archery practice 
RRULE:FREQ=WEEKLY;UNTIL=20201228;BYDAY=MO
EXDATE;TZID=America/New_York:20200525T180000
EXDATE;TZID=America/New_York:20200907T180000
EXDATE;TZID=America/New_York:20200302T180000
EXDATE;TZID=America/New_York:20200323T180000
EXDATE;TZID=America/New_York:20200330T180000
EXDATE;TZID=America/New_York:20200406T180000
EXDATE;TZID=America/New_York:20200413T180000
EXDATE;TZID=America/New_York:20200420T180000
EXDATE;TZID=America/New_York:20200427T180000
EXDATE;TZID=America/New_York:20200504T180000
EXDATE;TZID=America/New_York:20200511T180000
EXDATE;TZID=America/New_York:20200518T180000
EXDATE;TZID=America/New_York:20200706T180000
EXDATE;TZID=America/New_York:20200713T180000
EXDATE;TZID=America/New_York:20200720T180000
EXDATE;TZID=America/New_York:20200727T180000
EXDATE;TZID=America/New_York:20200803T180000
EXDATE;TZID=America/New_York:20200810T180000
EXDATE;TZID=America/New_York:20200817T180000
EXDATE;TZID=America/New_York:20200824T180000
EXDATE;TZID=America/New_York:20200831T180000
DESCRIPTION:Archery practice happens every Monday\, 6-8 p.m.\, at Warrior A
 rchery\, 245 W. Seneca Tpk\, Sherrill\, NY 13461. The cost is $12 per arch
 er.
X-ALT-DESC;FMTTYPE=text/html:<p><span style='font-size: 12pt\; color: #0000
 00\;'>Archery practice happens every Monday\, 6-8 p.m.\, at Warrior Archer
 y\, 245 W. Seneca Tpk\, Sherrill\, NY 13461. The cost is $12 per archer.</
 span></p>
CATEGORIES:Clubs & Organizations
UID:20200104T1638280Z-416135-16@localendar.com
END:VEVENT
BEGIN:VEVENT
DTSTAMP:20260419T124712Z
DTSTART;TZID=America/New_York:20191022T190000
DTEND;TZID=America/New_York:20191022T210000
SUMMARY:Fight practice
RRULE:FREQ=WEEKLY;UNTIL=20201229;BYDAY=TU
EXDATE;TZID=America/New_York:20191224T190000
EXDATE;TZID=America/New_York:20191231T190000
EXDATE;TZID=America/New_York:20200303T190000
EXDATE;TZID=America/New_York:20200324T190000
EXDATE;TZID=America/New_York:20200331T190000
EXDATE;TZID=America/New_York:20200407T190000
EXDATE;TZID=America/New_York:20200414T190000
EXDATE;TZID=America/New_York:20200421T190000
EXDATE;TZID=America/New_York:20200428T190000
EXDATE;TZID=America/New_York:20200505T190000
EXDATE;TZID=America/New_York:20200512T190000
EXDATE;TZID=America/New_York:20200519T190000
EXDATE;TZID=America/New_York:20200707T190000
EXDATE;TZID=America/New_York:20200714T190000
EXDATE;TZID=America/New_York:20200721T190000
EXDATE;TZID=America/New_York:20200728T190000
EXDATE;TZID=America/New_York:20200804T190000
EXDATE;TZID=America/New_York:20200811T190000
EXDATE;TZID=America/New_York:20200818T190000
EXDATE;TZID=America/New_York:20200825T190000
DESCRIPTION:Fight practice happens every Tuesday at 7 p.m. at Grace Episcop
 al Church in Utica. Park in the lots on Elizabeth Street and meet at the s
 ide door. The door is kept locked so you must be there at 7 p.m. sharp.  
X-ALT-DESC;FMTTYPE=text/html:<p><span style='color: #800000\; font-size: 12
 pt\;'>Fight practice happens every Tuesday at 7 p.m. at Grace Episcopal Ch
 urch in Utica. Park in the lots on Elizabeth Street and meet at the side d
 oor. The door is kept locked so you must be there at 7 p.m. sharp.</span><
 /p>  <p><span style='font-size: 12pt\;'>&nbsp\;</span></p>
CATEGORIES:Clubs & Organizations
UID:20191014T1712000Z-416135-17@localendar.com
END:VEVENT
BEGIN:VEVENT
DTSTAMP:20260419T124712Z
DTSTART;TZID=America/New_York:20191207T100000
DTEND;TZID=America/New_York:20191207T200000
SUMMARY:Fourth Annual Holiday Shoot
DESCRIPTION:Welcome archers of the Knowne World to the Shire of Coppertree’
 s Fourth Annual Holiday Shoot! We have a dozen challenging holiday-themed 
 targets for you to shoot at\, at various ranges out to 30 yards\, with pri
 zes in many categories – and not just for the highest scores!  More inform
 aiton is avaialble under the events tab on our website.
X-ALT-DESC;FMTTYPE=text/html:<p><span style='font-size: 12pt\; color: #ffff
 ff\;'>Welcome archers of the Knowne World to the Shire of Coppertree&rsquo
 \;s Fourth Annual Holiday Shoot! We have a dozen challenging holiday-theme
 d targets for you to shoot at\, at various ranges out to 30 yards\, with p
 rizes in many categories &ndash\; and not just for the highest scores!&nbs
 p\;</span><br /><span style='font-size: 12pt\; color: #ffffff\;'>More info
 rmaiton is avaialble under the events tab on our website.</span></p>
CATEGORIES:Clubs & Organizations
UID:20191014T1740590Z-416135-20@localendar.com
END:VEVENT
BEGIN:VEVENT
DTSTAMP:20260419T124712Z
DTSTART;TZID=America/New_York:20200118T120000
DTEND;TZID=America/New_York:20200118T180000
SUMMARY:12th Night Party
DESCRIPTION:Come in from the cold and mark the start of a new year with the
  Shire of Coppertree at our 12th Night Party\, on Saturday\, Jan. 18\, at 
 Grace Episcopal Church in Utica (6 Elizabeth St. — our fight practice site
 ). This is a casual\, potluck gathering. The site is discreetly damp. Garb
  is encouraged but not required. The site opens at noon and closes at 6 p.
 m. 
X-ALT-DESC;FMTTYPE=text/html:<p style='text-align: center\;'><span style='f
 ont-size: 12pt\;'>Come in from the cold and mark the start of a new year w
 ith the Shire of Coppertree at our 12th Night Party\, on Saturday\, Jan. 1
 8\, at Grace Episcopal Church in Utica (6 Elizabeth St. &mdash\; our fight
  practice site). This is a casual\, potluck gathering. The site is discree
 tly damp. Garb is encouraged but not required. The site opens at noon and 
 closes at 6 p.m.&nbsp\;</span></p>
CATEGORIES:Clubs & Organizations
UID:20200104T1641360Z-416135-21@localendar.com
END:VEVENT
BEGIN:VEVENT
DTSTAMP:20260419T124712Z
DTSTART;TZID=America/New_York:20200126T103000
DTEND;TZID=America/New_York:20200126T153000
SUMMARY:Shoe making workshop
DESCRIPTION:There will be a shoe making workshop taught by Robert of Furnes
 s (Ken Stuart) on Sunday\, Jan. 26\, starting around 10:30 a.m.\, at the J
 OANN Fabrics in New Hartford. The store address is 120 Genesee Street. If 
 you are entering the plaza from Genesee Street\, the store is off to the f
 ar right end of the plaza (you can't see it from the road/entrance). Pleas
 e contact Lady Vedis Aradottir (Sarah E. Merchant)\, exchequer@coppertree.
 aethelmearc.org if you plan to attend.
X-ALT-DESC;FMTTYPE=text/html:<p><span style='font-size: 12pt\;'>There will 
 be a shoe making workshop taught by Robert of Furness (Ken Stuart) on Sund
 ay\, Jan. 26\, starting around 10:30 a.m.\, at the JOANN Fabrics in New Ha
 rtford. The store address is 120 Genesee Street. If you are entering the p
 laza from Genesee Street\, the store is off to the far right end of the pl
 aza (you can't see it from the road/entrance).</span></p>  <p><span style=
 'font-size: 12pt\;'>Please contact Lady Vedis Aradottir (Sarah E. Merchant
 )\, exchequer@coppertree.aethelmearc.org if you plan to attend.</span></p>
 
CATEGORIES:Clubs & Organizations
UID:20200104T1644450Z-416135-22@localendar.com
END:VEVENT
BEGIN:VEVENT
DTSTAMP:20260419T124712Z
DTSTART;TZID=America/New_York:20201212T100000
DTEND;TZID=America/New_York:20201212T200000
SUMMARY:Annual Holiday Shoot
DESCRIPTION:We have a dozen challenging holiday-themed targets for you to s
 hoot at\, plus a second range with 3D animals to hunt\, at various ranges 
 out to 30 yards\, with prizes in many categories – and not just for the hi
 ghest scores!  Event will again be held at Warrior Archery\, 245 West Sene
 ca Turnpike\, Sherrill\, NY 13461. Doors open at 10 a.m.\, and practice ro
 unds may be shot from then until 11 a.m. At 11:30 archers may begin shooti
 ng for scores\, which will end at 3 p.m.\, with a brief awards ceremony im
 mediately after. Site closes at 8 p.m. Registration is $20\, $15 for membe
 rs. Non-shooting youth under 10 enter for free. No pre-registrations are n
 eeded or accepted. The Autocrat and Marshal in Charge: Lord Snorri skyti B
 jarnarson (David Haldenwang – hivemind@mvgc.net).
X-ALT-DESC;FMTTYPE=text/html:<p>We have a dozen challenging holiday-themed 
 targets for you to shoot at\, plus a second range with 3D animals to hunt\
 , at various ranges out to 30 yards\, with prizes in many categories &ndas
 h\; and not just for the highest scores!&nbsp\;<br /><br />Event will agai
 n be held at Warrior Archery\, 245 West Seneca Turnpike\, Sherrill\, NY 13
 461.<br /><br />Doors open at 10 a.m.\, and practice rounds may be shot fr
 om then until 11 a.m. At 11:30 archers may begin shooting for scores\, whi
 ch will end at 3 p.m.\, with a brief awards ceremony immediately after. Si
 te closes at 8 p.m.</p>  <p>Registration is $20\, $15 for members. Non-sho
 oting youth under 10 enter for&nbsp\;free. No pre-registrations are needed
  or accepted.</p>  <p>The Autocrat and Marshal in Charge:&nbsp\;Lord Snorr
 i skyti Bjarnarson (David Haldenwang &ndash\; hivemind@mvgc.net).</p>
CATEGORIES:Clubs & Organizations
UID:20200313T1805130Z-416135-24@localendar.com
END:VEVENT
BEGIN:VEVENT
DTSTAMP:20260419T124712Z
DTSTART;TZID=America/New_York:20211016T100000
DTEND;TZID=America/New_York:20211016T170000
SUMMARY:Harvest Festival
DESCRIPTION:On Saturday\, Oct. 16\, the Shire of Coppertree would like to i
 nvite you to our Harvest Fest at Kirkland Town Park\, Pavillion 3. Let's g
 et together and celebrate another year! The highlight of this event will b
 e a Round Robin Fencing Tourney to choose our Shire Fencing Champion! Site
  opens at 10 a.m. and closes at 5 p.m. More activities will be announced a
 s we draw closer to the event. Contact david.haldenwang@gmail.com or heral
 d@coppertree.aethelmearc.org with any questions. The site is dry. There is
  no fee for this event. 
X-ALT-DESC;FMTTYPE=text/html:<p>On Saturday\, Oct. 16\, the Shire of Copper
 tree would like to invite you to our Harvest Fest at Kirkland Town Park\, 
 Pavillion 3.</p>  <div>Let's get together and celebrate another year!</div
 >  <div>The highlight of this event will be a Round Robin Fencing Tourney 
 to choose our Shire Fencing Champion!</div>  <div>Site opens at 10 a.m. an
 d closes at 5 p.m. More activities will be announced as we draw closer to 
 the event. Contact david.haldenwang@gmail.com&nbsp\;or herald@coppertree.a
 ethelmearc.org with any questions. The site is dry.</div>  <p>There is no 
 fee for this event.&nbsp\;</p>
CATEGORIES:Clubs & Organizations
LOCATION:Kirkland Town Park
UID:20210917T2236290Z-416135-25@localendar.com
END:VEVENT
BEGIN:VEVENT
DTSTAMP:20260419T124712Z
DTSTART;TZID=America/New_York:20220105T180000
DTEND;TZID=America/New_York:20220105T190000
SUMMARY:Shire zoom meeting
DESCRIPTION:There will be a Shire Zoom Meeting on Wednesday at 6 p.m.! Join
  Zoom Meeting:   https://us06web.zoom.us/j/81421691209?pwd=cTdIT2ZRNFY3ODd
 ueEN1b1I3cEVQUT09   Meeting ID: 814 2169 1209 Passcode: 652959
X-ALT-DESC;FMTTYPE=text/html:<div class='kvgmc6g5 cxmmr5t8 oygrvhab hcukyx3
 x c1et5uql ii04i59q'>  <div dir='auto'>There will be a Shire Zoom Meeting 
 on Wednesday at 6 p.m.!</div>  </div>  <div class='cxmmr5t8 oygrvhab hcuky
 x3x c1et5uql o9v6fnle ii04i59q'>  <div dir='auto'>Join Zoom Meeting:</div>
   <div dir='auto'>&nbsp\;</div>  <div dir='auto'><a href='https://us06web.
 zoom.us/j/81421691209?pwd=cTdIT2ZRNFY3ODdueEN1b1I3cEVQUT09'>https://us06we
 b.zoom.us/j/81421691209?pwd=cTdIT2ZRNFY3ODdueEN1b1I3cEVQUT09</a></div>  <d
 iv dir='auto'>&nbsp\;</div>  <div dir='auto'>Meeting ID: 814 2169 1209</di
 v>  <div dir='auto'>Passcode: 652959</div>  </div>
CATEGORIES:Clubs & Organizations
UID:20220104T1432460Z-416135-27@localendar.com
END:VEVENT
BEGIN:VEVENT
DTSTAMP:20260419T124712Z
DTSTART;TZID=America/New_York:20220611T090000
DTEND;TZID=America/New_York:20220611T210000
SUMMARY:Coppertree Regional War Muster
DESCRIPTION:Let’s prepare for war! The Shire of Coppertree would like to in
 vite all loyal subjects of the Crown residing in Regions 3\, 4\, and 5 (an
 d anyone else who wants to come!) to a Regional War Muster\, being held at
  the Kirkland Town Park at 3314 Post St\, Clinton\, NY 13323\, on June 11\
 , 2022\, from 9 a.m. until dark. Site fee: $15 per Adult Event Registratio
 n\; $10 per Adult Member Discount Event Registration. No preregistrations 
 are needed nor accepted\, please pay at the gate. If you must write a chec
 k\, please make them payable to SCA NY Inc. The autocrat is Snorri skyti B
 jarnarsson\, hivemind@mvgc.net.
X-ALT-DESC;FMTTYPE=text/html:<p>Let&rsquo\;s prepare for war! The Shire of 
 Coppertree would like to invite&nbsp\;all loyal subjects of the Crown resi
 ding in Regions 3\, 4\, and 5 (and&nbsp\;anyone else who wants to come!) t
 o a Regional War Muster\, being&nbsp\;held at the Kirkland Town Park at 33
 14 Post St\, Clinton\, NY 13323\,&nbsp\;on June 11\, 2022\, from 9 a.m. un
 til dark.</p>  <div>Site fee: $15 per Adult Event Registration\; $10 per A
 dult Member&nbsp\;Discount Event Registration.&nbsp\;No preregistrations a
 re&nbsp\;needed nor accepted\, please pay at the gate. If you must write a
 &nbsp\;check\, please make them payable to SCA NY Inc.</div>  <div><br />T
 he autocrat is Snorri skyti Bjarnarsson\,&nbsp\;hivemind@mvgc.net.</div>
CATEGORIES:Clubs & Organizations
UID:20220321T1607010Z-416135-28@localendar.com
END:VEVENT
BEGIN:VEVENT
DTSTAMP:20260419T124712Z
DTSTART;TZID=America/New_York:20220618T090000
DTEND;TZID=America/New_York:20220618T170000
SUMMARY:Æthelmearc Spring Æcademy 
DESCRIPTION:Camp Kingsley\, 5328 Tuffy Road\, Ava\, NY 13303. More informat
 ion will be posted when available.
X-ALT-DESC;FMTTYPE=text/html:<p>Camp Kingsley\, 5328 Tuffy Road\, Ava\, NY 
 13303. More information will be posted when available.</p>
CATEGORIES:Clubs & Organizations
UID:20220321T1609000Z-416135-29@localendar.com
END:VEVENT
BEGIN:VEVENT
DTSTAMP:20260419T124712Z
DTSTART;TZID=America/New_York:20221116T180000
DTEND;TZID=America/New_York:20221116T200000
SUMMARY:A&S meeting
DESCRIPTION:There will be an A&S meeting at Camden Public Library\, 57 2nd 
 St.\, on Nov. 16 from 6 to 8 p.m. This will be a meet and greet as well as
  a planning session for how to get more regular meetings going. Feel free 
 to bring any projects you're working on or need help with. 
X-ALT-DESC;FMTTYPE=text/html:<p><span style='font-size: 14pt\;'>There will 
 be an A&amp\;S meeting at Camden Public Library\, 57 2nd St.\, on Nov. 16 
 from 6 to 8 p.m.&nbsp\;This will be a meet and greet as well as a planning
  session for how to get more regular meetings going. Feel free to bring an
 y projects you're working on or need help with.&nbsp\;</span></p>
CATEGORIES:Clubs & Organizations
LOCATION:Camden Public Library
UID:20221110T1350210Z-416135-30@localendar.com
END:VEVENT
BEGIN:VEVENT
DTSTAMP:20260419T124712Z
DTSTART;TZID=America/New_York:20221210T090000
DTEND;TZID=America/New_York:20221210T200000
SUMMARY:Æthelmearc Holiday Shoot
DESCRIPTION:Archers of the Sylvan Kingdom\, please come join us for a day o
 f challenging indoor archery\, holiday fellowship\, and fabulous prizes! T
 he mighty Shires of Hunter’s Home and Coppertree are combining forces to b
 ring you the Æthelmearc Holiday Shoot\, at the ENORMOUS indoor archery ran
 ge of Route 157 Archery World\, 866 Sporer Road\, Venus\, PA\, 16364\, on 
 Dec. 10\, 2022\, from 9 a.m. to 8 p.m. There are over 80 3D targets at ran
 ges out to 50 yards to be shot\, as well as a few surprises in store from 
 your co-autocrats and marshals-in-charge\, THL Alrekr Bergsson (David Bess
 ler\, bessler128@gmail.com) and Baron Snorri skyti Bjarnarson (David Halde
 nwang\, hivemind@mvgc.net). In addition\, this shoot will also incorporate
  the Kingdom Archery Championship for Their Majesties Arnthor and Ceirech’
 s winter reign. Event Price is $10\, Member Discount Price is $5. There wi
 ll also be a range fee of $12 for all shooters\, payable directly to the A
 rchery World range staﬀ at their counter after you troll in. More info: ht
 tp://coppertree.aethelmearc.org/otheracts.shtml
X-ALT-DESC;FMTTYPE=text/html:<p><span style='font-size: 12pt\;'>Archers of 
 the Sylvan Kingdom\, please come join us for a day of challenging indoor a
 rchery\, holiday fellowship\, and fabulous prizes! The mighty Shires of Hu
 nter&rsquo\;s Home and Coppertree are combining forces to bring you the &A
 Elig\;thelmearc Holiday Shoot\, at the ENORMOUS indoor archery range of Ro
 ute 157 Archery World\, 866 Sporer Road\, Venus\, PA\, 16364\, on Dec. 10\
 , 2022\, from 9 a.m. to 8 p.m.</span></p>  <p><span style='font-size: 12pt
 \;'>There are over 80 3D targets at ranges out to 50 yards to be shot\, as
  well as a few surprises in store from your co-autocrats and marshals-in-c
 harge\, THL Alrekr Bergsson (David Bessler\, bessler128@gmail.com) and Bar
 on Snorri skyti Bjarnarson (David Haldenwang\, hivemind@mvgc.net). In addi
 tion\, this shoot will also incorporate the Kingdom Archery Championship f
 or Their Majesties Arnthor and Ceirech&rsquo\;s winter reign.</span></p>  
 <p><span style='font-size: 12pt\;'>Event Price is $10\, Member Discount Pr
 ice is $5. There will also be a range fee of $12 for all shooters\, payabl
 e directly to the Archery World range staﬀ at their counter after you trol
 l in. More info:&nbsp\;http://coppertree.aethelmearc.org/otheracts.shtml</
 span></p>  <p><span></span></p>
CATEGORIES:Clubs & Organizations
LOCATION:Route 157 Archery World
UID:20221128T1729370Z-416135-31@localendar.com
END:VEVENT
BEGIN:VEVENT
DTSTAMP:20260419T124712Z
DTSTART;TZID=America/New_York:20250722T180000
DTEND;TZID=America/New_York:20250722T210000
SUMMARY:Fight Practice
RRULE:FREQ=WEEKLY;UNTIL=20251029;BYDAY=TU
DESCRIPTION:Fight practice for fencing and heavy is held at 12 North Sports
  Bar\, 10125 Mulaney Rd\, Marcy\, on Tuesdays at 6 p.m. Post to https://ww
 w.facebook.com/groups/CoppertreeSCA to request being added to the fight pr
 actice message group where schedule changes are posted.
X-ALT-DESC;FMTTYPE=text/html:<p><span style='font-size: 12pt\;'><span>Fight
  practice for fencing and heavy is&nbsp\;held at&nbsp\;12 North Sports Bar
 \,&nbsp\;10125 Mulaney Rd\, Marcy\,</span>&nbsp\;on Tuesdays at&nbsp\;6 p.
 m. Post to&nbsp\;<a href='https://www.facebook.com/groups/CoppertreeSCA' r
 el='nofollow'>https://www.facebook.com/groups/CoppertreeSCA</a>&nbsp\;to r
 equest being added to the fight practice message group where schedule chan
 ges are posted.</span></p>
CATEGORIES:Clubs & Organizations
UID:20250716T1706510Z-416135-32@localendar.com
END:VEVENT
BEGIN:VEVENT
DTSTAMP:20260419T124712Z
DTSTART;TZID=America/New_York:20230504T180000
DTEND;TZID=America/New_York:20230504T200000
SUMMARY:Officers Meeting
DESCRIPTION:Shire officers meeting will be held from 6 to 8 p.m. at the One
 ida Public Library\, 459 Main St. All welcome to attend.
X-ALT-DESC;FMTTYPE=text/html:<p><span style='font-size: 12pt\;'>Shire offic
 ers meeting will be held from 6 to 8 p.m. at the Oneida Public Library\, 4
 59 Main St. All welcome to attend.</span></p>
CATEGORIES:Clubs & Organizations
UID:20230407T1401030Z-416135-33@localendar.com
END:VEVENT
BEGIN:VEVENT
DTSTAMP:20260419T124712Z
DTSTART;VALUE=DATE:20240518
SUMMARY:Mayfaire demo
RRULE:FREQ=DAILY;COUNT=2
DESCRIPTION:Annual SCA demo at Mayfaire on the Green at the Holland Patent 
 Village Green just off route 365.
X-ALT-DESC;FMTTYPE=text/html:<p><span style='font-size: 12pt\;'>Annual SCA 
 demo at Mayfaire on the Green at the Holland Patent Village Green just off
  route 365.</span></p>
CATEGORIES:Clubs & Organizations
UID:20240418T1848570Z-416135-34@localendar.com
END:VEVENT
BEGIN:VEVENT
DTSTAMP:20260419T124712Z
DTSTART;VALUE=DATE:20230923
SUMMARY:Royalty & Rogues demo
RRULE:FREQ=DAILY;COUNT=2
DESCRIPTION:Annual demo at Royalty & Rogues CNY Pirate Festival at at STS R
 ecreations\, 8833a Soule Road\, Holland Patent.
X-ALT-DESC;FMTTYPE=text/html:<p><span style='font-size: 12pt\;'>Annual demo
  at&nbsp\;Royalty &amp\; Rogues CNY Pirate Festival at&nbsp\;<span>at STS 
 Recreations\, 8833a Soule Road\, Holland Patent.</span></span></p>
CATEGORIES:Clubs & Organizations
UID:20230908T0014050Z-416135-35@localendar.com
END:VEVENT
BEGIN:VEVENT
DTSTAMP:20260419T124712Z
DTSTART;VALUE=DATE:20230624
SUMMARY:Coppertree Muster — Bread and Circuses
DESCRIPTION:Let’s prepare for war! The Shire of Coppertree would like to in
 vite all loyal subjects of the Crown residing in Regions 3\, 4\, and 5 (an
 d anyone else who wants to come!) to a Regional War Muster\, being held at
  the Kirkland Town Park at 3314 Post St\, Clinton\, NY 13323\, on June 24\
 , 2023\, from 9 a.m. until dark. More info: http://coppertree.aethelmearc.
 org/otheracts.shtml
X-ALT-DESC;FMTTYPE=text/html:<p><span style='font-size: 12pt\;'>Let&rsquo\;
 s prepare for war! The Shire of Coppertree would like to invite all loyal 
 subjects of the Crown residing in Regions 3\, 4\, and 5 (and anyone else w
 ho wants to come!) to a Regional War Muster\, being held at the Kirkland T
 own Park at 3314 Post St\, Clinton\, NY 13323\, on June 24\, 2023\, from 9
  a.m. until dark. More info:&nbsp\;http://coppertree.aethelmearc.org/other
 acts.shtml</span></p>
CATEGORIES:Clubs & Organizations
UID:20230428T1307380Z-416135-36@localendar.com
END:VEVENT
BEGIN:VEVENT
DTSTAMP:20260419T124712Z
DTSTART;TZID=America/New_York:20230518T180000
DTEND;TZID=America/New_York:20230518T200000
SUMMARY:A&S meeting
RRULE:FREQ=MONTHLY;UNTIL=20231201;BYDAY=3TH
DESCRIPTION:Regular Arts and Sciences meetings are slated for the third Thu
 rsday of the month. For a complete schedule and locations\, go to http://c
 oppertree.aethelmearc.org/arts.shtml 
X-ALT-DESC;FMTTYPE=text/html:<p><span style='font-size: 12pt\;'>Regular Art
 s and Sciences meetings are slated for the third Thursday of the month. Fo
 r a complete schedule and locations\, go to&nbsp\;http://coppertree.aethel
 mearc.org/arts.shtml&nbsp\;</span></p>
CATEGORIES:Clubs & Organizations
UID:20230822T1222530Z-416135-37@localendar.com
END:VEVENT
BEGIN:VEVENT
DTSTAMP:20260419T124712Z
DTSTART;TZID=America/New_York:20240119T180000
DTEND;TZID=America/New_York:20240119T220000
SUMMARY:Shire Twelfth Night
DESCRIPTION:Please join the Shire of Coppertree for an evening of festivity
  and misrule\, as we mark the traditional end of the festive period with a
  Twelfth Night celebration! Our Feast of Fools will be a potluck dinner an
 d party held at the American Legion Helmuth-Ingalls Post 232\, 3627 NY-12B
 \, Clinton\, NY. The Shire will be providing potluck food\, paper products
 \, and non-alcoholic drinks. Beer\, wine\, and spirits can be purchased at
  the Legion Bar on-site. This is NOT a BYOB party. The Event Autocrat is B
 aron Snorri skyti Bjarnarson (mka David Haldenwang\, hivemind@mvgc.net). T
 he event is free\, but if you are attending you are expected to bring some
 thing to share. 
X-ALT-DESC;FMTTYPE=text/html:<p><span>Please join the Shire of Coppertree f
 or an evening of festivity and misrule\, as we mark the traditional end of
  the festive period with a Twelfth Night celebration! Our Feast of Fools w
 ill be a potluck dinner and party held at the American Legion Helmuth-Inga
 lls Post 232\, 3627 NY-12B\, Clinton\, NY. The Shire will be providing pot
 luck food\, paper products\, and non-alcoholic drinks.&nbsp\;Beer\, wine\,
  and spirits can be purchased at the Legion Bar on-site. This is NOT a BYO
 B party.&nbsp\;The Event Autocrat is Baron Snorri skyti Bjarnarson (mka Da
 vid Haldenwang\, hivemind@mvgc.net). The event is free\, but if you are at
 tending you are expected to bring something to share.&nbsp\;</span></p>
CATEGORIES:Clubs & Organizations
UID:20240103T1416140Z-416135-38@localendar.com
END:VEVENT
BEGIN:VEVENT
DTSTAMP:20260419T124712Z
DTSTART;TZID=America/New_York:20250723T180000
DTEND;TZID=America/New_York:20250723T200000
SUMMARY:Archery and Thrown Weapons
RRULE:FREQ=WEEKLY;UNTIL=20251029;BYDAY=WE
DESCRIPTION:Outdoor Archery and Thrown Weapons practice runs on Wednesdays\
 , weather permitting\, from 6 to 8 p.m. at 201 St. Mary's Ave.\, Clinton. 
 Cancellations will be posted to https://www.facebook.com/groups/Coppertree
 SCA
X-ALT-DESC;FMTTYPE=text/html:<p><span style='font-size: 12pt\;'>Outdoor Arc
 hery and Thrown Weapons practice runs on Wednesdays\, weather permitting\,
  from 6 to 8 p.m. at 201 St. Mary's Ave.\, Clinton. Cancellations will be 
 posted to&nbsp\;<a href='https://www.facebook.com/groups/CoppertreeSCA' re
 l='nofollow'>https://www.facebook.com/groups/CoppertreeSCA</a></span></p>
CATEGORIES:Clubs & Organizations
UID:20250716T1704380Z-416135-39@localendar.com
END:VEVENT
END:VCALENDAR
