BEGIN:VCALENDAR
PRODID:-//Ben Fortuna//iCal4j 1.0//EN
VERSION:2.0
CALSCALE:GREGORIAN
BEGIN:VTIMEZONE
TZID:America/New_York
LAST-MODIFIED:20260306T231828Z
TZURL:https://www.tzurl.org/zoneinfo-outlook/America/New_York
X-LIC-LOCATION:America/New_York
BEGIN:DAYLIGHT
TZNAME:EDT
TZOFFSETFROM:-0500
TZOFFSETTO:-0400
DTSTART:19700308T020000
RRULE:FREQ=YEARLY;BYMONTH=3;BYDAY=2SU
END:DAYLIGHT
BEGIN:STANDARD
TZNAME:EST
TZOFFSETFROM:-0400
TZOFFSETTO:-0500
DTSTART:19701101T020000
RRULE:FREQ=YEARLY;BYMONTH=11;BYDAY=1SU
END:STANDARD
END:VTIMEZONE
BEGIN:VEVENT
DTSTAMP:20260420T074216Z
DTSTART;TZID=America/New_York:20200215T103000
DTEND;TZID=America/New_York:20200215T113000
SUMMARY:Milledgeville Amateur Radio Club Monthly Meeting
RRULE:FREQ=MONTHLY;UNTIL=20250215;BYDAY=3SA
DESCRIPTION:Meeting - 10:30 AM
X-ALT-DESC;FMTTYPE=text/html:<p></p>  <p></p>  <p></p>  <p></p>  <p></p>  <
 p></p>  <p></p>  <p></p>  <p></p>  <p></p>  <p></p>  <p></p>  <p></p>  <p>
 </p>  <p></p>  <p></p>  <p></p>  <p></p>  <p></p>  <p></p>  <p></p>  <p></
 p>  <p></p>  <p></p>  <p></p>  <p></p>  <p></p>  <p></p>  <p></p>  <p></p>
   <p></p>  <p></p>  <p></p>  <p></p>  <p></p>  <p></p>  <p></p>  <p></p>  
 <p></p>  <p></p>  <p></p>  <p></p>  <p></p>  <p></p>  <p></p>  <p></p>  <p
 ></p>  <p></p>  <p></p>  <p></p>  <p></p>  <p></p>  <p></p>  <p></p>  <p><
 /p>  <p></p>  <p></p>  <p></p>  <p></p>  <p></p>  <p></p>  <p></p>  <p></p
 >  <p></p>  <p></p>  <p></p>  <p></p>  <p>Meeting - 10:30 AM</p>  <p></p>
CATEGORIES:Clubs & Organizations
LOCATION:Bojangles
UID:20230728T2204410Z-599384-2@localendar.com
END:VEVENT
BEGIN:VEVENT
DTSTAMP:20260420T074216Z
DTSTART;TZID=America/New_York:20200220T170000
DTEND;TZID=America/New_York:20200220T200000
SUMMARY:Macon Amateur Radio Club Monthly Meeting
RRULE:FREQ=MONTHLY;UNTIL=20250220;BYDAY=3TH
DESCRIPTION:5:00 PM - VE Testing 6:30 PM - Meeting
X-ALT-DESC;FMTTYPE=text/html:<p>5:00 PM - VE Testing</p>  <p>6:30 PM - Meet
 ing</p>
CATEGORIES:General
LOCATION:Bibb County EOC
UID:20200212T2118590Z-599384-3@localendar.com
END:VEVENT
BEGIN:VEVENT
DTSTAMP:20260420T074216Z
DTSTART;TZID=America/New_York:20200206T170000
DTEND;TZID=America/New_York:20200206T193000
SUMMARY:Jones County Amatuer Radio Society Monthly Meeting
RRULE:FREQ=MONTHLY;UNTIL=20250206;BYDAY=1TH
DESCRIPTION:5:00 PM - Testing 6:30 PM - Meeting
X-ALT-DESC;FMTTYPE=text/html:<p>5:00 PM - Testing</p>  <p>6:30 PM - Meeting
 </p>
CATEGORIES:Clubs & Organizations
LOCATION:Jones County EMA Center
UID:20200212T2126010Z-599384-5@localendar.com
END:VEVENT
BEGIN:VEVENT
DTSTAMP:20260420T074216Z
DTSTART;TZID=America/New_York:20200708T090000
DTEND;TZID=America/New_York:20200708T100000
SUMMARY:PARES Monthly Meeting
RRULE:FREQ=MONTHLY;UNTIL=20250208;BYDAY=2SA
EXDATE;TZID=America/New_York:20210410T090000
EXDATE;TZID=America/New_York:20210508T090000
DESCRIPTION:9:00 AM - Meeting Check our website www.k4par.org for any updat
 es on time changes or different location for meetings.
X-ALT-DESC;FMTTYPE=text/html:<p>9:00 AM - Meeting</p>  <p>Check our website
  www.k4par.org for any updates on time changes or different location for m
 eetings.</p>
CATEGORIES:General
LOCATION:PARC Tower Site
UID:20230728T2207260Z-599384-6@localendar.com
END:VEVENT
BEGIN:VEVENT
DTSTAMP:20260420T074216Z
DTSTART;TZID=America/New_York:20200106T200000
DTEND;TZID=America/New_York:20200106T210000
SUMMARY:PARES Sunday Night Net
RRULE:FREQ=WEEKLY;UNTIL=20250105;BYDAY=SU
DESCRIPTION:PARES Sunday Night Net is held every Sunday evening at 8:00 PM 
 on the K4EGA repeater with a frequency of 146.655 and a 186.2 tone. This r
 epeater is also linked to the K4EGA 147.090 repeater with a tone of 186.2 
 and the K4EGA repeater with a tone of 186.2  
X-ALT-DESC;FMTTYPE=text/html:<p>PARES Sunday Night Net is held every Sunday
  evening at 8:00 PM on the K4EGA repeater with a frequency of 146.655 and 
 a 186.2 tone.</p>  <p>This repeater is also linked to the K4EGA 147.090 re
 peater with a tone of 186.2 and the K4EGA repeater with a tone of 186.2</p
 >  <p>&nbsp\;</p>
CATEGORIES:General
UID:20200214T1335010Z-599384-27@localendar.com
END:VEVENT
BEGIN:VEVENT
DTSTAMP:20260420T074216Z
DTSTART;TZID=America/New_York:20200113T200000
DTEND;TZID=America/New_York:20200113T210000
SUMMARY:Monday Night Can You Here Me Net
RRULE:FREQ=WEEKLY;UNTIL=20250113;BYDAY=MO
DESCRIPTION:The Monday Night Can You Here Me Now Net begins at 8:00 PM on 8
 0 meters on the frequency of 3.817
X-ALT-DESC;FMTTYPE=text/html:<p>The Monday Night Can You Here Me Now Net be
 gins at 8:00 PM on 80 meters on the frequency of 3.817</p>
CATEGORIES:General
UID:20200214T1338340Z-599384-28@localendar.com
END:VEVENT
BEGIN:VEVENT
DTSTAMP:20260420T074216Z
DTSTART;TZID=America/New_York:20200611T200000
DTEND;TZID=America/New_York:20200611T203000
SUMMARY:KPAR Thursday Night Rag Chew Net
RRULE:FREQ=WEEKLY;UNTIL=20240611;BYDAY=TH
DESCRIPTION:
X-ALT-DESC;FMTTYPE=text/html:
CATEGORIES:General
UID:20200607T2228390Z-599384-40@localendar.com
END:VEVENT
END:VCALENDAR
