BEGIN:VCALENDAR
PRODID:-//Ben Fortuna//iCal4j 1.0//EN
VERSION:2.0
CALSCALE:GREGORIAN
BEGIN:VTIMEZONE
TZID:America/Denver
LAST-MODIFIED:20260306T231828Z
TZURL:https://www.tzurl.org/zoneinfo-outlook/America/Denver
X-LIC-LOCATION:America/Denver
BEGIN:DAYLIGHT
TZNAME:MDT
TZOFFSETFROM:-0700
TZOFFSETTO:-0600
DTSTART:19700308T020000
RRULE:FREQ=YEARLY;BYMONTH=3;BYDAY=2SU
END:DAYLIGHT
BEGIN:STANDARD
TZNAME:MST
TZOFFSETFROM:-0600
TZOFFSETTO:-0700
DTSTART:19701101T020000
RRULE:FREQ=YEARLY;BYMONTH=11;BYDAY=1SU
END:STANDARD
END:VTIMEZONE
BEGIN:VEVENT
DTSTAMP:20260425T225026Z
DTSTART;TZID=America/Denver:20220826T190000
DTEND;TZID=America/Denver:20220826T210000
SUMMARY:Var. FB: Olympus @ Kearns 
DESCRIPTION:
X-ALT-DESC;FMTTYPE=text/html:
CATEGORIES:Education
UID:20220118T1503040Z-404646-15305@localendar.com
END:VEVENT
BEGIN:VEVENT
DTSTAMP:20260425T225026Z
DTSTART;TZID=America/Denver:20220901T153000
DTEND;TZID=America/Denver:20220901T173000
SUMMARY:JV FB: Kearns @ T-Ville
DESCRIPTION:
X-ALT-DESC;FMTTYPE=text/html:
CATEGORIES:Education
UID:20220118T1531530Z-404646-15306@localendar.com
END:VEVENT
BEGIN:VEVENT
DTSTAMP:20260425T225026Z
DTSTART;TZID=America/Denver:20220901T153000
DTEND;TZID=America/Denver:20220901T173000
SUMMARY:Soph FB: T-Ville @ Kearns
DESCRIPTION:
X-ALT-DESC;FMTTYPE=text/html:
CATEGORIES:Education
UID:20220118T1532380Z-404646-15307@localendar.com
END:VEVENT
BEGIN:VEVENT
DTSTAMP:20260425T225026Z
DTSTART;TZID=America/Denver:20220902T190000
DTEND;TZID=America/Denver:20220902T210000
SUMMARY:Var. FB: T-Ville @ Kearns 
DESCRIPTION:
X-ALT-DESC;FMTTYPE=text/html:
CATEGORIES:Education
UID:20220118T1541040Z-404646-15308@localendar.com
END:VEVENT
BEGIN:VEVENT
DTSTAMP:20260425T225026Z
DTSTART;TZID=America/Denver:20220908T153000
DTEND;TZID=America/Denver:20220908T173000
SUMMARY:JV FB: Herriman @ Kearns
DESCRIPTION:
X-ALT-DESC;FMTTYPE=text/html:
CATEGORIES:Education
UID:20220118T1556180Z-404646-15309@localendar.com
END:VEVENT
BEGIN:VEVENT
DTSTAMP:20260425T225026Z
DTSTART;TZID=America/Denver:20220908T153000
DTEND;TZID=America/Denver:20220908T173000
SUMMARY:Soph FB: Kearns @ Herriman
DESCRIPTION:
X-ALT-DESC;FMTTYPE=text/html:
CATEGORIES:Education
UID:20220118T1558400Z-404646-15310@localendar.com
END:VEVENT
BEGIN:VEVENT
DTSTAMP:20260425T225026Z
DTSTART;TZID=America/Denver:20220909T190000
DTEND;TZID=America/Denver:20220909T210000
SUMMARY:Var. FB: Kearns @ Herriman
DESCRIPTION:
X-ALT-DESC;FMTTYPE=text/html:
CATEGORIES:Education
UID:20220118T1559190Z-404646-15311@localendar.com
END:VEVENT
BEGIN:VEVENT
DTSTAMP:20260425T225026Z
DTSTART;TZID=America/Denver:20220915T153000
DTEND;TZID=America/Denver:20220915T173000
SUMMARY:JV FB: Kearns @ Roy
DESCRIPTION:
X-ALT-DESC;FMTTYPE=text/html:
CATEGORIES:Education
UID:20220118T1606330Z-404646-15312@localendar.com
END:VEVENT
BEGIN:VEVENT
DTSTAMP:20260425T225026Z
DTSTART;TZID=America/Denver:20220915T153000
DTEND;TZID=America/Denver:20220915T173000
SUMMARY:Soph FB: Roy @ Kearns
DESCRIPTION:
X-ALT-DESC;FMTTYPE=text/html:
CATEGORIES:Education
UID:20220118T1607320Z-404646-15313@localendar.com
END:VEVENT
BEGIN:VEVENT
DTSTAMP:20260425T225026Z
DTSTART;TZID=America/Denver:20220916T190000
DTEND;TZID=America/Denver:20220916T210000
SUMMARY:Var. FB: Roy @ Kearns 
DESCRIPTION:
X-ALT-DESC;FMTTYPE=text/html:
CATEGORIES:Education
UID:20220118T1608170Z-404646-15314@localendar.com
END:VEVENT
BEGIN:VEVENT
DTSTAMP:20260425T225026Z
DTSTART;TZID=America/Denver:20220922T153000
DTEND;TZID=America/Denver:20220922T173000
SUMMARY:JV FB: Hunter @ Kearns
DESCRIPTION:
X-ALT-DESC;FMTTYPE=text/html:
CATEGORIES:Education
UID:20220118T1609000Z-404646-15315@localendar.com
END:VEVENT
BEGIN:VEVENT
DTSTAMP:20260425T225026Z
DTSTART;TZID=America/Denver:20220922T153000
DTEND;TZID=America/Denver:20220922T173000
SUMMARY:Soph FB: Kearns @ Hunter
DESCRIPTION:
X-ALT-DESC;FMTTYPE=text/html:
CATEGORIES:Education
UID:20220118T1609370Z-404646-15316@localendar.com
END:VEVENT
BEGIN:VEVENT
DTSTAMP:20260425T225026Z
DTSTART;TZID=America/Denver:20220923T090000
DTEND;TZID=America/Denver:20220923T100000
SUMMARY:Var. FB: Kearns @ Hunter
DESCRIPTION:
X-ALT-DESC;FMTTYPE=text/html:
CATEGORIES:Education
UID:20220118T1610470Z-404646-15317@localendar.com
END:VEVENT
BEGIN:VEVENT
DTSTAMP:20260425T225026Z
DTSTART;TZID=America/Denver:20220929T153000
DTEND;TZID=America/Denver:20220929T173000
SUMMARY:JV FB: Kearns @ Granger
DESCRIPTION:
X-ALT-DESC;FMTTYPE=text/html:
CATEGORIES:Education
UID:20220118T1623270Z-404646-15318@localendar.com
END:VEVENT
BEGIN:VEVENT
DTSTAMP:20260425T225026Z
DTSTART;TZID=America/Denver:20220929T153000
DTEND;TZID=America/Denver:20220929T173000
SUMMARY:Soph FB: Granger @ Kearns
DESCRIPTION:
X-ALT-DESC;FMTTYPE=text/html:
CATEGORIES:Education
UID:20220118T1624080Z-404646-15319@localendar.com
END:VEVENT
BEGIN:VEVENT
DTSTAMP:20260425T225026Z
DTSTART;TZID=America/Denver:20220930T190000
DTEND;TZID=America/Denver:20220930T210000
SUMMARY:Var. FB: Granger @ Kearns (Senior Night)
DESCRIPTION:
X-ALT-DESC;FMTTYPE=text/html:
CATEGORIES:Education
UID:20220118T1636140Z-404646-15320@localendar.com
END:VEVENT
BEGIN:VEVENT
DTSTAMP:20260425T225026Z
DTSTART;TZID=America/Denver:20221012T153000
DTEND;TZID=America/Denver:20221012T173000
SUMMARY:JV FB: Cyprus @ Kearns
DESCRIPTION:
X-ALT-DESC;FMTTYPE=text/html:
CATEGORIES:Education
UID:20220118T1738360Z-404646-15326@localendar.com
END:VEVENT
BEGIN:VEVENT
DTSTAMP:20260425T225026Z
DTSTART;TZID=America/Denver:20221012T153000
DTEND;TZID=America/Denver:20221012T173000
SUMMARY:Soph FB: Kearns @ Cyprus
DESCRIPTION:
X-ALT-DESC;FMTTYPE=text/html:
CATEGORIES:Education
UID:20220118T1739120Z-404646-15327@localendar.com
END:VEVENT
BEGIN:VEVENT
DTSTAMP:20260425T225026Z
DTSTART;TZID=America/Denver:20221013T190000
DTEND;TZID=America/Denver:20221013T210000
SUMMARY:Var. FB: Kearns @ Cyprus
DESCRIPTION:
X-ALT-DESC;FMTTYPE=text/html:
CATEGORIES:Education
UID:20220118T1740470Z-404646-15328@localendar.com
END:VEVENT
BEGIN:VEVENT
DTSTAMP:20260425T225026Z
DTSTART;TZID=America/Denver:20221006T153000
DTEND;TZID=America/Denver:20221006T173000
SUMMARY:JV FB: West @ Kearns
DESCRIPTION:
X-ALT-DESC;FMTTYPE=text/html:
CATEGORIES:Education
UID:20220118T1847260Z-404646-15329@localendar.com
END:VEVENT
BEGIN:VEVENT
DTSTAMP:20260425T225026Z
DTSTART;TZID=America/Denver:20221006T153000
DTEND;TZID=America/Denver:20221006T173000
SUMMARY:Soph FB: Kearns @ West
DESCRIPTION:
X-ALT-DESC;FMTTYPE=text/html:
CATEGORIES:Education
UID:20220118T1848590Z-404646-15330@localendar.com
END:VEVENT
BEGIN:VEVENT
DTSTAMP:20260425T225026Z
DTSTART;TZID=America/Denver:20221007T190000
DTEND;TZID=America/Denver:20221007T210000
SUMMARY:Var. FB: Kearns @ West
DESCRIPTION:
X-ALT-DESC;FMTTYPE=text/html:
CATEGORIES:Education
UID:20220118T1848500Z-404646-15331@localendar.com
END:VEVENT
END:VCALENDAR
