BEGIN:VCALENDAR
PRODID:-//Ben Fortuna//iCal4j 1.0//EN
VERSION:2.0
CALSCALE:GREGORIAN
BEGIN:VTIMEZONE
TZID:America/Los_Angeles
LAST-MODIFIED:20260306T231828Z
TZURL:https://www.tzurl.org/zoneinfo-outlook/America/Los_Angeles
X-LIC-LOCATION:America/Los_Angeles
BEGIN:DAYLIGHT
TZNAME:PDT
TZOFFSETFROM:-0800
TZOFFSETTO:-0700
DTSTART:19700308T020000
RRULE:FREQ=YEARLY;BYMONTH=3;BYDAY=2SU
END:DAYLIGHT
BEGIN:STANDARD
TZNAME:PST
TZOFFSETFROM:-0700
TZOFFSETTO:-0800
DTSTART:19701101T020000
RRULE:FREQ=YEARLY;BYMONTH=11;BYDAY=1SU
END:STANDARD
END:VTIMEZONE
BEGIN:VEVENT
DTSTAMP:20260423T015411Z
DTSTART;VALUE=DATE:20220914
SUMMARY:JHS PM P/U @ the bell tower 3:10\, STF 3:30. No afternoon STF to JH
 S  transportation today.
DESCRIPTION:
X-ALT-DESC;FMTTYPE=text/html:
CATEGORIES:General
UID:20220901T1831370Z-141234-1181@localendar.com
END:VEVENT
BEGIN:VEVENT
DTSTAMP:20260423T015411Z
DTSTART;VALUE=DATE:20221020
SUMMARY:JHS PM P/U @ the bell tower 3:10\, STF 3:30. No afternoon STF to JH
 S service today.
DESCRIPTION:
X-ALT-DESC;FMTTYPE=text/html:
CATEGORIES:General
UID:20220901T1832020Z-141234-1182@localendar.com
END:VEVENT
BEGIN:VEVENT
DTSTAMP:20260423T015411Z
DTSTART;VALUE=DATE:20221027
SUMMARY:JHS PM P/U 3:10 @ the bell tower\, STF 3:30. No afternoon STF to JH
 S service today.
DESCRIPTION:
X-ALT-DESC;FMTTYPE=text/html:
CATEGORIES:General
UID:20220901T1832420Z-141234-1183@localendar.com
END:VEVENT
BEGIN:VEVENT
DTSTAMP:20260423T015411Z
DTSTART;VALUE=DATE:20221026
SUMMARY:JHS PM P/U 3:10 @ the bell tower\, STF 3:30. No afternoon STF to JH
 S service today.
DESCRIPTION:
X-ALT-DESC;FMTTYPE=text/html:
CATEGORIES:General
UID:20220901T1832220Z-141234-1184@localendar.com
END:VEVENT
BEGIN:VEVENT
DTSTAMP:20260423T015411Z
DTSTART;VALUE=DATE:20221109
SUMMARY:JHS PM P/U 3:10 @ the bell tower\, STF 3:30. No afternoon STF to JH
 S service today.
DESCRIPTION:
X-ALT-DESC;FMTTYPE=text/html:
CATEGORIES:General
UID:20220901T1833060Z-141234-1185@localendar.com
END:VEVENT
BEGIN:VEVENT
DTSTAMP:20260423T015411Z
DTSTART;VALUE=DATE:20230131
SUMMARY:JHS PM P/U 3:10\, @ the BELL TOWER .STF  3:30.
DESCRIPTION:
X-ALT-DESC;FMTTYPE=text/html:
CATEGORIES:General
UID:20230124T1747140Z-141234-1186@localendar.com
END:VEVENT
BEGIN:VEVENT
DTSTAMP:20260423T015411Z
DTSTART;VALUE=DATE:20230202
SUMMARY:JHS PM P/U 3:10 @ the BELL TOWER. STF 3:30.
DESCRIPTION:
X-ALT-DESC;FMTTYPE=text/html:
CATEGORIES:General
UID:20230124T1747430Z-141234-1187@localendar.com
END:VEVENT
BEGIN:VEVENT
DTSTAMP:20260423T015411Z
DTSTART;VALUE=DATE:20230206
SUMMARY:JHS PM P/U 3:10 @the BELL TOWER. STF 3:30.
DESCRIPTION:
X-ALT-DESC;FMTTYPE=text/html:
CATEGORIES:General
UID:20230124T1748160Z-141234-1188@localendar.com
END:VEVENT
BEGIN:VEVENT
DTSTAMP:20260423T015411Z
DTSTART;VALUE=DATE:20230209
SUMMARY:JHS PM P/U 3:10 @ the BELL TOWER. STF 3:30.
DESCRIPTION:
X-ALT-DESC;FMTTYPE=text/html:
CATEGORIES:General
UID:20230124T1748350Z-141234-1189@localendar.com
END:VEVENT
BEGIN:VEVENT
DTSTAMP:20260423T015411Z
DTSTART;VALUE=DATE:20230213
SUMMARY:JHS PM P/U 3:10 @ the BELL TOWER. STF 3:30.
DESCRIPTION:
X-ALT-DESC;FMTTYPE=text/html:
CATEGORIES:General
UID:20230124T1749020Z-141234-1190@localendar.com
END:VEVENT
BEGIN:VEVENT
DTSTAMP:20260423T015411Z
DTSTART;VALUE=DATE:20220902
SUMMARY:Late start . AUB 7:30\, ROC 7:45\, ROSE 8:00.
DESCRIPTION:
X-ALT-DESC;FMTTYPE=text/html:
CATEGORIES:General
UID:20220822T1538260Z-141234-1192@localendar.com
END:VEVENT
BEGIN:VEVENT
DTSTAMP:20260423T015411Z
DTSTART;VALUE=DATE:20220916
SUMMARY:Late start. AUB 7:30\, ROC 7:45\, ROSE 8:00. JHS IS OFF\, NO SERVIC
 E TO JHS.
DESCRIPTION:
X-ALT-DESC;FMTTYPE=text/html:
CATEGORIES:General
UID:20220822T1541490Z-141234-1193@localendar.com
END:VEVENT
BEGIN:VEVENT
DTSTAMP:20260423T015411Z
DTSTART;VALUE=DATE:20220923
SUMMARY:Late start. AUB 7:30\, ROC 7:45\, ROSE 8:00. PM P/U JHS 3:10 @ the 
 chapel.STF IS OFF NO SERVICE TO STF.
DESCRIPTION:
X-ALT-DESC;FMTTYPE=text/html:
CATEGORIES:General
UID:20220923T0727340Z-141234-1194@localendar.com
END:VEVENT
BEGIN:VEVENT
DTSTAMP:20260423T015411Z
DTSTART;VALUE=DATE:20221007
SUMMARY:Late start. AUB 7:30\, ROC 7:45\, ROSE 8:00.
DESCRIPTION:
X-ALT-DESC;FMTTYPE=text/html:
CATEGORIES:General
UID:20220921T1538250Z-141234-1195@localendar.com
END:VEVENT
BEGIN:VEVENT
DTSTAMP:20260423T015411Z
DTSTART;VALUE=DATE:20221021
SUMMARY:Late start. AUB 7:30\, ROC 7:45\, ROSE 8:00.
DESCRIPTION:
X-ALT-DESC;FMTTYPE=text/html:
CATEGORIES:General
UID:20220921T1539550Z-141234-1196@localendar.com
END:VEVENT
BEGIN:VEVENT
DTSTAMP:20260423T015411Z
DTSTART;VALUE=DATE:20221010
SUMMARY:1/2 hour late start. AUB 7:00\, ROC 7:15\, ROSE 7:30. JHS PM P/U 3:
 10 @ THE FRONT OF THE CHAPEL.
DESCRIPTION:
X-ALT-DESC;FMTTYPE=text/html:
CATEGORIES:General
UID:20221006T0044560Z-141234-1197@localendar.com
END:VEVENT
BEGIN:VEVENT
DTSTAMP:20260423T015411Z
DTSTART;VALUE=DATE:20221017
SUMMARY:No service to JHS today.
DESCRIPTION:
X-ALT-DESC;FMTTYPE=text/html:
CATEGORIES:General
UID:20221006T0045390Z-141234-1198@localendar.com
END:VEVENT
BEGIN:VEVENT
DTSTAMP:20260423T015411Z
DTSTART;VALUE=DATE:20221014
SUMMARY:Late start. AUB  7:30\, ROC 7:45\, ROSE 8:00.
DESCRIPTION:
X-ALT-DESC;FMTTYPE=text/html:
CATEGORIES:General
UID:20221013T1328090Z-141234-1199@localendar.com
END:VEVENT
BEGIN:VEVENT
DTSTAMP:20260423T015411Z
DTSTART;VALUE=DATE:20221118
SUMMARY:Late start. AUB 7:30\, ROC 7:45\, ROSE 8:00.
DESCRIPTION:
X-ALT-DESC;FMTTYPE=text/html:
CATEGORIES:General
UID:20221017T1514140Z-141234-1201@localendar.com
END:VEVENT
BEGIN:VEVENT
DTSTAMP:20260423T015411Z
DTSTART;VALUE=DATE:20221121
SUMMARY:Late start. AUB 7:30\, ROC 7:45\, ROSE 8:00. No PM service to JHS.
DESCRIPTION:
X-ALT-DESC;FMTTYPE=text/html:
CATEGORIES:General
UID:20221114T1424030Z-141234-1202@localendar.com
END:VEVENT
BEGIN:VEVENT
DTSTAMP:20260423T015411Z
DTSTART;VALUE=DATE:20221122
SUMMARY:No PM service to JHS 
DESCRIPTION:
X-ALT-DESC;FMTTYPE=text/html:
CATEGORIES:General
UID:20221017T1515250Z-141234-1203@localendar.com
END:VEVENT
BEGIN:VEVENT
DTSTAMP:20260423T015411Z
DTSTART;VALUE=DATE:20221028
SUMMARY:Late Start. AUB 7:30\, ROC 7:45\, ROSE 8:00.
DESCRIPTION:
X-ALT-DESC;FMTTYPE=text/html:
CATEGORIES:General
UID:20221025T1117020Z-141234-1204@localendar.com
END:VEVENT
BEGIN:VEVENT
DTSTAMP:20260423T015411Z
DTSTART;VALUE=DATE:20221202
SUMMARY:Late start. AUB 7:30\, ROC 7:45\, ROSE 8:00.
DESCRIPTION:
X-ALT-DESC;FMTTYPE=text/html:
CATEGORIES:General
UID:20221202T1226170Z-141234-1205@localendar.com
END:VEVENT
BEGIN:VEVENT
DTSTAMP:20260423T015411Z
DTSTART;VALUE=DATE:20221214
SUMMARY:Finals PM P/U STF 1:00\,JHS 1:20 on American river parkway.
DESCRIPTION:
X-ALT-DESC;FMTTYPE=text/html:
CATEGORIES:General
UID:20221208T1558550Z-141234-1206@localendar.com
END:VEVENT
BEGIN:VEVENT
DTSTAMP:20260423T015411Z
DTSTART;VALUE=DATE:20221215
SUMMARY:Finals. PM P/U STF 1:00\,JHS 1:20 on American river parkway.
DESCRIPTION:
X-ALT-DESC;FMTTYPE=text/html:
CATEGORIES:General
UID:20221208T1559260Z-141234-1207@localendar.com
END:VEVENT
BEGIN:VEVENT
DTSTAMP:20260423T015411Z
DTSTART;VALUE=DATE:20221216
SUMMARY:Semi late start AUB 7:00\, ROC 7:15\, ROSE 7:30- PM P/U JHS 1:30 in
  front of the chapel.
DESCRIPTION:
X-ALT-DESC;FMTTYPE=text/html:
CATEGORIES:General
UID:20221214T2330030Z-141234-1208@localendar.com
END:VEVENT
BEGIN:VEVENT
DTSTAMP:20260423T015411Z
DTSTART;VALUE=DATE:20221212
SUMMARY:PM P/U STF 2:00\, JHS 3:10 on American river parkway.
DESCRIPTION:
X-ALT-DESC;FMTTYPE=text/html:
CATEGORIES:General
UID:20221209T2221180Z-141234-1209@localendar.com
END:VEVENT
BEGIN:VEVENT
DTSTAMP:20260423T015411Z
DTSTART;VALUE=DATE:20221213
SUMMARY:PM P/U STF 2:00\, JHS 3:10 on American river parkway.
DESCRIPTION:
X-ALT-DESC;FMTTYPE=text/html:
CATEGORIES:General
UID:20221209T2220500Z-141234-1210@localendar.com
END:VEVENT
BEGIN:VEVENT
DTSTAMP:20260423T015411Z
DTSTART;VALUE=DATE:20230120
SUMMARY:Late start. AUB 7:30\, ROC 7:45\, ROSE 8:00.
DESCRIPTION:
X-ALT-DESC;FMTTYPE=text/html:
CATEGORIES:General
UID:20230102T1551540Z-141234-1211@localendar.com
END:VEVENT
BEGIN:VEVENT
DTSTAMP:20260423T015411Z
DTSTART;VALUE=DATE:20230217
SUMMARY:Late start. AUB 7:30\, ROC 7:45\, ROSE 8:00.
DESCRIPTION:
X-ALT-DESC;FMTTYPE=text/html:
CATEGORIES:General
UID:20230102T1553320Z-141234-1212@localendar.com
END:VEVENT
BEGIN:VEVENT
DTSTAMP:20260423T015411Z
DTSTART;VALUE=DATE:20230105
SUMMARY:Unless a change is made on the calendar the placer bus PM P/U @ JHS
  will be between the chapel  and the gym\, for the remainder of the year.
DESCRIPTION:
X-ALT-DESC;FMTTYPE=text/html:
CATEGORIES:General
UID:20230105T0334450Z-141234-1213@localendar.com
END:VEVENT
BEGIN:VEVENT
DTSTAMP:20260423T015411Z
DTSTART;VALUE=DATE:20230127
SUMMARY:Boys only. LATE START. AUB 7:30\, ROC 7:45\, ROSE 8:00. PM P/U 3:10
  @CHAPEL
DESCRIPTION:
X-ALT-DESC;FMTTYPE=text/html:
CATEGORIES:General
UID:20230124T1745570Z-141234-1214@localendar.com
END:VEVENT
BEGIN:VEVENT
DTSTAMP:20260423T015411Z
DTSTART;VALUE=DATE:20230203
SUMMARY:LATE START. AUB 7:30\, ROC 7:45\, ROSE 8:00.
DESCRIPTION:
X-ALT-DESC;FMTTYPE=text/html:
CATEGORIES:General
UID:20230131T1308450Z-141234-1215@localendar.com
END:VEVENT
BEGIN:VEVENT
DTSTAMP:20260423T015411Z
DTSTART;VALUE=DATE:20230303
SUMMARY:Late start. AUB 7:30\, ROC 7:45\, ROSE 8:00.
DESCRIPTION:
X-ALT-DESC;FMTTYPE=text/html:
CATEGORIES:General
UID:20230221T1631260Z-141234-1216@localendar.com
END:VEVENT
BEGIN:VEVENT
DTSTAMP:20260423T015411Z
DTSTART;VALUE=DATE:20230317
SUMMARY:Late start . AUB 7:30\, ROC 7:45\, ROSE 8:00.
DESCRIPTION:
X-ALT-DESC;FMTTYPE=text/html:
CATEGORIES:General
UID:20230221T1632390Z-141234-1217@localendar.com
END:VEVENT
BEGIN:VEVENT
DTSTAMP:20260423T015411Z
DTSTART;VALUE=DATE:20230421
SUMMARY:AUB 7:30\, ROC 7:45\, ROSE 8:00.
DESCRIPTION:
X-ALT-DESC;FMTTYPE=text/html:
CATEGORIES:General
UID:20230417T1524590Z-141234-1219@localendar.com
END:VEVENT
BEGIN:VEVENT
DTSTAMP:20260423T015411Z
DTSTART;VALUE=DATE:20230301
SUMMARY:Wednesday late start. AUB 7:30\, ROC 7:45\, ROSE 8:00.
DESCRIPTION:
X-ALT-DESC;FMTTYPE=text/html:
CATEGORIES:General
UID:20230228T1828320Z-141234-1220@localendar.com
END:VEVENT
BEGIN:VEVENT
DTSTAMP:20260423T015411Z
DTSTART;VALUE=DATE:20230313
SUMMARY:Semi late start-AUB 7:00\, ROC 7:15 ROSE 7:30. — P/U @ chapel 3:10.
 
DESCRIPTION:
X-ALT-DESC;FMTTYPE=text/html:
CATEGORIES:General
UID:20230312T2133540Z-141234-1221@localendar.com
END:VEVENT
BEGIN:VEVENT
DTSTAMP:20260423T015411Z
DTSTART;VALUE=DATE:20230403
SUMMARY:AUB 7:00\, ROC 7:15\, ROSE 7:30. PM P/U 3:10 in front of chapel.
DESCRIPTION:
X-ALT-DESC;FMTTYPE=text/html:
CATEGORIES:General
UID:20230320T1459370Z-141234-1222@localendar.com
END:VEVENT
BEGIN:VEVENT
DTSTAMP:20260423T015411Z
DTSTART;VALUE=DATE:20230404
SUMMARY:AUB 7:00\, ROC 7:15\, ROSE 7:30. PM P/U 3:10 in front of chapel.
DESCRIPTION:
X-ALT-DESC;FMTTYPE=text/html:
CATEGORIES:General
UID:20230320T1501150Z-141234-1223@localendar.com
END:VEVENT
BEGIN:VEVENT
DTSTAMP:20260423T015411Z
DTSTART;VALUE=DATE:20230405
SUMMARY:AUB 7:00\, ROC 7:15\, ROSE 7:30. PM P/U 3:10 in front of chapel.
DESCRIPTION:
X-ALT-DESC;FMTTYPE=text/html:
CATEGORIES:General
UID:20230320T1502360Z-141234-1224@localendar.com
END:VEVENT
BEGIN:VEVENT
DTSTAMP:20260423T015411Z
DTSTART;VALUE=DATE:20230331
SUMMARY:Late start AUB 7:30\, ROC 7:45\, ROSE 8:00.
DESCRIPTION:
X-ALT-DESC;FMTTYPE=text/html:
CATEGORIES:General
UID:20230320T1703100Z-141234-1225@localendar.com
END:VEVENT
BEGIN:VEVENT
DTSTAMP:20260423T015411Z
DTSTART;VALUE=DATE:20230329
SUMMARY:LATE START - AUB 7:30\, ROC 7:45\, ROSE 8:00.
DESCRIPTION:
X-ALT-DESC;FMTTYPE=text/html:
CATEGORIES:General
UID:20230328T1506360Z-141234-1226@localendar.com
END:VEVENT
BEGIN:VEVENT
DTSTAMP:20260423T015411Z
DTSTART;VALUE=DATE:20230508
SUMMARY:STF 3:00\, JHS 3:30.
DESCRIPTION:
X-ALT-DESC;FMTTYPE=text/html:
CATEGORIES:General
UID:20230505T1029150Z-141234-1227@localendar.com
END:VEVENT
BEGIN:VEVENT
DTSTAMP:20260423T015411Z
DTSTART;VALUE=DATE:20230515
SUMMARY:PM P/U STF 12:45\, JHS  1:15
DESCRIPTION:
X-ALT-DESC;FMTTYPE=text/html:
CATEGORIES:General
UID:20230505T1032420Z-141234-1228@localendar.com
END:VEVENT
BEGIN:VEVENT
DTSTAMP:20260423T015411Z
DTSTART;VALUE=DATE:20230516
SUMMARY:PM P/U JHS 1:30.
DESCRIPTION:
X-ALT-DESC;FMTTYPE=text/html:
CATEGORIES:General
UID:20230419T1535310Z-141234-1229@localendar.com
END:VEVENT
BEGIN:VEVENT
DTSTAMP:20260423T015411Z
DTSTART;VALUE=DATE:20230517
SUMMARY:PM P/U JHS 1:00.
DESCRIPTION:
X-ALT-DESC;FMTTYPE=text/html:
CATEGORIES:General
UID:20230419T1536270Z-141234-1230@localendar.com
END:VEVENT
BEGIN:VEVENT
DTSTAMP:20260423T015411Z
DTSTART;VALUE=DATE:20230509
SUMMARY:STF 3:00\, JHS 3:30.
DESCRIPTION:
X-ALT-DESC;FMTTYPE=text/html:
CATEGORIES:General
UID:20230505T1027430Z-141234-1231@localendar.com
END:VEVENT
BEGIN:VEVENT
DTSTAMP:20260423T015411Z
DTSTART;VALUE=DATE:20230510
SUMMARY:STF 3:00\, JHS 3:20
DESCRIPTION:
X-ALT-DESC;FMTTYPE=text/html:
CATEGORIES:General
UID:20230509T2226490Z-141234-1232@localendar.com
END:VEVENT
BEGIN:VEVENT
DTSTAMP:20260423T015411Z
DTSTART;VALUE=DATE:20230512
SUMMARY:STF 3:00\, JHS 3:20.
DESCRIPTION:
X-ALT-DESC;FMTTYPE=text/html:
CATEGORIES:General
UID:20230509T2227410Z-141234-1234@localendar.com
END:VEVENT
BEGIN:VEVENT
DTSTAMP:20260423T015411Z
DTSTART;VALUE=DATE:20230511
SUMMARY:STF 3:00\, JHS 3:20.
DESCRIPTION:
X-ALT-DESC;FMTTYPE=text/html:
CATEGORIES:General
UID:20230509T2227130Z-141234-1235@localendar.com
END:VEVENT
BEGIN:VEVENT
DTSTAMP:20260423T015411Z
DTSTART;VALUE=DATE:20230814
SUMMARY:STF starts. Regular bus schedule. AUB 6:30\,ROC 6:45\,ROSE 7:00. PM
  P/U STF 3:10 No JHS service.
DESCRIPTION:
X-ALT-DESC;FMTTYPE=text/html:
CATEGORIES:General
UID:20230727T1512540Z-141234-1236@localendar.com
END:VEVENT
BEGIN:VEVENT
DTSTAMP:20260423T015411Z
DTSTART;VALUE=DATE:20230815
SUMMARY:STF only. Regular bus schedule.
DESCRIPTION:
X-ALT-DESC;FMTTYPE=text/html:
CATEGORIES:General
UID:20230727T1506470Z-141234-1237@localendar.com
END:VEVENT
BEGIN:VEVENT
DTSTAMP:20260423T015411Z
DTSTART;VALUE=DATE:20230816
SUMMARY:STF only. Regular bus schedule.
DESCRIPTION:
X-ALT-DESC;FMTTYPE=text/html:
CATEGORIES:General
UID:20230727T1507240Z-141234-1238@localendar.com
END:VEVENT
BEGIN:VEVENT
DTSTAMP:20260423T015411Z
DTSTART;VALUE=DATE:20230817
SUMMARY:STF only. Late start. AUB 7:30\,ROC 7:45\,ROSE 8:00.
DESCRIPTION:
X-ALT-DESC;FMTTYPE=text/html:
CATEGORIES:General
UID:20230727T1508430Z-141234-1239@localendar.com
END:VEVENT
BEGIN:VEVENT
DTSTAMP:20260423T015411Z
DTSTART;VALUE=DATE:20230818
SUMMARY:Regular bus service to STF & JHS begins. PM P/U STF 3:10\, JHS 3:30
 .
DESCRIPTION:
X-ALT-DESC;FMTTYPE=text/html:
CATEGORIES:General
UID:20230727T1511390Z-141234-1240@localendar.com
END:VEVENT
BEGIN:VEVENT
DTSTAMP:20260423T015411Z
DTSTART;VALUE=DATE:20230901
SUMMARY:Late start. AUB 7:30\, ROC 7:45\, ROSE 8:00.
DESCRIPTION:
X-ALT-DESC;FMTTYPE=text/html:
CATEGORIES:General
UID:20230727T1514320Z-141234-1241@localendar.com
END:VEVENT
BEGIN:VEVENT
DTSTAMP:20260423T015411Z
DTSTART;VALUE=DATE:20230908
SUMMARY:Late start. AUB 7:30\,ROC 7:45\, ROSE 8:00.
DESCRIPTION:
X-ALT-DESC;FMTTYPE=text/html:
CATEGORIES:General
UID:20230830T1347110Z-141234-1242@localendar.com
END:VEVENT
BEGIN:VEVENT
DTSTAMP:20260423T015411Z
DTSTART;VALUE=DATE:20230915
SUMMARY:Late start. AUB. 7:30\, ROC\, 7:45\, ROSE 8:00.
DESCRIPTION:
X-ALT-DESC;FMTTYPE=text/html:
CATEGORIES:General
UID:20230830T1342220Z-141234-1243@localendar.com
END:VEVENT
BEGIN:VEVENT
DTSTAMP:20260423T015411Z
DTSTART;VALUE=DATE:20230928
SUMMARY:PM P/U JHS 3:10 @ bell tower. STF 3:30. No afternoon service STF-JH
 S.
DESCRIPTION:
X-ALT-DESC;FMTTYPE=text/html:
CATEGORIES:General
UID:20230926T1236280Z-141234-1244@localendar.com
END:VEVENT
BEGIN:VEVENT
DTSTAMP:20260423T015411Z
DTSTART;VALUE=DATE:20230929
SUMMARY:Late start. AUB 7:30\, ROC 7:45\, ROSE 8:00.
DESCRIPTION:
X-ALT-DESC;FMTTYPE=text/html:
CATEGORIES:General
UID:20230830T1346110Z-141234-1245@localendar.com
END:VEVENT
BEGIN:VEVENT
DTSTAMP:20260423T015411Z
DTSTART;VALUE=DATE:20230922
SUMMARY:Both schools off.
DESCRIPTION:
X-ALT-DESC;FMTTYPE=text/html:
CATEGORIES:General
UID:20230830T1346460Z-141234-1246@localendar.com
END:VEVENT
BEGIN:VEVENT
DTSTAMP:20260423T015411Z
DTSTART;VALUE=DATE:20231004
SUMMARY:PM P/U JHS 3:10 @ bell tower. STF 3:30. No afternoon service STF to
  JHS .
DESCRIPTION:
X-ALT-DESC;FMTTYPE=text/html:
CATEGORIES:General
UID:20230926T1233210Z-141234-1247@localendar.com
END:VEVENT
BEGIN:VEVENT
DTSTAMP:20260423T015411Z
DTSTART;VALUE=DATE:20231005
SUMMARY:PM P/U JHS 3:10 @bell tower. STF 3:30. No afternoon service STF-JHS
 .
DESCRIPTION:
X-ALT-DESC;FMTTYPE=text/html:
CATEGORIES:General
UID:20230926T1235390Z-141234-1248@localendar.com
END:VEVENT
BEGIN:VEVENT
DTSTAMP:20260423T015411Z
DTSTART;VALUE=DATE:20231009
SUMMARY:STF off. PM P/U JHS 3:10 @ chapel.
DESCRIPTION:
X-ALT-DESC;FMTTYPE=text/html:
CATEGORIES:General
UID:20230926T1237480Z-141234-1249@localendar.com
END:VEVENT
BEGIN:VEVENT
DTSTAMP:20260423T015411Z
DTSTART;VALUE=DATE:20231011
SUMMARY:National test day. Regular PM P/U.
DESCRIPTION:
X-ALT-DESC;FMTTYPE=text/html:
CATEGORIES:General
UID:20231010T0222150Z-141234-1250@localendar.com
END:VEVENT
BEGIN:VEVENT
DTSTAMP:20260423T015411Z
DTSTART;VALUE=DATE:20231013
SUMMARY:Late start. AUB 7:30\, ROC 7:45\, ROSE 8:00.
DESCRIPTION:
X-ALT-DESC;FMTTYPE=text/html:
CATEGORIES:General
UID:20230926T1240350Z-141234-1251@localendar.com
END:VEVENT
BEGIN:VEVENT
DTSTAMP:20260423T015411Z
DTSTART;VALUE=DATE:20231020
SUMMARY:PM P/U STF 2:10\, JHS 2:30.
DESCRIPTION:
X-ALT-DESC;FMTTYPE=text/html:
CATEGORIES:General
UID:20230926T1653570Z-141234-1252@localendar.com
END:VEVENT
BEGIN:VEVENT
DTSTAMP:20260423T015411Z
DTSTART;VALUE=DATE:20231026
SUMMARY:PM P/U JHS 3:10 @ bell tower. STF 3:30. No afternoon service STF-JH
 S.
DESCRIPTION:
X-ALT-DESC;FMTTYPE=text/html:
CATEGORIES:General
UID:20230926T1244370Z-141234-1253@localendar.com
END:VEVENT
BEGIN:VEVENT
DTSTAMP:20260423T015411Z
DTSTART;VALUE=DATE:20231025
SUMMARY:PM P/U JHS 3:10 @ bell tower\, STF 3:30 . No afternoon service STF-
 JHS.
DESCRIPTION:
X-ALT-DESC;FMTTYPE=text/html:
CATEGORIES:General
UID:20230926T1651000Z-141234-1254@localendar.com
END:VEVENT
BEGIN:VEVENT
DTSTAMP:20260423T015411Z
DTSTART;VALUE=DATE:20231006
SUMMARY:Late start.AUB 7:30 ROC 7:45\, ROSE 8:00.
DESCRIPTION:
X-ALT-DESC;FMTTYPE=text/html:
CATEGORIES:General
UID:20230926T1700310Z-141234-1255@localendar.com
END:VEVENT
BEGIN:VEVENT
DTSTAMP:20260423T015411Z
DTSTART;VALUE=DATE:20231027
SUMMARY:Late start. AUB 7:30\, ROC 7:45\, ROSE 8:00.
DESCRIPTION:
X-ALT-DESC;FMTTYPE=text/html:
CATEGORIES:General
UID:20230927T0950080Z-141234-1256@localendar.com
END:VEVENT
BEGIN:VEVENT
DTSTAMP:20260423T015411Z
DTSTART;VALUE=DATE:20231023
SUMMARY:JHS off. STF 3:10. No PM service to JHS .
DESCRIPTION:
X-ALT-DESC;FMTTYPE=text/html:
CATEGORIES:General
UID:20231001T1541520Z-141234-1257@localendar.com
END:VEVENT
BEGIN:VEVENT
DTSTAMP:20260423T015411Z
DTSTART;TZID=America/Los_Angeles:20231117T090000
DTEND;TZID=America/Los_Angeles:20231117T100000
SUMMARY:Late start. AUB 7:30\, ROC 7:45\, ROSE 8:00.
DESCRIPTION:
X-ALT-DESC;FMTTYPE=text/html:
CATEGORIES:General
UID:20231024T1625420Z-141234-1259@localendar.com
END:VEVENT
BEGIN:VEVENT
DTSTAMP:20260423T015411Z
DTSTART;VALUE=DATE:20231120
SUMMARY:STF only.  Late start . AUB 7:30\, ROC 7:45\, ROSE 8:00. PM P/U 3:1
 0. No PM service to JHS .
DESCRIPTION:
X-ALT-DESC;FMTTYPE=text/html:
CATEGORIES:General
UID:20231113T1815170Z-141234-1260@localendar.com
END:VEVENT
BEGIN:VEVENT
DTSTAMP:20260423T015411Z
DTSTART;VALUE=DATE:20231121
SUMMARY:STF only. PM P/U 3:10. No PM service to JHS.
DESCRIPTION:
X-ALT-DESC;FMTTYPE=text/html:
CATEGORIES:General
UID:20231113T1815420Z-141234-1261@localendar.com
END:VEVENT
BEGIN:VEVENT
DTSTAMP:20260423T015411Z
DTSTART;VALUE=DATE:20231103
SUMMARY:Late start. AUB 7:30\, ROC 7:45\, ROSE 8:00
DESCRIPTION:
X-ALT-DESC;FMTTYPE=text/html:
CATEGORIES:General
UID:20231030T1741000Z-141234-1262@localendar.com
END:VEVENT
BEGIN:VEVENT
DTSTAMP:20260423T015411Z
DTSTART;VALUE=DATE:20231201
SUMMARY:Late start. AUB 7:30\, ROC 7:45\, ROSE 8:00.
DESCRIPTION:
X-ALT-DESC;FMTTYPE=text/html:
CATEGORIES:General
UID:20231113T1819260Z-141234-1263@localendar.com
END:VEVENT
BEGIN:VEVENT
DTSTAMP:20260423T015411Z
DTSTART;VALUE=DATE:20231213
SUMMARY:Regular p/u times.
DESCRIPTION:
X-ALT-DESC;FMTTYPE=text/html:
CATEGORIES:General
UID:20231120T1715430Z-141234-1264@localendar.com
END:VEVENT
BEGIN:VEVENT
DTSTAMP:20260423T015411Z
DTSTART;VALUE=DATE:20231214
SUMMARY:Regular p/u times
DESCRIPTION:
X-ALT-DESC;FMTTYPE=text/html:
CATEGORIES:General
UID:20231120T1716580Z-141234-1265@localendar.com
END:VEVENT
BEGIN:VEVENT
DTSTAMP:20260423T015411Z
DTSTART;VALUE=DATE:20231215
SUMMARY:PM P/U STF 12:55\, JHS 2:00.
DESCRIPTION:
X-ALT-DESC;FMTTYPE=text/html:
CATEGORIES:General
UID:20231120T1718090Z-141234-1266@localendar.com
END:VEVENT
BEGIN:VEVENT
DTSTAMP:20260423T015411Z
DTSTART;VALUE=DATE:20231218
SUMMARY:PM P/U STF 1:00\, JHS 1:30
DESCRIPTION:
X-ALT-DESC;FMTTYPE=text/html:
CATEGORIES:General
UID:20231213T1023250Z-141234-1267@localendar.com
END:VEVENT
BEGIN:VEVENT
DTSTAMP:20260423T015411Z
DTSTART;VALUE=DATE:20231219
SUMMARY:PM P/U STF 1:00\, JHS 1:30.
DESCRIPTION:
X-ALT-DESC;FMTTYPE=text/html:
CATEGORIES:General
UID:20231213T1023520Z-141234-1268@localendar.com
END:VEVENT
BEGIN:VEVENT
DTSTAMP:20260423T015411Z
DTSTART;VALUE=DATE:20231220
SUMMARY:PM P/U STF 1:00\, JHS 1:30.
DESCRIPTION:
X-ALT-DESC;FMTTYPE=text/html:
CATEGORIES:General
UID:20231213T1024270Z-141234-1269@localendar.com
END:VEVENT
BEGIN:VEVENT
DTSTAMP:20260423T015411Z
DTSTART;VALUE=DATE:20231221
SUMMARY:No bus service until 1-8-2024.
DESCRIPTION:
X-ALT-DESC;FMTTYPE=text/html:
CATEGORIES:General
UID:20231120T1725250Z-141234-1270@localendar.com
END:VEVENT
BEGIN:VEVENT
DTSTAMP:20260423T015411Z
DTSTART;VALUE=DATE:20240108
SUMMARY:PM P/U JHS 3:10 in front of chapel.
DESCRIPTION:
X-ALT-DESC;FMTTYPE=text/html:
CATEGORIES:General
UID:20240108T1551410Z-141234-1271@localendar.com
END:VEVENT
BEGIN:VEVENT
DTSTAMP:20260423T015411Z
DTSTART;VALUE=DATE:20240119
SUMMARY:Late start. AUB 7:30\, ROCK 7:45\, ROSE 8:00.
DESCRIPTION:
X-ALT-DESC;FMTTYPE=text/html:
CATEGORIES:General
UID:20240115T1604450Z-141234-1272@localendar.com
END:VEVENT
BEGIN:VEVENT
DTSTAMP:20260423T015411Z
DTSTART;VALUE=DATE:20240202
SUMMARY:Late start. AUB 7:30\, ROCK 7:45\, ROSE 8:00. PM P/U JHS 3:10 @ the
  bell tower\,STF 3:30.
DESCRIPTION:
X-ALT-DESC;FMTTYPE=text/html:
CATEGORIES:General
UID:20240201T2139440Z-141234-1273@localendar.com
END:VEVENT
BEGIN:VEVENT
DTSTAMP:20260423T015411Z
DTSTART;VALUE=DATE:20240216
SUMMARY:Late start. AUB 7:30. ROCK 7:45. ROSE 8:00.
DESCRIPTION:
X-ALT-DESC;FMTTYPE=text/html:
CATEGORIES:General
UID:20240115T1608440Z-141234-1274@localendar.com
END:VEVENT
BEGIN:VEVENT
DTSTAMP:20260423T015411Z
DTSTART;VALUE=DATE:20240301
SUMMARY:Late start. AUB 7:30. ROCK 7:45. ROSE 8:00. AFTERNOON BUS SERVICE S
 TF TO JHS RESUMES.
DESCRIPTION:
X-ALT-DESC;FMTTYPE=text/html:
CATEGORIES:General
UID:20240229T0142340Z-141234-1276@localendar.com
END:VEVENT
BEGIN:VEVENT
DTSTAMP:20260423T015411Z
DTSTART;VALUE=DATE:20240131
SUMMARY:PM P/U JHS 3:10. @ bell tower\, STF 3:30.
DESCRIPTION:
X-ALT-DESC;FMTTYPE=text/html:
CATEGORIES:General
UID:20240118T2132220Z-141234-1277@localendar.com
END:VEVENT
BEGIN:VEVENT
DTSTAMP:20260423T015411Z
DTSTART;VALUE=DATE:20240208
SUMMARY:PM P/U JHS 3:10@ bell tower\, STF 3:30.
DESCRIPTION:
X-ALT-DESC;FMTTYPE=text/html:
CATEGORIES:General
UID:20240118T2134200Z-141234-1279@localendar.com
END:VEVENT
BEGIN:VEVENT
DTSTAMP:20260423T015411Z
DTSTART;VALUE=DATE:20240228
SUMMARY:PM P/U JHS 3:10@bell tower\, STF 3:30.
DESCRIPTION:
X-ALT-DESC;FMTTYPE=text/html:
CATEGORIES:General
UID:20240118T2135360Z-141234-1280@localendar.com
END:VEVENT
BEGIN:VEVENT
DTSTAMP:20260423T015411Z
DTSTART;VALUE=DATE:20240229
SUMMARY:PM P/U JHS 3:10 @ bell tower\, STF 3:30. NO PM SERVICE STF TO JHS.
DESCRIPTION:
X-ALT-DESC;FMTTYPE=text/html:
CATEGORIES:General
UID:20240229T0140380Z-141234-1281@localendar.com
END:VEVENT
BEGIN:VEVENT
DTSTAMP:20260423T015411Z
DTSTART;VALUE=DATE:20240126
SUMMARY:Late start AUB 7:30\, ROCK 7:45\, ROSE 8:00. PM P/U 3:10 in front o
 f chapel.
DESCRIPTION:
X-ALT-DESC;FMTTYPE=text/html:
CATEGORIES:General
UID:20240124T1722110Z-141234-1282@localendar.com
END:VEVENT
BEGIN:VEVENT
DTSTAMP:20260423T015411Z
DTSTART;VALUE=DATE:20240201
SUMMARY:Bus out of service today. Look for further updates soon.
DESCRIPTION:
X-ALT-DESC;FMTTYPE=text/html:
CATEGORIES:General
UID:20240201T1651070Z-141234-1283@localendar.com
END:VEVENT
BEGIN:VEVENT
DTSTAMP:20260423T015411Z
DTSTART;VALUE=DATE:20240212
SUMMARY:No bus service
DESCRIPTION:
X-ALT-DESC;FMTTYPE=text/html:
CATEGORIES:General
UID:20240209T1016320Z-141234-1284@localendar.com
END:VEVENT
BEGIN:VEVENT
DTSTAMP:20260423T015411Z
DTSTART;VALUE=DATE:20240215
SUMMARY:No bus service today
DESCRIPTION:
X-ALT-DESC;FMTTYPE=text/html:
CATEGORIES:General
UID:20240214T2137510Z-141234-1285@localendar.com
END:VEVENT
BEGIN:VEVENT
DTSTAMP:20260423T015411Z
DTSTART;VALUE=DATE:20240220
SUMMARY:No PM bus service to JHS .
DESCRIPTION:
X-ALT-DESC;FMTTYPE=text/html:
CATEGORIES:General
UID:20240216T1731370Z-141234-1286@localendar.com
END:VEVENT
BEGIN:VEVENT
DTSTAMP:20260423T015411Z
DTSTART;VALUE=DATE:20240221
SUMMARY:No PM bus service to JHS 
DESCRIPTION:
X-ALT-DESC;FMTTYPE=text/html:
CATEGORIES:General
UID:20240216T1732150Z-141234-1287@localendar.com
END:VEVENT
BEGIN:VEVENT
DTSTAMP:20260423T015411Z
DTSTART;VALUE=DATE:20240222
SUMMARY:No PM bus service to JHS 
DESCRIPTION:
X-ALT-DESC;FMTTYPE=text/html:
CATEGORIES:General
UID:20240216T1733330Z-141234-1288@localendar.com
END:VEVENT
BEGIN:VEVENT
DTSTAMP:20260423T015411Z
DTSTART;VALUE=DATE:20240223
SUMMARY:No PM bus service to JHS 
DESCRIPTION:
X-ALT-DESC;FMTTYPE=text/html:
CATEGORIES:General
UID:20240216T1734250Z-141234-1289@localendar.com
END:VEVENT
BEGIN:VEVENT
DTSTAMP:20260423T015411Z
DTSTART;VALUE=DATE:20240322
SUMMARY:Late start. AUB 7:30\, ROC 7:45\, ROSE 8:00.
DESCRIPTION:
X-ALT-DESC;FMTTYPE=text/html:
CATEGORIES:General
UID:20240228T1936110Z-141234-1290@localendar.com
END:VEVENT
BEGIN:VEVENT
DTSTAMP:20260423T015411Z
DTSTART;VALUE=DATE:20240325
SUMMARY:STF IS OFF THIS WEEK. NO SERVICE TO STF. AUB 7:00\, ROC 7:15\, ROSE
  7:30. PM P/U 3:10 in front of chapel.
DESCRIPTION:
X-ALT-DESC;FMTTYPE=text/html:
CATEGORIES:General
UID:20240229T0145040Z-141234-1291@localendar.com
END:VEVENT
BEGIN:VEVENT
DTSTAMP:20260423T015411Z
DTSTART;VALUE=DATE:20240326
SUMMARY:AUB 7:00\, ROC 7:15\, ROSE 7:30. PM P/U 3:10 in front of chapel.
DESCRIPTION:
X-ALT-DESC;FMTTYPE=text/html:
CATEGORIES:General
UID:20240228T1940350Z-141234-1292@localendar.com
END:VEVENT
BEGIN:VEVENT
DTSTAMP:20260423T015411Z
DTSTART;VALUE=DATE:20240327
SUMMARY:AUB 7:00\, ROC 7:15\, ROSE 7:30. PM P/U 3:10 in front of chapel.
DESCRIPTION:
X-ALT-DESC;FMTTYPE=text/html:
CATEGORIES:General
UID:20240228T1940020Z-141234-1293@localendar.com
END:VEVENT
BEGIN:VEVENT
DTSTAMP:20260423T015411Z
DTSTART;VALUE=DATE:20240412
SUMMARY:Late start. AUB 7:30\, ROC 7:45\, ROSE 8:00.
DESCRIPTION:
X-ALT-DESC;FMTTYPE=text/html:
CATEGORIES:General
UID:20240228T1942310Z-141234-1294@localendar.com
END:VEVENT
BEGIN:VEVENT
DTSTAMP:20260423T015411Z
DTSTART;VALUE=DATE:20240419
SUMMARY:Late start. AUB 7:30\, ROC 7:45\, ROSE 8:00.
DESCRIPTION:
X-ALT-DESC;FMTTYPE=text/html:
CATEGORIES:General
UID:20240228T1943450Z-141234-1295@localendar.com
END:VEVENT
BEGIN:VEVENT
DTSTAMP:20260423T015411Z
DTSTART;VALUE=DATE:20240510
SUMMARY:Late start. AUB 7:30\, ROC 7:45\, ROSE 8:00.
DESCRIPTION:
X-ALT-DESC;FMTTYPE=text/html:
CATEGORIES:General
UID:20240228T1945140Z-141234-1296@localendar.com
END:VEVENT
BEGIN:VEVENT
DTSTAMP:20260423T015411Z
DTSTART;VALUE=DATE:20240520
SUMMARY:PM P / U STF 1:00\, JHS 1 :30
DESCRIPTION:
X-ALT-DESC;FMTTYPE=text/html:
CATEGORIES:General
UID:20240424T1641240Z-141234-1297@localendar.com
END:VEVENT
END:VCALENDAR
