BEGIN:VCALENDAR
PRODID:-//Ben Fortuna//iCal4j 1.0//EN
VERSION:2.0
CALSCALE:GREGORIAN
BEGIN:VTIMEZONE
TZID:Europe/Vienna
LAST-MODIFIED:20260306T231828Z
TZURL:https://www.tzurl.org/zoneinfo-outlook/Europe/Vienna
X-LIC-LOCATION:Europe/Vienna
BEGIN:DAYLIGHT
TZNAME:CEST
TZOFFSETFROM:+0100
TZOFFSETTO:+0200
DTSTART:19700329T020000
RRULE:FREQ=YEARLY;BYMONTH=3;BYDAY=-1SU
END:DAYLIGHT
BEGIN:STANDARD
TZNAME:CET
TZOFFSETFROM:+0200
TZOFFSETTO:+0100
DTSTART:19701025T030000
RRULE:FREQ=YEARLY;BYMONTH=10;BYDAY=-1SU
END:STANDARD
END:VTIMEZONE
BEGIN:VEVENT
DTSTAMP:20260419T214848Z
DTSTART;TZID=Europe/Vienna:20220909T210000
DTEND;TZID=Europe/Vienna:20220910T010000
SUMMARY:Herbst Opening
DESCRIPTION:Und weiter sonnig in den Herbst! Nach einer langen\, langen Som
 merpause\, starten endlich wieder die regulären Workshops und Tanzabende!!
  Uff - Gleich alles im Terminkalender festhalten und zum Herbst Opening ko
 mmen: Freitag 09. August 2022 ab 21 Uhr 'das Gugg' Heumühlgasse 14/1 1040 
 Wien Achtung! Am selben Tag beginnen bereits die neuen Workshops vorm offi
 ziellen Opening! (Aufbau 3 um 16:45 und Anfängerinnen um 19:00\, also schn
 ell anmelden\, wenn du von Anfang an dabei sein willst!) Auf der website w
 ww.resisdanse.at findest du alle Infos die du brauchst\, um voll dabei zu 
 sein!
X-ALT-DESC;FMTTYPE=text/html:<p><span>Und weiter sonnig in den Herbst!<br /
 >Nach einer langen\, langen Sommerpause\, starten endlich wieder die regul
 &auml\;ren Workshops und Tanzabende!! Uff - Gleich alles im Terminkalender
  festhalten und zum Herbst Opening kommen:</span><br /><br /><span><span><
 span>Freitag 09. August 2022 ab 21 Uhr</span></span><br /><span><span>'das
  Gugg'<br />Heum&uuml\;hlgasse 14/1<br />1040 Wien</span><br /><br />Achtu
 ng!<br /><span>Am selben Tag beginnen bereits die neuen Workshops vorm off
 iziellen Opening! (Aufbau 3 um 16:45 und Anf&auml\;ngerinnen um 19:00\, al
 so schnell anmelden\, wenn du von Anfang an dabei sein willst!)</span><br 
 /><br />Auf der website <a href='http://www.resisdanse.at' title='Resis.da
 nse Website' rel='nofollow' data-cke-saved-href='http://www.resisdanse.at'
 >www.resisdanse.at</a> findest du alle Infos die du brauchst\, um voll dab
 ei zu sein!</span></span></p>
CATEGORIES:Tanz Events
UID:20220815T1233230Z-585324-137@localendar.com
END:VEVENT
END:VCALENDAR
