BEGIN:VCALENDAR
PRODID:-//Ben Fortuna//iCal4j 1.0//EN
VERSION:2.0
CALSCALE:GREGORIAN
BEGIN:VTIMEZONE
TZID:America/New_York
LAST-MODIFIED:20260306T231828Z
TZURL:https://www.tzurl.org/zoneinfo-outlook/America/New_York
X-LIC-LOCATION:America/New_York
BEGIN:DAYLIGHT
TZNAME:EDT
TZOFFSETFROM:-0500
TZOFFSETTO:-0400
DTSTART:19700308T020000
RRULE:FREQ=YEARLY;BYMONTH=3;BYDAY=2SU
END:DAYLIGHT
BEGIN:STANDARD
TZNAME:EST
TZOFFSETFROM:-0400
TZOFFSETTO:-0500
DTSTART:19701101T020000
RRULE:FREQ=YEARLY;BYMONTH=11;BYDAY=1SU
END:STANDARD
END:VTIMEZONE
BEGIN:VEVENT
DTSTAMP:20260423T090956Z
DTSTART;TZID=America/New_York:20200507T180000
DTEND;TZID=America/New_York:20200507T210000
SUMMARY:Protestant Family Night Bible Study
RRULE:FREQ=WEEKLY;UNTIL=20250913;BYDAY=WE
EXDATE;TZID=America/New_York:20151125T180000
EXDATE;TZID=America/New_York:20151223T180000
EXDATE;TZID=America/New_York:20151230T180000
DESCRIPTION:The Protestant Community hosts Family Night Bible Study each We
 dnesday. Dinner at 6:00 pm and Bible Study follows at 7:00 pm. For more in
 formation on all Chapel programs\, call (919) 722-0315.
X-ALT-DESC;FMTTYPE=text/html:The Protestant Community hosts Family Night Bi
 ble Study each Wednesday. Dinner at 6:00 pm and Bible Study follows at 7:0
 0 pm. For more information on all Chapel programs\, call (919) 722-0315.
CATEGORIES:Chapel
LOCATION:Spiritual Life Center/Family Life Center 
UID:20200507T1421080Z-519063-119@localendar.com
END:VEVENT
BEGIN:VEVENT
DTSTAMP:20260423T090956Z
DTSTART;TZID=America/New_York:20170926T170000
DTEND;TZID=America/New_York:20170926T180000
SUMMARY:Praise & Worship Rehearsal for 1100 Traditional Service
RRULE:FREQ=WEEKLY;UNTIL=20250926;BYDAY=WE
EXDATE;TZID=America/New_York:20160318T170000
EXDATE;TZID=America/New_York:20160325T170000
EXDATE;TZID=America/New_York:20151125T170000
EXDATE;TZID=America/New_York:20151223T170000
EXDATE;TZID=America/New_York:20151230T170000
DESCRIPTION:For more information on Chapel programs\, call (919) 722-0315.
X-ALT-DESC;FMTTYPE=text/html:For more information on Chapel programs\, call
  (919) 722-0315. 
CATEGORIES:Chapel
LOCATION:Chapel Sanctuary
UID:20190314T1638160Z-519063-590@localendar.com
END:VEVENT
BEGIN:VEVENT
DTSTAMP:20260423T090956Z
DTSTART;TZID=America/New_York:20150902T120000
DTEND;TZID=America/New_York:20150902T133000
SUMMARY:Catholic Women of the Chapel 
RRULE:FREQ=MONTHLY;UNTIL=20250915;BYDAY=1FR
EXDATE;TZID=America/New_York:20190705T120000
EXDATE;TZID=America/New_York:20190802T120000
EXDATE;TZID=America/New_York:20160902T120000
DESCRIPTION:For more information on Chapel programs\, call (919) 722-0315.
X-ALT-DESC;FMTTYPE=text/html:For more information on Chapel programs\, call
  (919) 722-0315. 
CATEGORIES:Chapel
LOCATION:Family Life Center Room 108
UID:20190314T1727010Z-519063-622@localendar.com
END:VEVENT
BEGIN:VEVENT
DTSTAMP:20260423T090956Z
DTSTART;TZID=America/New_York:20170727T103000
DTEND;TZID=America/New_York:20170727T123000
SUMMARY:Gospel Service Graceful Praise Dance Team 
RRULE:FREQ=MONTHLY;UNTIL=20250727;BYDAY=1SA,2SA,4SA,5SA
DESCRIPTION:Dance Team practice for 1230 Gospel Service Dance Ministry. For
  more information\, call 722-0315.
X-ALT-DESC;FMTTYPE=text/html:Dance Team practice for 1230 Gospel Service Da
 nce Ministry. For more information\, call 722-0315.
CATEGORIES:Chapel
LOCATION:Base Chapel Sanctuary
UID:20190319T1738390Z-519063-1841@localendar.com
END:VEVENT
BEGIN:VEVENT
DTSTAMP:20260423T090956Z
DTSTART;TZID=America/New_York:20200507T180000
DTEND;TZID=America/New_York:20200507T210000
SUMMARY:AWANA
RRULE:FREQ=WEEKLY;UNTIL=20250910;BYDAY=WE
EXDATE;TZID=America/New_York:20171224T180000
DESCRIPTION:Awana is a Protestant global\, nonprofit ministry program for c
 hildren that actively involves parents and church leaders. Awana reaches k
 ids where they’re at and walks alongside them in their faith journey. Dinn
 er at 6 pm\, AWANA begins at 7 pm
X-ALT-DESC;FMTTYPE=text/html:Awana is a Protestant global\, nonprofit minis
 try program for children that actively involves parents and church leaders
 . Awana reaches kids where they’re at and walks alongside them in their fa
 ith journey. Dinner at 6 pm\, AWANA begins at 7 pm
CATEGORIES:Chapel
LOCATION:Seymour Johnson AFB Spiritual Life Center
UID:20200507T1415010Z-519063-2159@localendar.com
END:VEVENT
BEGIN:VEVENT
DTSTAMP:20260423T090956Z
DTSTART;TZID=America/New_York:20170727T113000
DTEND;TZID=America/New_York:20170727T120000
SUMMARY:Catholic Mass 
RRULE:FREQ=WEEKLY;UNTIL=20250727;BYDAY=TU,WE,TH,FR
EXDATE;TZID=America/New_York:20190418T113000
EXDATE;TZID=America/New_York:20190419T113000
EXDATE;TZID=America/New_York:20171101T113000
EXDATE;TZID=America/New_York:20181225T113000
DESCRIPTION:For more information on Chapel programs\, call (919) 722-0315.
X-ALT-DESC;FMTTYPE=text/html:For more information on Chapel programs\, call
  (919) 722-0315. 
CATEGORIES:Chapel
LOCATION:Base Chapel Blessed Sacrament Chapel
UID:20190314T1625490Z-519063-2160@localendar.com
END:VEVENT
BEGIN:VEVENT
DTSTAMP:20260423T090956Z
DTSTART;TZID=America/New_York:20171006T173000
DTEND;TZID=America/New_York:20171006T190000
SUMMARY:Gospel Service Dance Team 
RRULE:FREQ=WEEKLY;UNTIL=20251006;BYDAY=TU
DESCRIPTION:Dance Team Ministry for 1230 Gospel Service.
X-ALT-DESC;FMTTYPE=text/html:Dance Team Ministry for 1230 Gospel Service. 
CATEGORIES:Chapel
LOCATION:Base Chapel  Sanctuary
UID:20190319T1734120Z-519063-2316@localendar.com
END:VEVENT
BEGIN:VEVENT
DTSTAMP:20260423T090956Z
DTSTART;TZID=America/New_York:20180330T100000
DTEND;TZID=America/New_York:20180330T120000
SUMMARY:Protestant Women's Bible Study 
RRULE:FREQ=WEEKLY;UNTIL=20250330;BYDAY=FR
DESCRIPTION:Bible Study sponsored by the Protestant Women of the Chapel - o
 pen to all women
X-ALT-DESC;FMTTYPE=text/html:Bible Study sponsored by the Protestant Women 
 of the Chapel - open to all women
CATEGORIES:Chapel
LOCATION:Base Chapel Family Life Center Classroom 100
UID:20190314T1629020Z-519063-2427@localendar.com
END:VEVENT
BEGIN:VEVENT
DTSTAMP:20260423T090956Z
DTSTART;TZID=America/New_York:20181208T170000
DTEND;TZID=America/New_York:20181208T180000
SUMMARY:Catholic Mass 
RRULE:FREQ=WEEKLY;UNTIL=20251231;BYDAY=SA
EXDATE;TZID=America/New_York:20190420T170000
DESCRIPTION:
X-ALT-DESC;FMTTYPE=text/html:
CATEGORIES:Chapel
LOCATION:Base Chapel Sanctuary
UID:20190314T1642140Z-519063-2433@localendar.com
END:VEVENT
BEGIN:VEVENT
DTSTAMP:20260423T090956Z
DTSTART;TZID=America/New_York:20190318T183000
DTEND;TZID=America/New_York:20190318T203000
SUMMARY:Protestant Women's Bible Study
RRULE:FREQ=WEEKLY;UNTIL=20250318;BYDAY=MO
DESCRIPTION:Bible Study on Battle Field of the Mind by Tony Evans\, then Ki
 ngdom Women also by Tony Evans.
X-ALT-DESC;FMTTYPE=text/html:Bible Study on Battle Field of the Mind by Ton
 y Evans\, then Kingdom Women also by Tony Evans.
CATEGORIES:Chapel
LOCATION:Base Chapel Family Life Center Classroom 100
UID:20190319T1740120Z-519063-2452@localendar.com
END:VEVENT
BEGIN:VEVENT
DTSTAMP:20260423T090956Z
DTSTART;TZID=America/New_York:20190314T173000
DTEND;TZID=America/New_York:20190314T190000
SUMMARY:Gospel Service Graceful Praise Dance Team
RRULE:FREQ=WEEKLY;UNTIL=20250314;BYDAY=TH
DESCRIPTION:Dance Ministry for the 1230 Protestant Gospel Service
X-ALT-DESC;FMTTYPE=text/html:Dance Ministry for the 1230 Protestant Gospel 
 Service
CATEGORIES:Chapel
LOCATION:Base Chapel Sanctuary
UID:20190319T1737530Z-519063-2454@localendar.com
END:VEVENT
BEGIN:VEVENT
DTSTAMP:20260423T090956Z
DTSTART;TZID=America/New_York:20190314T190000
DTEND;TZID=America/New_York:20190314T200000
SUMMARY:Catholic Choir Practice
RRULE:FREQ=WEEKLY;UNTIL=20250314;BYDAY=TH
DESCRIPTION:
X-ALT-DESC;FMTTYPE=text/html:
CATEGORIES:Chapel
LOCATION:Base Chapel Sanctuary
UID:20190314T1628230Z-519063-2455@localendar.com
END:VEVENT
BEGIN:VEVENT
DTSTAMP:20260423T090956Z
DTSTART;TZID=America/New_York:20190315T183000
DTEND;TZID=America/New_York:20190315T193000
SUMMARY:1230 Protestant Service Choir Practice
RRULE:FREQ=WEEKLY;UNTIL=20250315;BYDAY=FR
DESCRIPTION:
X-ALT-DESC;FMTTYPE=text/html:
CATEGORIES:Chapel
LOCATION:Base Chapel Sanctuary
UID:20190314T1630050Z-519063-2456@localendar.com
END:VEVENT
BEGIN:VEVENT
DTSTAMP:20260423T090956Z
DTSTART;TZID=America/New_York:20200509T090000
DTEND;TZID=America/New_York:20200509T120000
SUMMARY:Catholic Men's Bible Study
RRULE:FREQ=WEEKLY;UNTIL=20250316;BYDAY=SA
DESCRIPTION:
X-ALT-DESC;FMTTYPE=text/html:
CATEGORIES:Chapel
LOCATION:Family Life Center Classroom 100
UID:20200507T1426530Z-519063-2457@localendar.com
END:VEVENT
BEGIN:VEVENT
DTSTAMP:20260423T090956Z
DTSTART;TZID=America/New_York:20190316T160000
DTEND;TZID=America/New_York:20190316T164500
SUMMARY:Catholic Confessions
RRULE:FREQ=WEEKLY;UNTIL=20250316;BYDAY=SA
DESCRIPTION:
X-ALT-DESC;FMTTYPE=text/html:
CATEGORIES:Chapel
LOCATION:Base Chapel Blessed Sacrament
UID:20190314T1641550Z-519063-2458@localendar.com
END:VEVENT
BEGIN:VEVENT
DTSTAMP:20260423T090956Z
DTSTART;TZID=America/New_York:20200507T090000
DTEND;TZID=America/New_York:20200507T120000
SUMMARY:Protestant Men's Breakfast Bible Study
RRULE:FREQ=MONTHLY;UNTIL=20250507;BYDAY=3SA
DESCRIPTION:For more information\, please call Donna Scott at 919-722-0315.
 
X-ALT-DESC;FMTTYPE=text/html:For more information\, please call Donna Scott
  at 919-722-0315.
CATEGORIES:Chapel
LOCATION:SJAFB Spiritual Life Center Annex
UID:20200507T1436280Z-519063-2461@localendar.com
END:VEVENT
END:VCALENDAR
