BEGIN:VCALENDAR
PRODID:-//Ben Fortuna//iCal4j 1.0//EN
VERSION:2.0
CALSCALE:GREGORIAN
BEGIN:VTIMEZONE
TZID:America/New_York
LAST-MODIFIED:20260306T231828Z
TZURL:https://www.tzurl.org/zoneinfo-outlook/America/New_York
X-LIC-LOCATION:America/New_York
BEGIN:DAYLIGHT
TZNAME:EDT
TZOFFSETFROM:-0500
TZOFFSETTO:-0400
DTSTART:19700308T020000
RRULE:FREQ=YEARLY;BYMONTH=3;BYDAY=2SU
END:DAYLIGHT
BEGIN:STANDARD
TZNAME:EST
TZOFFSETFROM:-0400
TZOFFSETTO:-0500
DTSTART:19701101T020000
RRULE:FREQ=YEARLY;BYMONTH=11;BYDAY=1SU
END:STANDARD
END:VTIMEZONE
BEGIN:VEVENT
DTSTAMP:20260420T175757Z
DTSTART;TZID=America/New_York:20221015T070000
DTEND;TZID=America/New_York:20221015T150000
SUMMARY:NMBA Grand Field - SCBA
RRULE:FREQ=DAILY;COUNT=2
DESCRIPTION:Host:  Sandia Crest Bowhunters Format:  Saturday: 28 Field Targ
 ets and 28 Animal Targets Cost: $20 for Adults\, and $10 for Junior Divisi
 ons Registration:  7:00 to 8:00 am Start: 8:30 am Contact:  Joe Fuller at 
 jbfehunter@outlook.com
X-ALT-DESC;FMTTYPE=text/html:<p>Host:&nbsp\; Sandia Crest Bowhunters</p>  <
 p>Format:&nbsp\; Saturday: 28 Field Targets and 28 Animal Targets</p>  <p>
 Cost: $20 for Adults\, and $10 for Junior Divisions</p>  <p>Registration:&
 nbsp\; 7:00 to 8:00 am</p>  <p>Start: 8:30 am</p>  <p>Contact:&nbsp\; Joe 
 Fuller at jbfehunter@outlook.com</p>
CATEGORIES:General
UID:20220317T1347280Z-302657-326@localendar.com
END:VEVENT
BEGIN:VEVENT
DTSTAMP:20260420T175757Z
DTSTART;TZID=America/New_York:20230429T080000
DTEND;TZID=America/New_York:20230429T120000
SUMMARY:NMBA Animal Round - SJA
RRULE:FREQ=DAILY;COUNT=2
DESCRIPTION:April 29 or 30 Archers need to shoot only one of the days.  Fir
 st round shot is the round that counts.  May shoot second day in different
  style or division if you wish. Registration 8:00 to 8:45 Scoring starts a
 t 9:00 am Cost: $10 for adults\, $5 for kids Format: 28 NFAA Animal Target
 s Information: Text Jay Boushee at 505-801-1240.
X-ALT-DESC;FMTTYPE=text/html:<p>April 29 or 30</p>  <p>Archers need to shoo
 t only one of the days.&nbsp\; First round shot is the round that counts.&
 nbsp\; May shoot second day in different&nbsp\;style or division if you wi
 sh.</p>  <p>Registration 8:00 to 8:45</p>  <p>Scoring starts at 9:00 am</p
 >  <p>Cost: $10 for adults\, $5 for kids</p>  <p>Format: 28 NFAA Animal Ta
 rgets</p>  <p>Information: Text Jay Boushee at 505-801-1240.</p>
CATEGORIES:General
UID:20230405T0423480Z-302657-327@localendar.com
END:VEVENT
BEGIN:VEVENT
DTSTAMP:20260420T175757Z
DTSTART;TZID=America/New_York:20230603T080000
DTEND;TZID=America/New_York:20230603T130000
SUMMARY:NMBA 14 Hunter/14 Field - SJA
RRULE:FREQ=DAILY;COUNT=2
DESCRIPTION:June 3 or 4 Archers need to shoot only one of the days.  First 
 round shot is the round that counts.  May shoot second day in different st
 yle or division if you wish. Registration 8:00 to 8:45 Scoring starts at 9
 :00 am Cost: $10 for adults\, $5 for kids Format: 14 NFAA Field Targets fo
 llowed by 14 NFAA Hunter Targets Information: Text Jay Boushee at 505-801-
 1240.
X-ALT-DESC;FMTTYPE=text/html:<p>June 3 or 4</p>  <p>Archers need to shoot o
 nly one of the days.&nbsp\; First round shot is the round that counts.&nbs
 p\; May shoot second day in different&nbsp\;style&nbsp\;or division if you
  wish.</p>  <p>Registration 8:00 to 8:45</p>  <p>Scoring starts at 9:00 am
 </p>  <p>Cost: $10 for adults\, $5 for kids</p>  <p>Format:&nbsp\;14 NFAA&
 nbsp\;Field Targets followed by 14 NFAA Hunter Targets</p>  <p>Information
 : Text Jay Boushee at 505-801-1240.</p>
CATEGORIES:General
UID:20230405T0424140Z-302657-328@localendar.com
END:VEVENT
BEGIN:VEVENT
DTSTAMP:20260420T175757Z
DTSTART;TZID=America/New_York:20230930T070000
DTEND;TZID=America/New_York:20230930T150000
SUMMARY:NMBA Jim Simmons Grand Field
RRULE:FREQ=DAILY;COUNT=2
DESCRIPTION:The Grand Field has been dedicated in the honor of Jim Simmons\
 , the founding father of the New Mexico Bowhunter's Association.  Jim is a
 lso one of the first two initial Hall of Fame inductees.  Charley Barnes i
 s the other inductee in the first class. Archers may only shoot one style 
 and division at Grand Field. July 22 and 23 Registration: Saturday 7:00 to
  7:45 Saturday Shooting: Scoring starts at 8:00 am Sunday Shooting: Scorin
 g starts at 8:00 am Format: Saturday is 28 Field and 28 Animals.  Sunday i
 s 28 Hunter Targets. Cost:  $20 for adults\, $10 for kids Informaion:  Tex
 t Jay Boushee at 505-801-1240
X-ALT-DESC;FMTTYPE=text/html:<p>The Grand Field has been dedicated in the h
 onor of Jim Simmons\, the founding father of the New Mexico Bowhunter's As
 sociation.&nbsp\; Jim is also one of the first two initial Hall of Fame in
 ductees.&nbsp\; Charley Barnes is the other inductee in the first class.</
 p>  <p>Archers may only shoot one style and division at Grand Field.</p>  
 <p>July 22 and 23</p>  <p>Registration: Saturday 7:00 to 7:45</p>  <p>Satu
 rday Shooting: Scoring starts at 8:00 am</p>  <p>Sunday Shooting: Scoring 
 starts at 8:00 am</p>  <p>Format: Saturday is 28 Field and 28 Animals.&nbs
 p\; Sunday is 28 Hunter Targets.</p>  <p>Cost:&nbsp\; $20 for adults\, $10
  for kids</p>  <p>Informaion:&nbsp\; Text Jay Boushee at 505-801-1240</p>
CATEGORIES:General
UID:20230608T0301080Z-302657-329@localendar.com
END:VEVENT
BEGIN:VEVENT
DTSTAMP:20260420T175757Z
DTSTART;TZID=America/New_York:20230422T083000
DTEND;TZID=America/New_York:20230422T133000
SUMMARY:NMBA Animal Round-SCBA
DESCRIPTION:April 22 Registration: 8:30 to 9:15 Scoring: 9:30 am Cost: $20 
 adults\, $10 kids Format: 28 NFAA Animals Contact Info: http://www.scbaarc
 hery.org/
X-ALT-DESC;FMTTYPE=text/html:<p>April 22</p>  <p>Registration: 8:30 to 9:15
 </p>  <p>Scoring: 9:30 am</p>  <p>Cost: $20 adults\, $10 kids</p>  <p>Form
 at: 28 NFAA Animals</p>  <p>Contact Info:&nbsp\;http://www.scbaarchery.org
 /</p>
CATEGORIES:General
UID:20230405T0431080Z-302657-330@localendar.com
END:VEVENT
BEGIN:VEVENT
DTSTAMP:20260420T175757Z
DTSTART;TZID=America/New_York:20230624T200000
DTEND;TZID=America/New_York:20230625T010000
SUMMARY:NMBA 14 Hunter/14 Field - SCBA
DESCRIPTION:Registration: 8:30 to 9:15 Scoring: 9:30 am Cost: $10 adults\, 
 $5 kids Format: 14 NFAA Field Targets and 14 Hunter Targets Contact Info: 
 http://www.scbaarchery.org/
X-ALT-DESC;FMTTYPE=text/html:<p>Registration: 8:30 to 9:15</p>  <p>Scoring:
  9:30 am</p>  <p>Cost: $10 adults\, $5 kids</p>  <p>Format:&nbsp\;14 NFAA&
 nbsp\;Field Targets and 14 Hunter Targets</p>  <p>Contact Info:&nbsp\;http
 ://www.scbaarchery.org/</p>
CATEGORIES:General
UID:20230608T0259260Z-302657-331@localendar.com
END:VEVENT
END:VCALENDAR
