BEGIN:VCALENDAR
PRODID:-//Ben Fortuna//iCal4j 1.0//EN
VERSION:2.0
CALSCALE:GREGORIAN
BEGIN:VTIMEZONE
TZID:America/Chicago
LAST-MODIFIED:20260306T231828Z
TZURL:https://www.tzurl.org/zoneinfo-outlook/America/Chicago
X-LIC-LOCATION:America/Chicago
BEGIN:DAYLIGHT
TZNAME:CDT
TZOFFSETFROM:-0600
TZOFFSETTO:-0500
DTSTART:19700308T020000
RRULE:FREQ=YEARLY;BYMONTH=3;BYDAY=2SU
END:DAYLIGHT
BEGIN:STANDARD
TZNAME:CST
TZOFFSETFROM:-0500
TZOFFSETTO:-0600
DTSTART:19701101T020000
RRULE:FREQ=YEARLY;BYMONTH=11;BYDAY=1SU
END:STANDARD
END:VTIMEZONE
BEGIN:VEVENT
DTSTAMP:20260420T204336Z
DTSTART;TZID=America/Chicago:20240920T200000
DTEND;TZID=America/Chicago:20240920T210000
SUMMARY:Colosseum
DESCRIPTION:
X-ALT-DESC;FMTTYPE=text/html:
CATEGORIES:General
LOCATION:Arwic
UID:20240919T2247170Z-3144958-2@localendar.com
END:VEVENT
BEGIN:VEVENT
DTSTAMP:20260420T204336Z
DTSTART;TZID=America/Chicago:20240923T200000
DTEND;TZID=America/Chicago:20240923T210000
SUMMARY:Colosseum
DESCRIPTION:
X-ALT-DESC;FMTTYPE=text/html:
CATEGORIES:General
LOCATION:Arwic
UID:20240919T2247510Z-3144958-3@localendar.com
END:VEVENT
BEGIN:VEVENT
DTSTAMP:20260420T204336Z
DTSTART;TZID=America/Chicago:20240924T200000
DTEND;TZID=America/Chicago:20240924T210000
SUMMARY:Pookie
DESCRIPTION:
X-ALT-DESC;FMTTYPE=text/html:
CATEGORIES:General
LOCATION:Arwic
UID:20240921T1437280Z-3144958-4@localendar.com
END:VEVENT
BEGIN:VEVENT
DTSTAMP:20260420T204336Z
DTSTART;TZID=America/Chicago:20240925T200000
DTEND;TZID=America/Chicago:20240925T210000
SUMMARY:Colosseum
DESCRIPTION:
X-ALT-DESC;FMTTYPE=text/html:
CATEGORIES:General
LOCATION:Arwic
UID:20240921T1438070Z-3144958-5@localendar.com
END:VEVENT
BEGIN:VEVENT
DTSTAMP:20260420T204336Z
DTSTART;TZID=America/Chicago:20240926T200000
DTEND;TZID=America/Chicago:20240926T210000
SUMMARY:Aphus Lassel Recall
DESCRIPTION:
X-ALT-DESC;FMTTYPE=text/html:
CATEGORIES:General
LOCATION:Arwic
UID:20240921T1442050Z-3144958-6@localendar.com
END:VEVENT
BEGIN:VEVENT
DTSTAMP:20260420T204336Z
DTSTART;TZID=America/Chicago:20240928T200000
DTEND;TZID=America/Chicago:20240928T210000
SUMMARY:Undead Slayer
DESCRIPTION:
X-ALT-DESC;FMTTYPE=text/html:
CATEGORIES:General
LOCATION:Arwic
UID:20240921T1441530Z-3144958-7@localendar.com
END:VEVENT
BEGIN:VEVENT
DTSTAMP:20260420T204336Z
DTSTART;TZID=America/Chicago:20240930T200000
DTEND;TZID=America/Chicago:20240930T210000
SUMMARY:Colosseum
DESCRIPTION:
X-ALT-DESC;FMTTYPE=text/html:
CATEGORIES:General
LOCATION:Arwic
UID:20240921T1443010Z-3144958-8@localendar.com
END:VEVENT
BEGIN:VEVENT
DTSTAMP:20260420T204336Z
DTSTART;TZID=America/Chicago:20240922T200000
DTEND;TZID=America/Chicago:20240922T210000
SUMMARY:Summoning T'thuun
DESCRIPTION:
X-ALT-DESC;FMTTYPE=text/html:
CATEGORIES:General
LOCATION:Arwic
UID:20240922T0128370Z-3144958-9@localendar.com
END:VEVENT
BEGIN:VEVENT
DTSTAMP:20260420T204336Z
DTSTART;TZID=America/Chicago:20240922T210000
DTEND;TZID=America/Chicago:20240922T220000
SUMMARY:Diemos
DESCRIPTION:
X-ALT-DESC;FMTTYPE=text/html:
CATEGORIES:General
LOCATION:Arwic
UID:20240922T1620410Z-3144958-10@localendar.com
END:VEVENT
BEGIN:VEVENT
DTSTAMP:20260420T204336Z
DTSTART;TZID=America/Chicago:20241003T200000
DTEND;TZID=America/Chicago:20241003T210000
SUMMARY:Mukkir Slayer
DESCRIPTION:
X-ALT-DESC;FMTTYPE=text/html:
CATEGORIES:General
LOCATION:Arwic
UID:20241003T2111150Z-3144958-13@localendar.com
END:VEVENT
BEGIN:VEVENT
DTSTAMP:20260420T204336Z
DTSTART;TZID=America/Chicago:20240929T210000
DTEND;TZID=America/Chicago:20240929T220000
SUMMARY:Diemos
DESCRIPTION:
X-ALT-DESC;FMTTYPE=text/html:
CATEGORIES:General
LOCATION:Arwic
UID:20240922T1622230Z-3144958-12@localendar.com
END:VEVENT
BEGIN:VEVENT
DTSTAMP:20260420T204336Z
DTSTART;TZID=America/Chicago:20241001T200000
DTEND;TZID=America/Chicago:20241001T210000
SUMMARY:Rynthid Weapons
DESCRIPTION:
X-ALT-DESC;FMTTYPE=text/html:
CATEGORIES:General
LOCATION:Arwic
UID:20241001T0140110Z-3144958-18@localendar.com
END:VEVENT
BEGIN:VEVENT
DTSTAMP:20260420T204336Z
DTSTART;TZID=America/Chicago:20241015T200000
DTEND;TZID=America/Chicago:20241015T210000
SUMMARY:Colosseum
DESCRIPTION:
X-ALT-DESC;FMTTYPE=text/html:
CATEGORIES:General
LOCATION:Arwic
UID:20241015T1406370Z-3144958-26@localendar.com
END:VEVENT
BEGIN:VEVENT
DTSTAMP:20260420T204336Z
DTSTART;TZID=America/Chicago:20241002T200000
DTEND;TZID=America/Chicago:20241002T210000
SUMMARY:Colosseum
DESCRIPTION:
X-ALT-DESC;FMTTYPE=text/html:
CATEGORIES:General
LOCATION:Arwic
UID:20240922T1623570Z-3144958-14@localendar.com
END:VEVENT
BEGIN:VEVENT
DTSTAMP:20260420T204336Z
DTSTART;TZID=America/Chicago:20241202T200000
DTEND;TZID=America/Chicago:20241202T200000
SUMMARY:Rynthid Foothold - Led by Alec Von Tourmononce
DESCRIPTION:Meet in Arwic
X-ALT-DESC;FMTTYPE=text/html:<p>Meet in Arwic</p>
CATEGORIES:General
UID:20241129T1856310Z-3144958-27@localendar.com
END:VEVENT
BEGIN:VEVENT
DTSTAMP:20260420T204336Z
DTSTART;TZID=America/Chicago:20240927T200000
DTEND;TZID=America/Chicago:20240927T210000
SUMMARY:Kill Task BBQ - Rynthid
DESCRIPTION:
X-ALT-DESC;FMTTYPE=text/html:
CATEGORIES:General
LOCATION:Arwic
UID:20240922T1626200Z-3144958-15@localendar.com
END:VEVENT
BEGIN:VEVENT
DTSTAMP:20260420T204336Z
DTSTART;TZID=America/Chicago:20240929T193000
DTEND;TZID=America/Chicago:20240929T210000
SUMMARY:Bellas
DESCRIPTION:
X-ALT-DESC;FMTTYPE=text/html:
CATEGORIES:General
LOCATION:Arwic
UID:20240928T1650120Z-3144958-16@localendar.com
END:VEVENT
BEGIN:VEVENT
DTSTAMP:20260420T204336Z
DTSTART;TZID=America/Chicago:20241004T100000
DTEND;TZID=America/Chicago:20241004T100000
SUMMARY:Releasing the Light - 150+
DESCRIPTION:Meet in Arwic
X-ALT-DESC;FMTTYPE=text/html:<p>Meet in Arwic</p>
CATEGORIES:General
UID:20241004T1503110Z-3144958-19@localendar.com
END:VEVENT
BEGIN:VEVENT
DTSTAMP:20260420T204336Z
DTSTART;TZID=America/Chicago:20241009T200000
DTEND;TZID=America/Chicago:20241009T210000
SUMMARY:Olthoi Slayer
DESCRIPTION:Get your gland ahead of time.
X-ALT-DESC;FMTTYPE=text/html:<p>Get your gland ahead of time.</p>
CATEGORIES:General
UID:20241007T1418460Z-3144958-22@localendar.com
END:VEVENT
BEGIN:VEVENT
DTSTAMP:20260420T204336Z
DTSTART;TZID=America/Chicago:20241008T200000
DTEND;TZID=America/Chicago:20241008T210000
SUMMARY:Focus Stone
DESCRIPTION:
X-ALT-DESC;FMTTYPE=text/html:
CATEGORIES:General
UID:20241007T1418090Z-3144958-21@localendar.com
END:VEVENT
BEGIN:VEVENT
DTSTAMP:20260420T204336Z
DTSTART;TZID=America/Chicago:20241011T080000
DTEND;TZID=America/Chicago:20241011T090000
SUMMARY:Colosseum
DESCRIPTION:
X-ALT-DESC;FMTTYPE=text/html:
CATEGORIES:General
UID:20241007T1420060Z-3144958-24@localendar.com
END:VEVENT
BEGIN:VEVENT
DTSTAMP:20260420T204336Z
DTSTART;TZID=America/Chicago:20241007T200000
DTEND;TZID=America/Chicago:20241007T210000
SUMMARY:Sanctuary Recall
DESCRIPTION:
X-ALT-DESC;FMTTYPE=text/html:
CATEGORIES:General
LOCATION:Arwic
UID:20241007T1417390Z-3144958-20@localendar.com
END:VEVENT
BEGIN:VEVENT
DTSTAMP:20260420T204336Z
DTSTART;TZID=America/Chicago:20241010T080000
DTEND;TZID=America/Chicago:20241010T090000
SUMMARY:Undead Slayer
DESCRIPTION:
X-ALT-DESC;FMTTYPE=text/html:
CATEGORIES:General
UID:20241007T1419070Z-3144958-23@localendar.com
END:VEVENT
BEGIN:VEVENT
DTSTAMP:20260420T204336Z
DTSTART;TZID=America/Chicago:20240927T100000
DTEND;TZID=America/Chicago:20240927T110000
SUMMARY:Radiant Blood Flagging - 120+
DESCRIPTION:Meet in Zaikhal 
X-ALT-DESC;FMTTYPE=text/html:<p>Meet in Zaikhal&nbsp\;</p>
CATEGORIES:General
UID:20240925T2231570Z-3144958-17@localendar.com
END:VEVENT
BEGIN:VEVENT
DTSTAMP:20260420T204336Z
DTSTART;VALUE=DATE:20241009
SUMMARY:******  Scavenger Hunt Begins!!
RRULE:FREQ=DAILY;COUNT=32
DESCRIPTION:You get to keep all items. You can not use anything you already
  have. You may buy\, trade\, quest\, hunt\, bribe\, etc for items. CLICK H
 ERE FOR LIST
X-ALT-DESC;FMTTYPE=text/html:<p><span style='text-decoration: underline\;'>
 <em><strong>You get to keep all items.</strong></em></span><br /><br /></p
 >  <ol>  <li>You can not use anything you already have.</li>  <li>You may 
 buy\, trade\, quest\, hunt\, bribe\, etc for items.</li>  </ol>  <p><br />
 <span style='color: #ffffff\;'><a href='http://thehaven-we.com/scavenger-h
 unt-list-for-october-2024/' title='List is here' rel='nofollow'><span styl
 e='color: #ffffff\;'>CLICK HERE FOR LIST</span></a></span></p>
CATEGORIES:General
UID:20241009T1551430Z-3144958-25@localendar.com
END:VEVENT
END:VCALENDAR
