BEGIN:VCALENDAR
PRODID:-//Ben Fortuna//iCal4j 1.0//EN
VERSION:2.0
CALSCALE:GREGORIAN
BEGIN:VTIMEZONE
TZID:Australia/Perth
LAST-MODIFIED:20260306T231828Z
TZURL:https://www.tzurl.org/zoneinfo-outlook/Australia/Perth
X-LIC-LOCATION:Australia/Perth
BEGIN:STANDARD
TZNAME:AWST
TZOFFSETFROM:+0800
TZOFFSETTO:+0800
DTSTART:19700101T000000
END:STANDARD
END:VTIMEZONE
BEGIN:VEVENT
DTSTAMP:20260423T172142Z
DTSTART;TZID=Australia/Perth:20191028T110000
DTEND;TZID=Australia/Perth:20191028T120000
SUMMARY:Photography
RRULE:FREQ=DAILY;COUNT=2193
DESCRIPTION:I am a father\, husband and small business owner that loves tra
 vel and photography. I am  hunter valley wedding photographer and if you a
 re planning a Central Coast wedding or thinking of Eloping Australia then 
 I would love to be involved.
X-ALT-DESC;FMTTYPE=text/html:<p>I am a father\, husband and small business 
 owner that loves travel and photography. I am&nbsp\;<br /><a href='https:/
 /cavanaghphotography.com.au/'>hunter valley wedding photographer</a>&nbsp\
 ;and if you are planning a <a href='https://coastwedding.com.au/'>Central 
 Coast wedding</a>&nbsp\;or thinking of <a href='https://eloping.com.au/'>E
 loping Australia</a>&nbsp\;then I would love to be involved.</p>
CATEGORIES:General
UID:20191028T0352030Z-597023-2@localendar.com
END:VEVENT
END:VCALENDAR
