BEGIN:VCALENDAR
PRODID:-//Ben Fortuna//iCal4j 1.0//EN
VERSION:2.0
CALSCALE:GREGORIAN
BEGIN:VTIMEZONE
TZID:America/Los_Angeles
LAST-MODIFIED:20260306T231828Z
TZURL:https://www.tzurl.org/zoneinfo-outlook/America/Los_Angeles
X-LIC-LOCATION:America/Los_Angeles
BEGIN:DAYLIGHT
TZNAME:PDT
TZOFFSETFROM:-0800
TZOFFSETTO:-0700
DTSTART:19700308T020000
RRULE:FREQ=YEARLY;BYMONTH=3;BYDAY=2SU
END:DAYLIGHT
BEGIN:STANDARD
TZNAME:PST
TZOFFSETFROM:-0700
TZOFFSETTO:-0800
DTSTART:19701101T020000
RRULE:FREQ=YEARLY;BYMONTH=11;BYDAY=1SU
END:STANDARD
END:VTIMEZONE
BEGIN:VEVENT
DTSTAMP:20260422T164644Z
DTSTART;TZID=America/Los_Angeles:20120308T200000
DTEND;TZID=America/Los_Angeles:20120309T020000
SUMMARY:DJ ZANG LIVE!!
RRULE:FREQ=WEEKLY;UNTIL=20121208;BYDAY=FR
EXDATE;TZID=America/Los_Angeles:20120316T200000
EXDATE;TZID=America/Los_Angeles:20120316T200000
EXDATE;TZID=America/Los_Angeles:20120810T200000
DESCRIPTION:DJ Zang is LIVE till he passes out
X-ALT-DESC;FMTTYPE=text/html:<p>DJ Zang is LIVE till he passes out</p>
CATEGORIES:General
LOCATION:
UID:20120803T1441490Z-446498-4@localendar.com
END:VEVENT
BEGIN:VEVENT
DTSTAMP:20260422T164644Z
DTSTART;TZID=America/Los_Angeles:20120312T180000
DTEND;TZID=America/Los_Angeles:20120312T220000
SUMMARY:DJ7Charlie LIVE
DESCRIPTION:
X-ALT-DESC;FMTTYPE=text/html:
CATEGORIES:General
LOCATION:
UID:20120309T0202230Z-446498-5@localendar.com
END:VEVENT
BEGIN:VEVENT
DTSTAMP:20260422T164644Z
DTSTART;TZID=America/Los_Angeles:20120319T180000
DTEND;TZID=America/Los_Angeles:20120319T220000
SUMMARY:DJ7Charlie LIVE
DESCRIPTION:
X-ALT-DESC;FMTTYPE=text/html:
CATEGORIES:General
LOCATION:
UID:20120309T0207570Z-446498-6@localendar.com
END:VEVENT
BEGIN:VEVENT
DTSTAMP:20260422T164644Z
DTSTART;TZID=America/Los_Angeles:20120309T110000
DTEND;TZID=America/Los_Angeles:20120309T140000
SUMMARY:NOONER HARDON
RRULE:FREQ=WEEKLY;UNTIL=20121209;BYDAY=SU,WE,TH,FR,SA
DESCRIPTION:3 hours of the Heavy shit !!!
X-ALT-DESC;FMTTYPE=text/html:<p>3 hours of the Heavy shit !!!</p>
CATEGORIES:General
LOCATION:
UID:20120522T1625590Z-446498-7@localendar.com
END:VEVENT
END:VCALENDAR
