BEGIN:VCALENDAR
PRODID:-//Ben Fortuna//iCal4j 1.0//EN
VERSION:2.0
CALSCALE:GREGORIAN
BEGIN:VTIMEZONE
TZID:Europe/Brussels
LAST-MODIFIED:20260306T231828Z
TZURL:https://www.tzurl.org/zoneinfo/Europe/Brussels
X-LIC-LOCATION:Europe/Brussels
X-PROLEPTIC-TZNAME:LMT
BEGIN:STANDARD
TZNAME:BMT
TZOFFSETFROM:+001730
TZOFFSETTO:+001730
DTSTART:18800101T000000
END:STANDARD
BEGIN:STANDARD
TZNAME:WET
TZOFFSETFROM:+001730
TZOFFSETTO:+0000
DTSTART:18920501T001730
END:STANDARD
BEGIN:STANDARD
TZNAME:CET
TZOFFSETFROM:+0000
TZOFFSETTO:+0100
DTSTART:19141108T000000
END:STANDARD
BEGIN:DAYLIGHT
TZNAME:CEST
TZOFFSETFROM:+0100
TZOFFSETTO:+0200
DTSTART:19160501T000000
RDATE:19400520T030000
RDATE:19430329T020000
RDATE:19440403T020000
RDATE:19450402T020000
RDATE:19460519T020000
END:DAYLIGHT
BEGIN:STANDARD
TZNAME:CET
TZOFFSETFROM:+0200
TZOFFSETTO:+0100
DTSTART:19161001T010000
RDATE:19421102T030000
RDATE:19431004T030000
RDATE:19440917T030000
RDATE:19450916T030000
RDATE:19461007T030000
RDATE:19770925T030000
RDATE:19781001T030000
END:STANDARD
BEGIN:DAYLIGHT
TZNAME:CEST
TZOFFSETFROM:+0100
TZOFFSETTO:+0200
DTSTART:19170416T020000
RRULE:FREQ=YEARLY;UNTIL=19180415T010000Z;BYMONTH=4;BYDAY=3MO
END:DAYLIGHT
BEGIN:STANDARD
TZNAME:CET
TZOFFSETFROM:+0200
TZOFFSETTO:+0100
DTSTART:19170917T030000
RRULE:FREQ=YEARLY;UNTIL=19180916T010000Z;BYMONTH=9;BYDAY=3MO
END:STANDARD
BEGIN:STANDARD
TZNAME:WET
TZOFFSETFROM:+0100
TZOFFSETTO:+0000
DTSTART:19181111T120000
RDATE:19191005T000000
RDATE:19201024T000000
RDATE:19211026T000000
RDATE:19391119T030000
END:STANDARD
BEGIN:DAYLIGHT
TZNAME:WEST
TZOFFSETFROM:+0000
TZOFFSETTO:+0100
DTSTART:19190301T230000
RDATE:19200214T230000
RDATE:19210314T230000
RDATE:19220325T230000
RDATE:19230421T230000
RDATE:19240329T230000
RDATE:19250404T230000
RDATE:19260417T230000
RDATE:19270409T230000
RDATE:19280414T230000
RDATE:19290421T020000
RDATE:19300413T020000
RDATE:19310419T020000
RDATE:19320403T020000
RDATE:19330326T020000
RDATE:19340408T020000
RDATE:19350331T020000
RDATE:19360419T020000
RDATE:19370404T020000
RDATE:19380327T020000
RDATE:19390416T020000
RDATE:19400225T020000
END:DAYLIGHT
BEGIN:STANDARD
TZNAME:WET
TZOFFSETFROM:+0100
TZOFFSETTO:+0000
DTSTART:19221008T000000
RRULE:FREQ=YEARLY;UNTIL=19271001T230000Z;BYMONTH=10;BYMONTHDAY=2,3,4,5,6,7,
 8;BYDAY=SU
END:STANDARD
BEGIN:STANDARD
TZNAME:WET
TZOFFSETFROM:+0100
TZOFFSETTO:+0000
DTSTART:19281007T030000
RRULE:FREQ=YEARLY;UNTIL=19381002T020000Z;BYMONTH=10;BYMONTHDAY=2,3,4,5,6,7,
 8;BYDAY=SU
END:STANDARD
BEGIN:DAYLIGHT
TZNAME:CEST
TZOFFSETFROM:+0200
TZOFFSETTO:+0200
DTSTART:19440903T000000
END:DAYLIGHT
BEGIN:STANDARD
TZNAME:CET
TZOFFSETFROM:+0100
TZOFFSETTO:+0100
DTSTART:19770101T000000
END:STANDARD
BEGIN:DAYLIGHT
TZNAME:CEST
TZOFFSETFROM:+0100
TZOFFSETTO:+0200
DTSTART:19770403T020000
RRULE:FREQ=YEARLY;UNTIL=19800406T010000Z;BYMONTH=4;BYDAY=1SU
END:DAYLIGHT
BEGIN:STANDARD
TZNAME:CET
TZOFFSETFROM:+0200
TZOFFSETTO:+0100
DTSTART:19790930T030000
RRULE:FREQ=YEARLY;UNTIL=19950924T010000Z;BYMONTH=9;BYDAY=-1SU
END:STANDARD
BEGIN:DAYLIGHT
TZNAME:CEST
TZOFFSETFROM:+0100
TZOFFSETTO:+0200
DTSTART:19810329T020000
RRULE:FREQ=YEARLY;BYMONTH=3;BYDAY=-1SU
END:DAYLIGHT
BEGIN:STANDARD
TZNAME:CET
TZOFFSETFROM:+0200
TZOFFSETTO:+0100
DTSTART:19961027T030000
RRULE:FREQ=YEARLY;BYMONTH=10;BYDAY=-1SU
END:STANDARD
END:VTIMEZONE
BEGIN:VEVENT
DTSTAMP:20260420T125743Z
DTSTART;VALUE=DATE:20220813
SUMMARY:-
RRULE:FREQ=DAILY;COUNT=15
DESCRIPTION:
X-ALT-DESC;FMTTYPE=text/html:
CATEGORIES:General
UID:20210804T1614450Z-594083-163@localendar.com
END:VEVENT
BEGIN:VEVENT
DTSTAMP:20260420T125743Z
DTSTART;VALUE=DATE:20221022
SUMMARY:+
RRULE:FREQ=DAILY;COUNT=8
DESCRIPTION:
X-ALT-DESC;FMTTYPE=text/html:
CATEGORIES:General
UID:20210804T1619150Z-594083-195@localendar.com
END:VEVENT
BEGIN:VEVENT
DTSTAMP:20260420T125743Z
DTSTART;VALUE=DATE:20221031
SUMMARY:X
RRULE:FREQ=DAILY;COUNT=152
DESCRIPTION:
X-ALT-DESC;FMTTYPE=text/html:
CATEGORIES:General
UID:20221010T1517250Z-594083-196@localendar.com
END:VEVENT
BEGIN:VEVENT
DTSTAMP:20260420T125743Z
DTSTART;VALUE=DATE:20220827
SUMMARY:-
RRULE:FREQ=DAILY;COUNT=15
DESCRIPTION:
X-ALT-DESC;FMTTYPE=text/html:
CATEGORIES:General
UID:20220509T1645340Z-594083-209@localendar.com
END:VEVENT
BEGIN:VEVENT
DTSTAMP:20260420T125743Z
DTSTART;VALUE=DATE:20220917
SUMMARY:-
RRULE:FREQ=DAILY;COUNT=15
DESCRIPTION:
X-ALT-DESC;FMTTYPE=text/html:
CATEGORIES:General
UID:20220614T1646210Z-594083-212@localendar.com
END:VEVENT
BEGIN:VEVENT
DTSTAMP:20260420T125743Z
DTSTART;VALUE=DATE:20220910
SUMMARY:-
RRULE:FREQ=DAILY;COUNT=8
DESCRIPTION:
X-ALT-DESC;FMTTYPE=text/html:
CATEGORIES:General
UID:20220614T1647250Z-594083-213@localendar.com
END:VEVENT
BEGIN:VEVENT
DTSTAMP:20260420T125743Z
DTSTART;VALUE=DATE:20221015
SUMMARY:+
RRULE:FREQ=DAILY;COUNT=8
DESCRIPTION:-
X-ALT-DESC;FMTTYPE=text/html:<p>-</p>
CATEGORIES:General
UID:20221010T1512180Z-594083-217@localendar.com
END:VEVENT
BEGIN:VEVENT
DTSTAMP:20260420T125743Z
DTSTART;VALUE=DATE:20221001
SUMMARY:-
RRULE:FREQ=DAILY;COUNT=15
DESCRIPTION:-
X-ALT-DESC;FMTTYPE=text/html:<p>-</p>
CATEGORIES:General
UID:20221010T1513370Z-594083-218@localendar.com
END:VEVENT
BEGIN:VEVENT
DTSTAMP:20260420T125743Z
DTSTART;VALUE=DATE:20230401
SUMMARY:+
RRULE:FREQ=DAILY;COUNT=8
DESCRIPTION:
X-ALT-DESC;FMTTYPE=text/html:
CATEGORIES:General
UID:20221010T1526190Z-594083-219@localendar.com
END:VEVENT
BEGIN:VEVENT
DTSTAMP:20260420T125743Z
DTSTART;VALUE=DATE:20230408
SUMMARY:+
RRULE:FREQ=DAILY;COUNT=8
DESCRIPTION:
X-ALT-DESC;FMTTYPE=text/html:
CATEGORIES:General
UID:20221010T1528470Z-594083-220@localendar.com
END:VEVENT
BEGIN:VEVENT
DTSTAMP:20260420T125743Z
DTSTART;VALUE=DATE:20230415
SUMMARY:+
RRULE:FREQ=DAILY;COUNT=8
DESCRIPTION:
X-ALT-DESC;FMTTYPE=text/html:
CATEGORIES:General
UID:20221010T1529180Z-594083-221@localendar.com
END:VEVENT
BEGIN:VEVENT
DTSTAMP:20260420T125743Z
DTSTART;VALUE=DATE:20230422
SUMMARY:+
RRULE:FREQ=DAILY;COUNT=8
DESCRIPTION:
X-ALT-DESC;FMTTYPE=text/html:
CATEGORIES:General
UID:20221010T1529570Z-594083-222@localendar.com
END:VEVENT
BEGIN:VEVENT
DTSTAMP:20260420T125743Z
DTSTART;VALUE=DATE:20230429
SUMMARY:+
RRULE:FREQ=DAILY;COUNT=8
DESCRIPTION:
X-ALT-DESC;FMTTYPE=text/html:
CATEGORIES:General
UID:20221010T1530530Z-594083-223@localendar.com
END:VEVENT
BEGIN:VEVENT
DTSTAMP:20260420T125743Z
DTSTART;VALUE=DATE:20230506
SUMMARY:+
RRULE:FREQ=DAILY;COUNT=8
DESCRIPTION:
X-ALT-DESC;FMTTYPE=text/html:
CATEGORIES:General
UID:20221010T1531440Z-594083-224@localendar.com
END:VEVENT
BEGIN:VEVENT
DTSTAMP:20260420T125743Z
DTSTART;VALUE=DATE:20230513
SUMMARY:+
RRULE:FREQ=DAILY;COUNT=8
DESCRIPTION:
X-ALT-DESC;FMTTYPE=text/html:
CATEGORIES:General
UID:20221010T1532090Z-594083-225@localendar.com
END:VEVENT
BEGIN:VEVENT
DTSTAMP:20260420T125743Z
DTSTART;VALUE=DATE:20230520
SUMMARY:+
RRULE:FREQ=DAILY;COUNT=8
DESCRIPTION:
X-ALT-DESC;FMTTYPE=text/html:
CATEGORIES:General
UID:20221010T1532330Z-594083-226@localendar.com
END:VEVENT
BEGIN:VEVENT
DTSTAMP:20260420T125743Z
DTSTART;VALUE=DATE:20230527
SUMMARY:+
RRULE:FREQ=DAILY;COUNT=8
DESCRIPTION:
X-ALT-DESC;FMTTYPE=text/html:
CATEGORIES:General
UID:20221010T1533550Z-594083-228@localendar.com
END:VEVENT
BEGIN:VEVENT
DTSTAMP:20260420T125743Z
DTSTART;VALUE=DATE:20230603
SUMMARY:+
RRULE:FREQ=DAILY;COUNT=8
DESCRIPTION:
X-ALT-DESC;FMTTYPE=text/html:
CATEGORIES:General
UID:20221010T1534440Z-594083-229@localendar.com
END:VEVENT
BEGIN:VEVENT
DTSTAMP:20260420T125743Z
DTSTART;VALUE=DATE:20230610
SUMMARY:+
RRULE:FREQ=DAILY;COUNT=8
DESCRIPTION:
X-ALT-DESC;FMTTYPE=text/html:
CATEGORIES:General
UID:20221010T1549230Z-594083-230@localendar.com
END:VEVENT
BEGIN:VEVENT
DTSTAMP:20260420T125743Z
DTSTART;VALUE=DATE:20230617
SUMMARY:+
RRULE:FREQ=DAILY;COUNT=8
DESCRIPTION:
X-ALT-DESC;FMTTYPE=text/html:
CATEGORIES:General
UID:20221010T1549490Z-594083-231@localendar.com
END:VEVENT
BEGIN:VEVENT
DTSTAMP:20260420T125743Z
DTSTART;VALUE=DATE:20230624
SUMMARY:+
RRULE:FREQ=DAILY;COUNT=8
DESCRIPTION:
X-ALT-DESC;FMTTYPE=text/html:
CATEGORIES:General
UID:20221010T1553130Z-594083-232@localendar.com
END:VEVENT
BEGIN:VEVENT
DTSTAMP:20260420T125743Z
DTSTART;VALUE=DATE:20230701
SUMMARY:+
RRULE:FREQ=DAILY;COUNT=8
DESCRIPTION:
X-ALT-DESC;FMTTYPE=text/html:
CATEGORIES:General
UID:20221010T1553580Z-594083-233@localendar.com
END:VEVENT
BEGIN:VEVENT
DTSTAMP:20260420T125743Z
DTSTART;VALUE=DATE:20230708
SUMMARY:+
RRULE:FREQ=DAILY;COUNT=8
DESCRIPTION:
X-ALT-DESC;FMTTYPE=text/html:
CATEGORIES:General
UID:20221010T1554240Z-594083-234@localendar.com
END:VEVENT
BEGIN:VEVENT
DTSTAMP:20260420T125743Z
DTSTART;VALUE=DATE:20230715
SUMMARY:+
RRULE:FREQ=DAILY;COUNT=8
DESCRIPTION:
X-ALT-DESC;FMTTYPE=text/html:
CATEGORIES:General
UID:20221010T1555150Z-594083-235@localendar.com
END:VEVENT
BEGIN:VEVENT
DTSTAMP:20260420T125743Z
DTSTART;VALUE=DATE:20230722
SUMMARY:+
RRULE:FREQ=DAILY;COUNT=8
DESCRIPTION:
X-ALT-DESC;FMTTYPE=text/html:
CATEGORIES:General
UID:20221010T1556090Z-594083-236@localendar.com
END:VEVENT
BEGIN:VEVENT
DTSTAMP:20260420T125743Z
DTSTART;VALUE=DATE:20230729
SUMMARY:+
RRULE:FREQ=DAILY;COUNT=8
DESCRIPTION:
X-ALT-DESC;FMTTYPE=text/html:
CATEGORIES:General
UID:20221010T1557130Z-594083-237@localendar.com
END:VEVENT
BEGIN:VEVENT
DTSTAMP:20260420T125743Z
DTSTART;VALUE=DATE:20230805
SUMMARY:+
RRULE:FREQ=DAILY;COUNT=8
DESCRIPTION:
X-ALT-DESC;FMTTYPE=text/html:
CATEGORIES:General
UID:20221010T1601010Z-594083-238@localendar.com
END:VEVENT
BEGIN:VEVENT
DTSTAMP:20260420T125743Z
DTSTART;VALUE=DATE:20230812
SUMMARY:+
RRULE:FREQ=DAILY;COUNT=8
DESCRIPTION:
X-ALT-DESC;FMTTYPE=text/html:
CATEGORIES:General
UID:20221010T1601240Z-594083-239@localendar.com
END:VEVENT
BEGIN:VEVENT
DTSTAMP:20260420T125743Z
DTSTART;VALUE=DATE:20230819
SUMMARY:+
RRULE:FREQ=DAILY;COUNT=8
DESCRIPTION:
X-ALT-DESC;FMTTYPE=text/html:
CATEGORIES:General
UID:20221010T1601470Z-594083-240@localendar.com
END:VEVENT
BEGIN:VEVENT
DTSTAMP:20260420T125743Z
DTSTART;VALUE=DATE:20230826
SUMMARY:+
RRULE:FREQ=DAILY;COUNT=8
DESCRIPTION:
X-ALT-DESC;FMTTYPE=text/html:
CATEGORIES:General
UID:20221010T1602160Z-594083-241@localendar.com
END:VEVENT
BEGIN:VEVENT
DTSTAMP:20260420T125743Z
DTSTART;VALUE=DATE:20230902
SUMMARY:+
RRULE:FREQ=DAILY;COUNT=8
DESCRIPTION:
X-ALT-DESC;FMTTYPE=text/html:
CATEGORIES:General
UID:20221010T1603030Z-594083-242@localendar.com
END:VEVENT
BEGIN:VEVENT
DTSTAMP:20260420T125743Z
DTSTART;VALUE=DATE:20230909
SUMMARY:+
RRULE:FREQ=DAILY;COUNT=8
DESCRIPTION:
X-ALT-DESC;FMTTYPE=text/html:
CATEGORIES:General
UID:20221010T1603250Z-594083-243@localendar.com
END:VEVENT
BEGIN:VEVENT
DTSTAMP:20260420T125743Z
DTSTART;VALUE=DATE:20230916
SUMMARY:+
RRULE:FREQ=DAILY;COUNT=8
DESCRIPTION:
X-ALT-DESC;FMTTYPE=text/html:
CATEGORIES:General
UID:20221010T1603540Z-594083-244@localendar.com
END:VEVENT
BEGIN:VEVENT
DTSTAMP:20260420T125743Z
DTSTART;VALUE=DATE:20230923
SUMMARY:+
RRULE:FREQ=DAILY;COUNT=8
DESCRIPTION:
X-ALT-DESC;FMTTYPE=text/html:
CATEGORIES:General
UID:20221010T1604290Z-594083-245@localendar.com
END:VEVENT
BEGIN:VEVENT
DTSTAMP:20260420T125743Z
DTSTART;VALUE=DATE:20220930
SUMMARY:+
RRULE:FREQ=DAILY;COUNT=8
DESCRIPTION:
X-ALT-DESC;FMTTYPE=text/html:
CATEGORIES:General
UID:20221010T1605340Z-594083-246@localendar.com
END:VEVENT
BEGIN:VEVENT
DTSTAMP:20260420T125743Z
DTSTART;VALUE=DATE:20220930
SUMMARY:+
RRULE:FREQ=DAILY;COUNT=8
DESCRIPTION:
X-ALT-DESC;FMTTYPE=text/html:
CATEGORIES:General
UID:20221010T1606150Z-594083-247@localendar.com
END:VEVENT
BEGIN:VEVENT
DTSTAMP:20260420T125743Z
DTSTART;VALUE=DATE:20230930
SUMMARY:+
RRULE:FREQ=DAILY;COUNT=8
DESCRIPTION:
X-ALT-DESC;FMTTYPE=text/html:
CATEGORIES:General
UID:20221010T1607010Z-594083-248@localendar.com
END:VEVENT
BEGIN:VEVENT
DTSTAMP:20260420T125743Z
DTSTART;VALUE=DATE:20231007
SUMMARY:+
RRULE:FREQ=DAILY;COUNT=8
DESCRIPTION:
X-ALT-DESC;FMTTYPE=text/html:
CATEGORIES:General
UID:20221010T1607370Z-594083-249@localendar.com
END:VEVENT
BEGIN:VEVENT
DTSTAMP:20260420T125743Z
DTSTART;VALUE=DATE:20231014
SUMMARY:+
RRULE:FREQ=DAILY;COUNT=8
DESCRIPTION:
X-ALT-DESC;FMTTYPE=text/html:
CATEGORIES:General
UID:20221010T1608070Z-594083-250@localendar.com
END:VEVENT
BEGIN:VEVENT
DTSTAMP:20260420T125743Z
DTSTART;VALUE=DATE:20231021
SUMMARY:+
RRULE:FREQ=DAILY;COUNT=8
DESCRIPTION:
X-ALT-DESC;FMTTYPE=text/html:
CATEGORIES:General
UID:20221010T1608400Z-594083-251@localendar.com
END:VEVENT
BEGIN:VEVENT
DTSTAMP:20260420T125743Z
DTSTART;VALUE=DATE:20231028
SUMMARY:-
RRULE:FREQ=DAILY;COUNT=155
DESCRIPTION:
X-ALT-DESC;FMTTYPE=text/html:
CATEGORIES:General
UID:20221118T1319120Z-594083-252@localendar.com
END:VEVENT
END:VCALENDAR
