BEGIN:VCALENDAR
PRODID:-//Ben Fortuna//iCal4j 1.0//EN
VERSION:2.0
CALSCALE:GREGORIAN
BEGIN:VTIMEZONE
TZID:America/New_York
LAST-MODIFIED:20260306T231828Z
TZURL:https://www.tzurl.org/zoneinfo-outlook/America/New_York
X-LIC-LOCATION:America/New_York
BEGIN:DAYLIGHT
TZNAME:EDT
TZOFFSETFROM:-0500
TZOFFSETTO:-0400
DTSTART:19700308T020000
RRULE:FREQ=YEARLY;BYMONTH=3;BYDAY=2SU
END:DAYLIGHT
BEGIN:STANDARD
TZNAME:EST
TZOFFSETFROM:-0400
TZOFFSETTO:-0500
DTSTART:19701101T020000
RRULE:FREQ=YEARLY;BYMONTH=11;BYDAY=1SU
END:STANDARD
END:VTIMEZONE
BEGIN:VEVENT
DTSTAMP:20260420T073856Z
DTSTART;TZID=America/New_York:20210921T140000
DTEND;TZID=America/New_York:20210921T150000
SUMMARY:CCUF Tools Working Group Meeting (Meet)
RRULE:FREQ=MONTHLY;UNTIL=20221103;BYDAY=4TU
DESCRIPTION:Join by Google Meet meet.google.com/zdu-ouka-jmz Join by phone 
 (US) +1 941-800-3032 PIN: 143 769 746 #   More phone numbers
X-ALT-DESC;FMTTYPE=text/html:<p>Join by Google Meet</p>  <p><a href='https:
 //meet.google.com/zdu-ouka-jmz' target='_blank'>meet.google.com/zdu-ouka-j
 mz</a></p>  <p><a class='goktNc' href='tel:+1-941-800-3032' target='_blank
 ' rel='noreferrer noopener'>Join by phone</a></p>  <div class='DN1TJ fX8Pq
 c CyPPBf'>(US) +1 941-800-3032 PIN: 143 769 746 #</div>  <div class='DN1TJ
  fX8Pqc CyPPBf'>&nbsp\;</div>  <div class='DN1TJ fX8Pqc CyPPBf'><a href='h
 ttps://meet.google.com/tel/zdu-ouka-jmz?pin=3668835567937&amp\;hs=1' targe
 t='_blank'>More phone numbers</a></div>
CATEGORIES:General
UID:20210901T1551270Z-595680-7@localendar.com
END:VEVENT
END:VCALENDAR
