BEGIN:VCALENDAR
PRODID:-//Ben Fortuna//iCal4j 1.0//EN
VERSION:2.0
CALSCALE:GREGORIAN
BEGIN:VTIMEZONE
TZID:America/New_York
LAST-MODIFIED:20260306T231828Z
TZURL:https://www.tzurl.org/zoneinfo-outlook/America/New_York
X-LIC-LOCATION:America/New_York
BEGIN:DAYLIGHT
TZNAME:EDT
TZOFFSETFROM:-0500
TZOFFSETTO:-0400
DTSTART:19700308T020000
RRULE:FREQ=YEARLY;BYMONTH=3;BYDAY=2SU
END:DAYLIGHT
BEGIN:STANDARD
TZNAME:EST
TZOFFSETFROM:-0400
TZOFFSETTO:-0500
DTSTART:19701101T020000
RRULE:FREQ=YEARLY;BYMONTH=11;BYDAY=1SU
END:STANDARD
END:VTIMEZONE
BEGIN:VEVENT
DTSTAMP:20260422T215940Z
DTSTART;TZID=America/New_York:20230508T190000
DTEND;TZID=America/New_York:20230508T200000
SUMMARY:Open Boat call for reservations
DESCRIPTION:
X-ALT-DESC;FMTTYPE=text/html:
CATEGORIES:General
UID:20230508T2306520Z-3036577-2@localendar.com
END:VEVENT
BEGIN:VEVENT
DTSTAMP:20260422T215940Z
DTSTART;TZID=America/New_York:20230512T070000
DTEND;TZID=America/New_York:20230512T110000
SUMMARY:Open Boat call for reservations
DESCRIPTION:
X-ALT-DESC;FMTTYPE=text/html:
CATEGORIES:General
UID:20230508T2307520Z-3036577-3@localendar.com
END:VEVENT
BEGIN:VEVENT
DTSTAMP:20260422T215940Z
DTSTART;TZID=America/New_York:20230512T120000
DTEND;TZID=America/New_York:20230512T160000
SUMMARY:Open Boat call for reservations
DESCRIPTION:
X-ALT-DESC;FMTTYPE=text/html:
CATEGORIES:General
UID:20230508T2309570Z-3036577-4@localendar.com
END:VEVENT
BEGIN:VEVENT
DTSTAMP:20260422T215940Z
DTSTART;TZID=America/New_York:20230512T070000
DTEND;TZID=America/New_York:20230512T110000
SUMMARY:Open Boat call for reservations
RRULE:FREQ=DAILY;COUNT=113
DESCRIPTION:
X-ALT-DESC;FMTTYPE=text/html:
CATEGORIES:General
UID:20230508T2313500Z-3036577-5@localendar.com
END:VEVENT
BEGIN:VEVENT
DTSTAMP:20260422T215940Z
DTSTART;TZID=America/New_York:20230512T120000
DTEND;TZID=America/New_York:20230512T160000
SUMMARY:Open Boat call for reservations
RRULE:FREQ=DAILY;COUNT=113
EXDATE;TZID=America/New_York:20230603T120000
DESCRIPTION:
X-ALT-DESC;FMTTYPE=text/html:
CATEGORIES:General
UID:20230508T2314340Z-3036577-6@localendar.com
END:VEVENT
BEGIN:VEVENT
DTSTAMP:20260422T215940Z
DTSTART;TZID=America/New_York:20230603T120000
DTEND;TZID=America/New_York:20230603T160000
SUMMARY:private charter
DESCRIPTION:
X-ALT-DESC;FMTTYPE=text/html:
CATEGORIES:General
UID:20230508T2317460Z-3036577-7@localendar.com
END:VEVENT
BEGIN:VEVENT
DTSTAMP:20260422T215940Z
DTSTART;TZID=America/New_York:20250616T070000
DTEND;TZID=America/New_York:20250616T110000
SUMMARY:open boat fishing/call for reservations
RRULE:FREQ=DAILY;COUNT=107
EXDATE;TZID=America/New_York:20250623T070000
EXDATE;TZID=America/New_York:20250629T070000
EXDATE;TZID=America/New_York:20250703T070000
EXDATE;TZID=America/New_York:20250719T070000
DESCRIPTION:
X-ALT-DESC;FMTTYPE=text/html:
CATEGORIES:Outdoors
LOCATION:open boat fishing. Call for reservations
UID:20250616T2319060Z-3036577-8@localendar.com
END:VEVENT
BEGIN:VEVENT
DTSTAMP:20260422T215940Z
DTSTART;TZID=America/New_York:20250616T120000
DTEND;TZID=America/New_York:20250616T160000
SUMMARY:open boat fishing/call for reservations
RRULE:FREQ=DAILY;COUNT=107
EXDATE;TZID=America/New_York:20250623T120000
EXDATE;TZID=America/New_York:20250625T120000
EXDATE;TZID=America/New_York:20250706T120000
EXDATE;TZID=America/New_York:20250712T120000
EXDATE;TZID=America/New_York:20250715T120000
EXDATE;TZID=America/New_York:20250719T120000
EXDATE;TZID=America/New_York:20250727T120000
DESCRIPTION:
X-ALT-DESC;FMTTYPE=text/html:
CATEGORIES:General
UID:20250616T2320400Z-3036577-9@localendar.com
END:VEVENT
BEGIN:VEVENT
DTSTAMP:20260422T215940Z
DTSTART;TZID=America/New_York:20250625T120000
DTEND;TZID=America/New_York:20250625T160000
SUMMARY:private charter
DESCRIPTION:
X-ALT-DESC;FMTTYPE=text/html:
CATEGORIES:General
UID:20250616T2321580Z-3036577-10@localendar.com
END:VEVENT
BEGIN:VEVENT
DTSTAMP:20260422T215940Z
DTSTART;TZID=America/New_York:20250629T070000
DTEND;TZID=America/New_York:20250629T110000
SUMMARY:private charter
DESCRIPTION:
X-ALT-DESC;FMTTYPE=text/html:
CATEGORIES:Outdoors
LOCATION:open boat fishing. Call for reservations
UID:20250616T2322480Z-3036577-11@localendar.com
END:VEVENT
BEGIN:VEVENT
DTSTAMP:20260422T215940Z
DTSTART;TZID=America/New_York:20250703T070000
DTEND;TZID=America/New_York:20250703T110000
SUMMARY:private charter
DESCRIPTION:
X-ALT-DESC;FMTTYPE=text/html:
CATEGORIES:Outdoors
LOCATION:open boat fishing. Call for reservations
UID:20250616T2323580Z-3036577-12@localendar.com
END:VEVENT
BEGIN:VEVENT
DTSTAMP:20260422T215940Z
DTSTART;TZID=America/New_York:20250706T120000
DTEND;TZID=America/New_York:20250706T160000
SUMMARY:private charter
DESCRIPTION:
X-ALT-DESC;FMTTYPE=text/html:
CATEGORIES:General
UID:20250616T2324320Z-3036577-13@localendar.com
END:VEVENT
BEGIN:VEVENT
DTSTAMP:20260422T215940Z
DTSTART;TZID=America/New_York:20250712T120000
DTEND;TZID=America/New_York:20250712T160000
SUMMARY:private charter
DESCRIPTION:
X-ALT-DESC;FMTTYPE=text/html:
CATEGORIES:General
UID:20250616T2325230Z-3036577-14@localendar.com
END:VEVENT
BEGIN:VEVENT
DTSTAMP:20260422T215940Z
DTSTART;TZID=America/New_York:20250715T120000
DTEND;TZID=America/New_York:20250715T160000
SUMMARY:private charter
DESCRIPTION:
X-ALT-DESC;FMTTYPE=text/html:
CATEGORIES:General
UID:20250616T2326030Z-3036577-15@localendar.com
END:VEVENT
BEGIN:VEVENT
DTSTAMP:20260422T215940Z
DTSTART;TZID=America/New_York:20250719T120000
DTEND;TZID=America/New_York:20250719T160000
SUMMARY:private charter
DESCRIPTION:
X-ALT-DESC;FMTTYPE=text/html:
CATEGORIES:General
UID:20250616T2327140Z-3036577-17@localendar.com
END:VEVENT
BEGIN:VEVENT
DTSTAMP:20260422T215940Z
DTSTART;TZID=America/New_York:20250719T070000
DTEND;TZID=America/New_York:20250719T110000
SUMMARY:private charter
DESCRIPTION:
X-ALT-DESC;FMTTYPE=text/html:
CATEGORIES:Outdoors
LOCATION:open boat fishing. Call for reservations
UID:20250616T2326490Z-3036577-16@localendar.com
END:VEVENT
BEGIN:VEVENT
DTSTAMP:20260422T215940Z
DTSTART;TZID=America/New_York:20250727T120000
DTEND;TZID=America/New_York:20250727T160000
SUMMARY:private charter
DESCRIPTION:
X-ALT-DESC;FMTTYPE=text/html:
CATEGORIES:General
UID:20250616T2328060Z-3036577-18@localendar.com
END:VEVENT
BEGIN:VEVENT
DTSTAMP:20260422T215940Z
DTSTART;TZID=America/New_York:20250623T070000
DTEND;TZID=America/New_York:20250623T110000
SUMMARY:private charter
DESCRIPTION:
X-ALT-DESC;FMTTYPE=text/html:
CATEGORIES:Outdoors
LOCATION:open boat fishing. Call for reservations
UID:20250622T2352260Z-3036577-19@localendar.com
END:VEVENT
BEGIN:VEVENT
DTSTAMP:20260422T215940Z
DTSTART;TZID=America/New_York:20250623T120000
DTEND;TZID=America/New_York:20250623T160000
SUMMARY:private charter
DESCRIPTION:
X-ALT-DESC;FMTTYPE=text/html:
CATEGORIES:General
UID:20250622T2352530Z-3036577-20@localendar.com
END:VEVENT
END:VCALENDAR
