BEGIN:VCALENDAR
PRODID:-//Ben Fortuna//iCal4j 1.0//EN
VERSION:2.0
CALSCALE:GREGORIAN
BEGIN:VTIMEZONE
TZID:America/New_York
LAST-MODIFIED:20260306T231828Z
TZURL:https://www.tzurl.org/zoneinfo-outlook/America/New_York
X-LIC-LOCATION:America/New_York
BEGIN:DAYLIGHT
TZNAME:EDT
TZOFFSETFROM:-0500
TZOFFSETTO:-0400
DTSTART:19700308T020000
RRULE:FREQ=YEARLY;BYMONTH=3;BYDAY=2SU
END:DAYLIGHT
BEGIN:STANDARD
TZNAME:EST
TZOFFSETFROM:-0400
TZOFFSETTO:-0500
DTSTART:19701101T020000
RRULE:FREQ=YEARLY;BYMONTH=11;BYDAY=1SU
END:STANDARD
END:VTIMEZONE
BEGIN:VEVENT
DTSTAMP:20260421T103510Z
DTSTART;TZID=America/New_York:20220904T200000
DTEND;TZID=America/New_York:20220905T000000
SUMMARY:Firepit Campground in Millville 
DESCRIPTION:TGB at the Firepit for the first time!
X-ALT-DESC;FMTTYPE=text/html:<p>TGB at the Firepit for the first time!</p>
CATEGORIES:Entertainment
LOCATION:Firepit Campground
UID:20220831T0226160Z-417825-807@localendar.com
END:VEVENT
BEGIN:VEVENT
DTSTAMP:20260421T103510Z
DTSTART;TZID=America/New_York:20220901T200000
DTEND;TZID=America/New_York:20220902T000000
SUMMARY:Private Party
DESCRIPTION:
X-ALT-DESC;FMTTYPE=text/html:
CATEGORIES:Entertainment
LOCATION:Newfoundland
UID:20220831T0227460Z-417825-808@localendar.com
END:VEVENT
BEGIN:VEVENT
DTSTAMP:20260421T103510Z
DTSTART;TZID=America/New_York:20220917T180000
DTEND;TZID=America/New_York:20220917T220000
SUMMARY:Eagle Rock Country Dance
DESCRIPTION:TGB@ Eagle Rock!
X-ALT-DESC;FMTTYPE=text/html:<p>TGB@ Eagle Rock!</p>
CATEGORIES:Entertainment
LOCATION:Eagle Rock
UID:20220831T0230480Z-417825-809@localendar.com
END:VEVENT
BEGIN:VEVENT
DTSTAMP:20260421T103510Z
DTSTART;TZID=America/New_York:20220918T200000
DTEND;TZID=America/New_York:20220918T220000
SUMMARY:TGB @ NPEA Fair
DESCRIPTION:Taking the stage for the first time at the Fair!
X-ALT-DESC;FMTTYPE=text/html:<p>Taking the stage for the first time at the 
 Fair!</p>
CATEGORIES:Entertainment
LOCATION:NPEA Fair
UID:20220831T0236030Z-417825-810@localendar.com
END:VEVENT
BEGIN:VEVENT
DTSTAMP:20260421T103510Z
DTSTART;TZID=America/New_York:20221009T130000
DTEND;TZID=America/New_York:20221009T170000
SUMMARY:Eagle Rock Harvest Fest
DESCRIPTION:
X-ALT-DESC;FMTTYPE=text/html:
CATEGORIES:Entertainment
LOCATION:Eagle Rock
UID:20220831T0239510Z-417825-811@localendar.com
END:VEVENT
BEGIN:VEVENT
DTSTAMP:20260421T103510Z
DTSTART;TZID=America/New_York:20221112T210000
DTEND;TZID=America/New_York:20221113T010000
SUMMARY:Stage West-State College
DESCRIPTION:
X-ALT-DESC;FMTTYPE=text/html:
CATEGORIES:Entertainment
LOCATION:Stage West
UID:20221113T1835350Z-417825-812@localendar.com
END:VEVENT
BEGIN:VEVENT
DTSTAMP:20260421T103510Z
DTSTART;TZID=America/New_York:20221126T210000
DTEND;TZID=America/New_York:20221127T010000
SUMMARY:V Spot Bar in Scranton
DESCRIPTION:After Thanksgiving Celebrations!
X-ALT-DESC;FMTTYPE=text/html:<p>After Thanksgiving Celebrations!</p>
CATEGORIES:Entertainment
LOCATION:The V Spot
UID:20221113T1837170Z-417825-813@localendar.com
END:VEVENT
BEGIN:VEVENT
DTSTAMP:20260421T103510Z
DTSTART;TZID=America/New_York:20230422T183000
DTEND;TZID=America/New_York:20230422T223000
SUMMARY:Private Party - Catawissa
DESCRIPTION:
X-ALT-DESC;FMTTYPE=text/html:
CATEGORIES:Entertainment
UID:20230402T1808140Z-417825-814@localendar.com
END:VEVENT
BEGIN:VEVENT
DTSTAMP:20260421T103510Z
DTSTART;TZID=America/New_York:20230610T180000
DTEND;TZID=America/New_York:20230610T220000
SUMMARY:Pisano Family Wines
DESCRIPTION:This will be the first time TGB will be playing at this  beauti
 ful Venue! We Hope to see our freinds there!
X-ALT-DESC;FMTTYPE=text/html:<p>This will be the first time TGB will be pla
 ying at this&nbsp\;</p>  <p>beautiful Venue! We Hope to see our freinds th
 ere!</p>
CATEGORIES:Entertainment
LOCATION:Pisano Family WInes
UID:20230402T1811520Z-417825-815@localendar.com
END:VEVENT
BEGIN:VEVENT
DTSTAMP:20260421T103510Z
DTSTART;TZID=America/New_York:20230623T193000
DTEND;TZID=America/New_York:20230623T230000
SUMMARY:Elmhurst/Roaring Brook Fireman's Picnic
DESCRIPTION:Tommy Guns is taking the stage for the 3rd year in  a row! Hope
  to see everyone having a great time in the Beer Tent!
X-ALT-DESC;FMTTYPE=text/html:<p>Tommy Guns is taking the stage for the 3rd 
 year in&nbsp\;</p>  <p>a row! Hope to see everyone having a great time in 
 the Beer Tent!</p>  <p></p>
CATEGORIES:Entertainment
LOCATION:Elmhurst/Roaring Brook Fire Co. Picnic
UID:20230402T1944510Z-417825-816@localendar.com
END:VEVENT
BEGIN:VEVENT
DTSTAMP:20260421T103510Z
DTSTART;TZID=America/New_York:20230715T203000
DTEND;TZID=America/New_York:20230716T003000
SUMMARY:Pocono Palace Resort
DESCRIPTION:The Tommy Guns Band returns to  the Lover's Paradise!
X-ALT-DESC;FMTTYPE=text/html:<p>The Tommy Guns Band returns to&nbsp\;</p>  
 <p>the Lover's Paradise!</p>
CATEGORIES:Entertainment
LOCATION:Pocono Palace Resort
UID:20230402T1947320Z-417825-817@localendar.com
END:VEVENT
BEGIN:VEVENT
DTSTAMP:20260421T103510Z
DTSTART;TZID=America/New_York:20230818T193000
DTEND;TZID=America/New_York:20230818T220000
SUMMARY:Harford Fair
DESCRIPTION:This is the first time TGB will be taking the stage at this ama
 zing fair!
X-ALT-DESC;FMTTYPE=text/html:<p>This is the first time TGB will be taking t
 he stage</p>  <p>at this amazing fair!</p>
CATEGORIES:Entertainment
LOCATION:Harford Fair
UID:20230403T2254320Z-417825-818@localendar.com
END:VEVENT
BEGIN:VEVENT
DTSTAMP:20260421T103510Z
DTSTART;TZID=America/New_York:20230819T180000
DTEND;TZID=America/New_York:20230819T220000
SUMMARY:Trails End Campground
DESCRIPTION:TGB will be joining the party at this amazing summer campground
 !
X-ALT-DESC;FMTTYPE=text/html:<p>TGB will be joining the party at this amazi
 ng summer campground!</p>
CATEGORIES:Entertainment
LOCATION:Trails end 
UID:20230403T2258110Z-417825-819@localendar.com
END:VEVENT
BEGIN:VEVENT
DTSTAMP:20260421T103510Z
DTSTART;TZID=America/New_York:20230826T180000
DTEND;TZID=America/New_York:20230826T220000
SUMMARY:Pisano Family Wines
DESCRIPTION:Tommy Guns will once again be performing at this wonderful Venu
 e!
X-ALT-DESC;FMTTYPE=text/html:<p>Tommy Guns will once again be performing at
  this wonderful Venue!</p>  <p></p>
CATEGORIES:Entertainment
LOCATION:Pisano Family WInes
UID:20230403T2303480Z-417825-820@localendar.com
END:VEVENT
BEGIN:VEVENT
DTSTAMP:20260421T103510Z
DTSTART;TZID=America/New_York:20230902T200000
DTEND;TZID=America/New_York:20230903T000000
SUMMARY:Fire Pit Campground
DESCRIPTION:Tommy Guns will be performing on Labor Day weekend again this y
 ear at the Fire Pit Campground!
X-ALT-DESC;FMTTYPE=text/html:<p>Tommy Guns will be performing on Labor Day 
 weekend again this year</p>  <p>at the Fire Pit Campground!</p>
CATEGORIES:Entertainment
UID:20230403T2306560Z-417825-821@localendar.com
END:VEVENT
END:VCALENDAR
