BEGIN:VCALENDAR
PRODID:-//Ben Fortuna//iCal4j 1.0//EN
VERSION:2.0
CALSCALE:GREGORIAN
BEGIN:VTIMEZONE
TZID:Europe/London
LAST-MODIFIED:20260306T231828Z
TZURL:https://www.tzurl.org/zoneinfo/Europe/London
X-LIC-LOCATION:Europe/London
X-PROLEPTIC-TZNAME:LMT
BEGIN:STANDARD
TZNAME:GMT
TZOFFSETFROM:-000115
TZOFFSETTO:+0000
DTSTART:18471201T000000
END:STANDARD
BEGIN:DAYLIGHT
TZNAME:BST
TZOFFSETFROM:+0000
TZOFFSETTO:+0100
DTSTART:19160521T020000
RDATE:19170408T020000
RDATE:19180324T020000
RDATE:19190330T020000
RDATE:19200328T020000
RDATE:19210403T020000
RDATE:19220326T020000
RDATE:19230422T020000
RDATE:19240413T020000
RDATE:19270410T020000
RDATE:19300413T020000
RDATE:19330409T020000
RDATE:19340422T020000
RDATE:19350414T020000
RDATE:19380410T020000
RDATE:19390416T020000
RDATE:19400225T020000
RDATE:19460414T020000
RDATE:19470316T020000
RDATE:19480314T020000
RDATE:19490403T020000
RDATE:19530419T020000
RDATE:19540411T020000
RDATE:19570414T020000
RDATE:19600410T020000
RDATE:19680218T020000
END:DAYLIGHT
BEGIN:STANDARD
TZNAME:GMT
TZOFFSETFROM:+0100
TZOFFSETTO:+0000
DTSTART:19161001T030000
RDATE:19170917T030000
RDATE:19180930T030000
RDATE:19190929T030000
RDATE:19201025T030000
RDATE:19211003T030000
RDATE:19221008T030000
RDATE:19391119T030000
RDATE:19471102T030000
RDATE:19481031T030000
RDATE:19491030T030000
RDATE:19711031T030000
END:STANDARD
BEGIN:STANDARD
TZNAME:GMT
TZOFFSETFROM:+0100
TZOFFSETTO:+0000
DTSTART:19230916T030000
RRULE:FREQ=YEARLY;UNTIL=19240921T020000Z;BYMONTH=9;BYMONTHDAY=16,17,18,19,2
 0,21,22;BYDAY=SU
END:STANDARD
BEGIN:DAYLIGHT
TZNAME:BST
TZOFFSETFROM:+0000
TZOFFSETTO:+0100
DTSTART:19250419T020000
RRULE:FREQ=YEARLY;UNTIL=19260418T020000Z;BYMONTH=4;BYMONTHDAY=16,17,18,19,2
 0,21,22;BYDAY=SU
END:DAYLIGHT
BEGIN:STANDARD
TZNAME:GMT
TZOFFSETFROM:+0100
TZOFFSETTO:+0000
DTSTART:19251004T030000
RRULE:FREQ=YEARLY;UNTIL=19381002T020000Z;BYMONTH=10;BYMONTHDAY=2,3,4,5,6,7,
 8;BYDAY=SU
END:STANDARD
BEGIN:DAYLIGHT
TZNAME:BST
TZOFFSETFROM:+0000
TZOFFSETTO:+0100
DTSTART:19280422T020000
RRULE:FREQ=YEARLY;UNTIL=19290421T020000Z;BYMONTH=4;BYMONTHDAY=16,17,18,19,2
 0,21,22;BYDAY=SU
END:DAYLIGHT
BEGIN:DAYLIGHT
TZNAME:BST
TZOFFSETFROM:+0000
TZOFFSETTO:+0100
DTSTART:19310419T020000
RRULE:FREQ=YEARLY;UNTIL=19320417T020000Z;BYMONTH=4;BYMONTHDAY=16,17,18,19,2
 0,21,22;BYDAY=SU
END:DAYLIGHT
BEGIN:DAYLIGHT
TZNAME:BST
TZOFFSETFROM:+0000
TZOFFSETTO:+0100
DTSTART:19360419T020000
RRULE:FREQ=YEARLY;UNTIL=19370418T020000Z;BYMONTH=4;BYMONTHDAY=16,17,18,19,2
 0,21,22;BYDAY=SU
END:DAYLIGHT
BEGIN:DAYLIGHT
TZNAME:BDST
TZOFFSETFROM:+0100
TZOFFSETTO:+0200
DTSTART:19410504T020000
RDATE:19450402T020000
RDATE:19470413T020000
END:DAYLIGHT
BEGIN:DAYLIGHT
TZNAME:BST
TZOFFSETFROM:+0200
TZOFFSETTO:+0100
DTSTART:19410810T030000
RRULE:FREQ=YEARLY;UNTIL=19430815T010000Z;BYMONTH=8;BYMONTHDAY=9,10,11,12,13
 ,14,15;BYDAY=SU
END:DAYLIGHT
BEGIN:DAYLIGHT
TZNAME:BDST
TZOFFSETFROM:+0100
TZOFFSETTO:+0200
DTSTART:19420405T020000
RRULE:FREQ=YEARLY;UNTIL=19440402T010000Z;BYMONTH=4;BYMONTHDAY=2,3,4,5,6,7,8
 ;BYDAY=SU
END:DAYLIGHT
BEGIN:DAYLIGHT
TZNAME:BST
TZOFFSETFROM:+0200
TZOFFSETTO:+0100
DTSTART:19440917T030000
RDATE:19450715T030000
RDATE:19470810T030000
END:DAYLIGHT
BEGIN:STANDARD
TZNAME:GMT
TZOFFSETFROM:+0100
TZOFFSETTO:+0000
DTSTART:19451007T030000
RRULE:FREQ=YEARLY;UNTIL=19461006T020000Z;BYMONTH=10;BYMONTHDAY=2,3,4,5,6,7,
 8;BYDAY=SU
END:STANDARD
BEGIN:DAYLIGHT
TZNAME:BST
TZOFFSETFROM:+0000
TZOFFSETTO:+0100
DTSTART:19500416T020000
RRULE:FREQ=YEARLY;UNTIL=19520420T020000Z;BYMONTH=4;BYMONTHDAY=14,15,16,17,1
 8,19,20;BYDAY=SU
END:DAYLIGHT
BEGIN:STANDARD
TZNAME:GMT
TZOFFSETFROM:+0100
TZOFFSETTO:+0000
DTSTART:19501022T030000
RRULE:FREQ=YEARLY;UNTIL=19521026T020000Z;BYMONTH=10;BYMONTHDAY=21,22,23,24,
 25,26,27;BYDAY=SU
END:STANDARD
BEGIN:STANDARD
TZNAME:GMT
TZOFFSETFROM:+0100
TZOFFSETTO:+0000
DTSTART:19531004T030000
RRULE:FREQ=YEARLY;UNTIL=19601002T020000Z;BYMONTH=10;BYMONTHDAY=2,3,4,5,6,7,
 8;BYDAY=SU
END:STANDARD
BEGIN:DAYLIGHT
TZNAME:BST
TZOFFSETFROM:+0000
TZOFFSETTO:+0100
DTSTART:19550417T020000
RRULE:FREQ=YEARLY;UNTIL=19560422T020000Z;BYMONTH=4;BYMONTHDAY=16,17,18,19,2
 0,21,22;BYDAY=SU
END:DAYLIGHT
BEGIN:DAYLIGHT
TZNAME:BST
TZOFFSETFROM:+0000
TZOFFSETTO:+0100
DTSTART:19580420T020000
RRULE:FREQ=YEARLY;UNTIL=19590419T020000Z;BYMONTH=4;BYMONTHDAY=16,17,18,19,2
 0,21,22;BYDAY=SU
END:DAYLIGHT
BEGIN:DAYLIGHT
TZNAME:BST
TZOFFSETFROM:+0000
TZOFFSETTO:+0100
DTSTART:19610326T020000
RRULE:FREQ=YEARLY;UNTIL=19630331T020000Z;BYMONTH=3;BYDAY=-1SU
END:DAYLIGHT
BEGIN:STANDARD
TZNAME:GMT
TZOFFSETFROM:+0100
TZOFFSETTO:+0000
DTSTART:19611029T030000
RRULE:FREQ=YEARLY;UNTIL=19671029T020000Z;BYMONTH=10;BYMONTHDAY=23,24,25,26,
 27,28,29;BYDAY=SU
END:STANDARD
BEGIN:DAYLIGHT
TZNAME:BST
TZOFFSETFROM:+0000
TZOFFSETTO:+0100
DTSTART:19640322T020000
RRULE:FREQ=YEARLY;UNTIL=19670319T020000Z;BYMONTH=3;BYMONTHDAY=19,20,21,22,2
 3,24,25;BYDAY=SU
END:DAYLIGHT
BEGIN:STANDARD
TZNAME:BST
TZOFFSETFROM:+0100
TZOFFSETTO:+0100
DTSTART:19681027T000000
END:STANDARD
BEGIN:DAYLIGHT
TZNAME:BST
TZOFFSETFROM:+0000
TZOFFSETTO:+0100
DTSTART:19720319T020000
RRULE:FREQ=YEARLY;UNTIL=19800316T020000Z;BYMONTH=3;BYMONTHDAY=16,17,18,19,2
 0,21,22;BYDAY=SU
END:DAYLIGHT
BEGIN:STANDARD
TZNAME:GMT
TZOFFSETFROM:+0100
TZOFFSETTO:+0000
DTSTART:19721029T030000
RRULE:FREQ=YEARLY;UNTIL=19801026T020000Z;BYMONTH=10;BYMONTHDAY=23,24,25,26,
 27,28,29;BYDAY=SU
END:STANDARD
BEGIN:DAYLIGHT
TZNAME:BST
TZOFFSETFROM:+0000
TZOFFSETTO:+0100
DTSTART:19810329T010000
RRULE:FREQ=YEARLY;BYMONTH=3;BYDAY=-1SU
END:DAYLIGHT
BEGIN:STANDARD
TZNAME:GMT
TZOFFSETFROM:+0100
TZOFFSETTO:+0000
DTSTART:19811025T020000
RRULE:FREQ=YEARLY;UNTIL=19891029T010000Z;BYMONTH=10;BYMONTHDAY=23,24,25,26,
 27,28,29;BYDAY=SU
END:STANDARD
BEGIN:STANDARD
TZNAME:GMT
TZOFFSETFROM:+0100
TZOFFSETTO:+0000
DTSTART:19901028T020000
RRULE:FREQ=YEARLY;UNTIL=19951022T010000Z;BYMONTH=10;BYDAY=4SU
END:STANDARD
BEGIN:STANDARD
TZNAME:GMT
TZOFFSETFROM:+0000
TZOFFSETTO:+0000
DTSTART:19960101T000000
END:STANDARD
BEGIN:STANDARD
TZNAME:GMT
TZOFFSETFROM:+0100
TZOFFSETTO:+0000
DTSTART:19961027T020000
RRULE:FREQ=YEARLY;BYMONTH=10;BYDAY=-1SU
END:STANDARD
END:VTIMEZONE
BEGIN:VEVENT
DTSTAMP:20260425T152533Z
DTSTART;TZID=Europe/London:20231112T090000
DTEND;TZID=Europe/London:20231112T100000
SUMMARY:Inter Faith Week 2023
RRULE:FREQ=DAILY;COUNT=8
DESCRIPTION:THE AIMS OF THE WEEK ARE TO: Strengthen good inter faith relati
 ons at all levels Increase awareness of the different and distinct faith c
 ommunities in the UK\, in particular celebrating and building on the contr
 ibution which their members make to their neighbourhoods and to wider soci
 ety Increase understanding between people of religious and non-religious b
 eliefs Inter Faith Week
X-ALT-DESC;FMTTYPE=text/html:<p>THE AIMS OF THE WEEK&nbsp\;ARE TO:</p>  <ul
 >  <li>Strengthen good inter faith relations at all levels</li>  <li>Incre
 ase awareness of the different and distinct faith communities in the UK\, 
 in particular celebrating and building on the contribution which their mem
 bers make to their neighbourhoods and to wider society</li>  <li>Increase 
 understanding between people of religious and non-religious beliefs</li>  
 </ul>  <p><a href='https://www.interfaithweek.org/' target='_blank' title=
 'Visit the website to learn more about this event [ink opens in a new wind
 ow]' rel='nofollow'>Inter Faith Week</a></p>
CATEGORIES:General
LOCATION:12-19 November 2023
UID:20231109T2135070Z-3091661-2@localendar.com
END:VEVENT
BEGIN:VEVENT
DTSTAMP:20260425T152533Z
DTSTART;VALUE=DATE:20231113
SUMMARY:Anti-bullying Week 2023: make a noise about bullying
RRULE:FREQ=DAILY;COUNT=5
DESCRIPTION:ABA are official organisers of Anti-Bullying Week and Odd Socks
  Day in England\, Wales and Northern Ireland. Anti-Bullying Week 2023 will
  take place from Monday 13th - Friday 17th November. The theme is Make A N
 oise About Bullying. In this section you will find everything you need to 
 help make a noise to stop bullying this Anti-Bullying Week. Anti-Bullying 
 Week 2023: Make A Noise About Bullying (anti-bullyingalliance.org.uk)
X-ALT-DESC;FMTTYPE=text/html:<p><span>ABA are official organisers of Anti-B
 ullying Week and Odd Socks Day in England\, Wales and Northern Ireland. An
 ti-Bullying Week 2023 will take place from Monday 13th - Friday 17th Novem
 ber. The theme is Make A Noise About Bullying. In this section you will fi
 nd everything you need to help make a noise to stop bullying this Anti-Bul
 lying Week.</span></p>  <p><span><a href='https://anti-bullyingalliance.or
 g.uk/anti-bullying-week-2023-make-noise-about-bullying' target='_blank' ti
 tle='View the website to learn more [link opens in a new window]' rel='nof
 ollow'>Anti-Bullying Week 2023: Make A Noise About Bullying (anti-bullying
 alliance.org.uk)</a></span></p>
CATEGORIES:General
UID:20231109T2139090Z-3091661-3@localendar.com
END:VEVENT
BEGIN:VEVENT
DTSTAMP:20260425T152533Z
DTSTART;VALUE=DATE:20231115
SUMMARY:National Safeguarding Adults’ Week
DESCRIPTION:Everyone has a right to be treated with respect  and dignity. E
 veryone deserves to be safe. As a leading authority in safeguarding adults
  at risk\, we want to live in a world where people live safely\, free from
  the risk of abuse. Through pioneering training\, practice reviews and con
 tributing to world-leading research\,  we support organisations to safegua
 rd adults at risk and  minimise the risk of harm. Ann Craft Trust: Safegua
 rding Adults at Risk
X-ALT-DESC;FMTTYPE=text/html:<p><strong>Everyone has a right to be treated 
 with respect  and dignity. Everyone deserves to be safe.</strong></p>  <p>
 As a leading authority in safeguarding adults at risk\, we want to live in
  a world where people live safely\, free from the risk of abuse.</p>  <p>T
 hrough pioneering training\, practice reviews and contributing to world-le
 ading research\,  we support organisations to safeguard adults at risk and
   minimise the risk of harm.</p>  <p><a href='https://www.anncrafttrust.or
 g/' target='_blank' title='Visit the website to learn more [link opens in 
 a new window]' rel='nofollow'>Ann Craft Trust: Safeguarding Adults at Risk
 </a></p>
CATEGORIES:General
UID:20231109T2141540Z-3091661-4@localendar.com
END:VEVENT
BEGIN:VEVENT
DTSTAMP:20260425T152533Z
DTSTART;VALUE=DATE:20231115
SUMMARY:Road Safety Week
RRULE:FREQ=DAILY;COUNT=7
DESCRIPTION:Our biggest annual road safety campaign Let’s talk about SPEED.
  Five people die on UK roads every day\, so why do we still think it’s OK 
 to speed? Take part in Road Safety Week 2023 and join the national convers
 ation. Road Safety Week | Brake
X-ALT-DESC;FMTTYPE=text/html:<p>Our biggest annual road safety campaign</p>
   <p><span>Let&rsquo\;s talk about SPEED. Five people die on UK roads ever
 y day\, so why do we still think it&rsquo\;s OK to speed? Take part in Roa
 d Safety Week 2023 and join the national conversation.</span></p>  <p><spa
 n><a href='https://www.brake.org.uk/road-safety-week' target='_blank' titl
 e='Visit the website to learn more [link opens in a new window]' rel='nofo
 llow'>Road Safety Week | Brake</a></span></p>
CATEGORIES:General
UID:20231109T2144220Z-3091661-5@localendar.com
END:VEVENT
BEGIN:VEVENT
DTSTAMP:20260425T152533Z
DTSTART;VALUE=DATE:20231125
SUMMARY:White Ribbon Day
DESCRIPTION:Ending violence against women and girls starts when we #ChangeT
 heStory White Ribbon Day 2023 — White Ribbon UK
X-ALT-DESC;FMTTYPE=text/html:<p>Ending violence against women and girls sta
 rts when we #ChangeTheStory</p>  <p><a href='https://www.whiteribbon.org.u
 k/white-ribbon-day-2023' target='_blank' title='Visit the website to learn
  more [link opens in a new window]' rel='nofollow'>White Ribbon Day 2023 &
 mdash\; White Ribbon UK</a></p>
CATEGORIES:General
UID:20231109T2146290Z-3091661-6@localendar.com
END:VEVENT
BEGIN:VEVENT
DTSTAMP:20260425T152533Z
DTSTART;TZID=Europe/London:20231203T090000
DTEND;TZID=Europe/London:20231203T100000
SUMMARY:International Day of People with Disabilities
DESCRIPTION:Inclusive\, accessible and sustainable societies. Our NDIS Serv
 ices Accessing your NDIS funding and transitioning to the Scheme is only h
 alf of the journey – the other half is about activating your plan and impl
 ementing the supports that meet your needs and preferences. We are the exp
 erts in tailoring your SIL plan so you can live as independently as possib
 le. International Day of People with Disabilities (idpwd.org)
X-ALT-DESC;FMTTYPE=text/html:<p>Inclusive\, accessible and sustainable soci
 eties.</p>  <p>Our NDIS Services</p>  <p><span>Accessing your NDIS funding
  and transitioning to the Scheme is only half of the journey &ndash\; the 
 other half is about activating your plan and implementing the supports tha
 t meet your needs and preferences. We are the experts in tailoring your SI
 L plan so you can live as independently as possible.</span></p>  <p><span>
 <a href='https://idpwd.org/' target='_blank' title='Visit the website to l
 earn more [link opens in a new window]' rel='nofollow'>International Day o
 f People with Disabilities (idpwd.org)</a></span></p>
CATEGORIES:General
UID:20231109T2149100Z-3091661-7@localendar.com
END:VEVENT
BEGIN:VEVENT
DTSTAMP:20260425T152533Z
DTSTART;VALUE=DATE:20231210
SUMMARY:Human Rights Day
DESCRIPTION:10 December 2023 marks the 75th anniversary of one of the world
 's most groundbreaking global pledges: the Universal Declaration of Human 
 Rights (UDHR). This landmark document enshrines the inalienable rights tha
 t everyone is entitled to as a human being - regardless of race\, colour\,
  religion\, sex\, language\, political or other opinion\, national or soci
 al origin\, property\, birth or other status. Human Rights Day | United Na
 tions
X-ALT-DESC;FMTTYPE=text/html:<p><span>10 December 2023 marks the 75th anniv
 ersary of one of the world's most groundbreaking global pledges: the&nbsp\
 ;</span><a href='https://www.un.org/en/about-us/universal-declaration-of-h
 uman-rights' rel='nofollow'>Universal Declaration of Human Rights</a><span
 >&nbsp\;(UDHR). This&nbsp\;landmark document enshrines the inalienable rig
 hts that everyone is entitled to as a human being - regardless of race\, c
 olour\, religion\, sex\, language\, political or other opinion\, national 
 or social origin\, property\, birth or other status.</span></p>  <p><span>
 <a href='https://www.un.org/en/observances/human-rights-day' target='_blan
 k' title='Visit the website to learn more [link opens in a new window]' re
 l='nofollow'>Human Rights Day | United Nations</a></span></p>
CATEGORIES:General
UID:20231109T2151190Z-3091661-8@localendar.com
END:VEVENT
BEGIN:VEVENT
DTSTAMP:20260425T152533Z
DTSTART;VALUE=DATE:20240215
SUMMARY:COA Awareness Week
DESCRIPTION:Children of Alcoholics (COA) Awareness week from 11-17 February
 . Nacoa provide support\, information and advice to children of alcohol-de
 pendent parents and others concerned with their welfare. Helpline: 0800 35
 8 3456 Email: helpline@nacoa.org.uk Website: www.nacoa.org.uk
X-ALT-DESC;FMTTYPE=text/html:<p>Children of Alcoholics (COA) Awareness week
  from 11-17 February.</p>  <p>Nacoa provide support\, information and advi
 ce to children of alcohol-dependent parents and others concerned with thei
 r welfare.</p>  <p>Helpline: 0800 358 3456<br />Email:&nbsp\;<a href='mail
 to:helpline@nacoa.org.uk' rel='nofollow'>helpline@nacoa.org.uk</a><br />We
 bsite:&nbsp\;<a href='http://www.nacoa.org.uk/' rel='nofollow'>www.nacoa.o
 rg.uk</a></p>  <p></p>
CATEGORIES:General
UID:20240228T1306170Z-3091661-9@localendar.com
END:VEVENT
BEGIN:VEVENT
DTSTAMP:20260425T152533Z
DTSTART;VALUE=DATE:20240308
SUMMARY:International Women's Day
DESCRIPTION:Celebrate women's achievement. Raise awareness about discrimina
 tion. Take action to drive gender parity.IWD belongs to everyone\, everywh
 ere. Inclusion means all IWD action is valid. International Women's Day 20
 24 (internationalwomensday.com)
X-ALT-DESC;FMTTYPE=text/html:<p>Celebrate women's achievement. Raise awaren
 ess about discrimination. Take action to drive gender parity.IWD belongs t
 o everyone\, everywhere. Inclusion means all IWD action is valid.</p>  <p>
 <a href='https://www.internationalwomensday.com/' rel='nofollow'>Internati
 onal Women's Day 2024 (internationalwomensday.com)</a></p>
CATEGORIES:General
UID:20240304T1524210Z-3091661-10@localendar.com
END:VEVENT
BEGIN:VEVENT
DTSTAMP:20260425T152533Z
DTSTART;VALUE=DATE:20240318
SUMMARY:National Child Exploitation Awareness Day
DESCRIPTION:Monday\, 18 March marks National Child Exploitation Awareness D
 ay (CEADay). Across the country\, there will be activity to highlight the 
 issues surrounding child exploitation.  The day encourages everyone to thi
 nk\, spot and speak out against abuse. It also urges a zero tolerance appr
 oach to adults developing inappropriate relationships with children\, or c
 hildren exploiting and abusing their peers.
X-ALT-DESC;FMTTYPE=text/html:<p>Monday\, 18 March marks <a href='https://ln
 ks.gd/l/eyJhbGciOiJIUzI1NiJ9.eyJidWxsZXRpbl9saW5rX2lkIjoxMDUsInVyaSI6ImJwM
 jpjbGljayIsInVybCI6Imh0dHBzOi8vc3RvcC1jZS5vcmcvP21lZGl1bT1lbWFpbCZzb3VyY2U
 9R292RGVsaXZlcnkiLCJidWxsZXRpbl9pZCI6IjIwMjQwMzAxLjkxMDc5ODQxIn0.V-MMocOwQ
 _bms2rEKBdlia4S-ec4r-UpY_6nc_mgCzM/s/677431518/br/238023258245-l' rel='nof
 ollow'>National Child Exploitation Awareness Day</a> (CEADay). Across the 
 country\, there will be activity to highlight the issues surrounding child
  exploitation.&nbsp\; The day encourages everyone to think\, spot and spea
 k out against abuse. It also urges a zero tolerance approach to adults dev
 eloping inappropriate relationships with children\, or children exploiting
  and abusing their peers.</p>
CATEGORIES:General
UID:20240304T1531540Z-3091661-12@localendar.com
END:VEVENT
BEGIN:VEVENT
DTSTAMP:20260425T152533Z
DTSTART;VALUE=DATE:20240313
SUMMARY:Young Carers Action Day
DESCRIPTION:This year\, Young Carers Action Day is on Wednesday 13 March. T
 he campaign is run by the Carers Trust\, and the theme is fair futures for
  young carers. Home - Carers Trust carers.org
X-ALT-DESC;FMTTYPE=text/html:<p>This year\, Young Carers Action Day is on W
 ednesday 13 March. The campaign is run by the Carers Trust\, and the theme
  is fair futures for young carers.</p>  <p><a href='https://carers.org/' r
 el='nofollow'>Home - Carers Trust</a>&nbsp\;carers.org</p>  <p></p>
CATEGORIES:General
UID:20240304T1527040Z-3091661-11@localendar.com
END:VEVENT
BEGIN:VEVENT
DTSTAMP:20260425T152533Z
DTSTART;TZID=Europe/London:20241118T140000
DTEND;TZID=Europe/London:20241118T163000
SUMMARY:BFSB Safeguarding Forum
DESCRIPTION:“Safeguarding Together: Tackling Key Issues Through Partnership
  Working\,” scheduled for 18 November from 2pm to 4.30pm. This forum will 
 feature insightful presentations on crucial safeguarding topics\, includin
 g: All-age exploitation approach in Bracknell Forest – Lisa Bursill Explor
 e themes coming through for the all-age exploitation approach including th
 e principles of partnership working in the context of exploitation.   Tran
 sitional Safeguarding – Brian Boxall Highlight national insights on transi
 tional safeguarding and how Bracknell Forest’s all-age approach is contrib
 uting.   Working Together to Safeguard Children 2023 – Teresa Bell What wi
 ll the changes mean for Bracknell Forest and its partners and what are the
  plans for implementation?   Discriminatory Abuse – Anusree Biswas Gain a 
 better understanding of discriminatory abuse\, with a focus on fostering p
 rofessional curiosity and enhancing community engagement. Join us as we un
 ite in action to safeguard children and vulnerable adults through effectiv
 e partnership working. Contact BFSB@bracknell-forest.gov.uk to book on
X-ALT-DESC;FMTTYPE=text/html:<p><strong>&ldquo\;Safeguarding Together: Tack
 ling Key Issues Through Partnership Working\,&rdquo\;</strong> scheduled f
 or <strong>18 November from 2pm to 4.30pm</strong>.</p>  <p>This forum wil
 l feature insightful presentations on crucial safeguarding topics\, includ
 ing:</p>  <ul>  <li><strong>All-age exploitation approach in Bracknell For
 est</strong> &ndash\; Lisa Bursill<br /> Explore themes coming through for
  the all-age exploitation approach including the principles of partnership
  working in the context of exploitation.<br /> &nbsp\;</li>  <li><strong>T
 ransitional Safeguarding</strong> &ndash\; Brian Boxall<br /> Highlight na
 tional insights on transitional safeguarding and how Bracknell Forest&rsqu
 o\;s all-age approach is contributing.<br /> &nbsp\;</li>  <li><strong>Wor
 king Together to Safeguard Children</strong> <strong>2023</strong> &ndash\
 ; Teresa Bell<br /> What will the changes mean for Bracknell Forest and it
 s partners and what are the plans for implementation?<br /> &nbsp\;</li>  
 <li><strong>Discriminatory Abuse</strong> &ndash\; Anusree Biswas<br /> Ga
 in a better understanding of discriminatory abuse\, with a focus on foster
 ing professional curiosity and enhancing community engagement.</li>  </ul>
   <p>Join us as we unite in action to safeguard children and vulnerable ad
 ults through effective partnership working.</p>  <p>Contact BFSB@bracknell
 -forest.gov.uk to book on</p>
CATEGORIES:General
LOCATION:Online
UID:20241105T1435180Z-3091661-13@localendar.com
END:VEVENT
END:VCALENDAR
