BEGIN:VCALENDAR
PRODID:-//Ben Fortuna//iCal4j 1.0//EN
VERSION:2.0
CALSCALE:GREGORIAN
BEGIN:VTIMEZONE
TZID:America/New_York
LAST-MODIFIED:20260306T231828Z
TZURL:https://www.tzurl.org/zoneinfo-outlook/America/New_York
X-LIC-LOCATION:America/New_York
BEGIN:DAYLIGHT
TZNAME:EDT
TZOFFSETFROM:-0500
TZOFFSETTO:-0400
DTSTART:19700308T020000
RRULE:FREQ=YEARLY;BYMONTH=3;BYDAY=2SU
END:DAYLIGHT
BEGIN:STANDARD
TZNAME:EST
TZOFFSETFROM:-0400
TZOFFSETTO:-0500
DTSTART:19701101T020000
RRULE:FREQ=YEARLY;BYMONTH=11;BYDAY=1SU
END:STANDARD
END:VTIMEZONE
BEGIN:VEVENT
DTSTAMP:20260425T004936Z
DTSTART;TZID=America/New_York:20190810T220000
DTEND;TZID=America/New_York:20190810T230000
SUMMARY:CDCM FIRST BAPTISM
DESCRIPTION:
X-ALT-DESC;FMTTYPE=text/html:
CATEGORIES:General
LOCATION:CONNALLY CHRISTIAN MINISTRIES
UID:20190131T0332020Z-577254-54@localendar.com
END:VEVENT
BEGIN:VEVENT
DTSTAMP:20260425T004936Z
DTSTART;TZID=America/New_York:20190818T220000
DTEND;TZID=America/New_York:20190818T230000
SUMMARY:CDCM ANNIVERSARY 
DESCRIPTION:
X-ALT-DESC;FMTTYPE=text/html:
CATEGORIES:General
LOCATION:CONNALLY DRIVE CHRISTIAN MINISTRIES
UID:20190131T0334240Z-577254-55@localendar.com
END:VEVENT
BEGIN:VEVENT
DTSTAMP:20260425T004936Z
DTSTART;TZID=America/New_York:20190921T220000
DTEND;TZID=America/New_York:20190921T230000
SUMMARY:CDCM CHOIR ANNIVERSARY
DESCRIPTION:
X-ALT-DESC;FMTTYPE=text/html:
CATEGORIES:General
LOCATION:CONNALLY DRIVE CHRISTIAN MINISTRIES
UID:20190131T0335430Z-577254-56@localendar.com
END:VEVENT
BEGIN:VEVENT
DTSTAMP:20260425T004936Z
DTSTART;TZID=America/New_York:20191019T220000
DTEND;TZID=America/New_York:20191019T230000
SUMMARY:CDCM COMMUNITY DAY
DESCRIPTION:
X-ALT-DESC;FMTTYPE=text/html:
CATEGORIES:General
LOCATION:CONNALLY DRIVE CHRISTIAN MINISTRIES
UID:20190131T0336430Z-577254-57@localendar.com
END:VEVENT
BEGIN:VEVENT
DTSTAMP:20260425T004936Z
DTSTART;TZID=America/New_York:20191020T220000
DTEND;TZID=America/New_York:20191020T230000
SUMMARY:PASTOR'S DAY 
DESCRIPTION:
X-ALT-DESC;FMTTYPE=text/html:
CATEGORIES:General
LOCATION:CONNALLY DRIVE CHRISTIAN MINISTRIES
UID:20190131T0337440Z-577254-58@localendar.com
END:VEVENT
BEGIN:VEVENT
DTSTAMP:20260425T004936Z
DTSTART;TZID=America/New_York:20191123T220000
DTEND;TZID=America/New_York:20191123T230000
SUMMARY:CDCM THANKSGIVING DINNER
DESCRIPTION:
X-ALT-DESC;FMTTYPE=text/html:
CATEGORIES:General
LOCATION:CONNALLY DRIVE CHRISTIAN MINISTRIES
UID:20190131T0338510Z-577254-59@localendar.com
END:VEVENT
BEGIN:VEVENT
DTSTAMP:20260425T004936Z
DTSTART;TZID=America/New_York:20240904T103000
DTEND;TZID=America/New_York:20240904T120000
SUMMARY:Sunday Morning Worship
RRULE:FREQ=WEEKLY;UNTIL=20250101;BYDAY=SU
DESCRIPTION:
X-ALT-DESC;FMTTYPE=text/html:
CATEGORIES:General
UID:20240904T1734200Z-577254-60@localendar.com
END:VEVENT
BEGIN:VEVENT
DTSTAMP:20260425T004936Z
DTSTART;TZID=America/New_York:20240902T170000
DTEND;TZID=America/New_York:20240902T173000
SUMMARY:Intercessory Prayer
RRULE:FREQ=DAILY;COUNT=122
EXDATE;TZID=America/New_York:20240907T170000
EXDATE;TZID=America/New_York:20240908T170000
EXDATE;TZID=America/New_York:20240915T170000
EXDATE;TZID=America/New_York:20240921T170000
EXDATE;TZID=America/New_York:20240922T170000
EXDATE;TZID=America/New_York:20241005T170000
EXDATE;TZID=America/New_York:20241006T170000
EXDATE;TZID=America/New_York:20241012T170000
EXDATE;TZID=America/New_York:20241013T170000
EXDATE;TZID=America/New_York:20241019T170000
EXDATE;TZID=America/New_York:20241020T170000
EXDATE;TZID=America/New_York:20241026T170000
EXDATE;TZID=America/New_York:20241027T170000
EXDATE;TZID=America/New_York:20241102T170000
EXDATE;TZID=America/New_York:20241103T170000
EXDATE;TZID=America/New_York:20241109T170000
EXDATE;TZID=America/New_York:20241110T170000
EXDATE;TZID=America/New_York:20241116T170000
EXDATE;TZID=America/New_York:20241123T170000
EXDATE;TZID=America/New_York:20241130T170000
EXDATE;TZID=America/New_York:20240914T170000
EXDATE;TZID=America/New_York:20240928T170000
EXDATE;TZID=America/New_York:20240929T170000
DESCRIPTION:Phone 540-792-0132 Access Code 860275
X-ALT-DESC;FMTTYPE=text/html:<p>Phone 540-792-0132</p>  <p>Access Code 8602
 75</p>
CATEGORIES:General
UID:20240908T1506490Z-577254-61@localendar.com
END:VEVENT
BEGIN:VEVENT
DTSTAMP:20260425T004936Z
DTSTART;TZID=America/New_York:20250302T091500
DTEND;TZID=America/New_York:20250302T100000
SUMMARY:Sunday School 
RRULE:FREQ=WEEKLY;UNTIL=20251228;BYDAY=SU
DESCRIPTION:Can be viewed online Via our Facebook Page
X-ALT-DESC;FMTTYPE=text/html:<p><span style='color: #ffffff\;'>Can be viewe
 d online Via our Facebook Page</span></p>
CATEGORIES:General
UID:20250909T2333520Z-577254-62@localendar.com
END:VEVENT
BEGIN:VEVENT
DTSTAMP:20260425T004936Z
DTSTART;TZID=America/New_York:20240905T190000
DTEND;TZID=America/New_York:20240905T200000
SUMMARY:Bible Study
RRULE:FREQ=WEEKLY;UNTIL=20250101;BYDAY=TH
DESCRIPTION:Bible Study may be viewed via our Facebook page.
X-ALT-DESC;FMTTYPE=text/html:<p>Bible Study may be viewed via our Facebook 
 page.</p>
CATEGORIES:General
UID:20240904T1751440Z-577254-63@localendar.com
END:VEVENT
BEGIN:VEVENT
DTSTAMP:20260425T004936Z
DTSTART;TZID=America/New_York:20240914T103000
DTEND;TZID=America/New_York:20240914T113000
SUMMARY:Women's Fellowship  10:30am
RRULE:FREQ=MONTHLY;WKST=SU;UNTIL=20241231;BYMONTHDAY=14
DESCRIPTION:
X-ALT-DESC;FMTTYPE=text/html:
CATEGORIES:General
UID:20240908T1504020Z-577254-64@localendar.com
END:VEVENT
BEGIN:VEVENT
DTSTAMP:20260425T004936Z
DTSTART;TZID=America/New_York:20240915T083000
DTEND;TZID=America/New_York:20240915T093000
SUMMARY:Sunday Breakfast
RRULE:FREQ=MONTHLY;WKST=SU;UNTIL=20241231;BYMONTHDAY=15
DESCRIPTION:
X-ALT-DESC;FMTTYPE=text/html:
CATEGORIES:General
UID:20240908T1503360Z-577254-65@localendar.com
END:VEVENT
BEGIN:VEVENT
DTSTAMP:20260425T004936Z
DTSTART;TZID=America/New_York:20240927T190000
DTEND;TZID=America/New_York:20240927T210000
SUMMARY:Youth Night
RRULE:FREQ=DAILY;COUNT=96
DESCRIPTION:
X-ALT-DESC;FMTTYPE=text/html:
CATEGORIES:General
UID:20240908T1505470Z-577254-66@localendar.com
END:VEVENT
BEGIN:VEVENT
DTSTAMP:20260425T004936Z
DTSTART;TZID=America/New_York:20250217T170000
DTEND;TZID=America/New_York:20250217T173000
SUMMARY:Intercessory Prayer 
RRULE:FREQ=WEEKLY;UNTIL=20251231;BYDAY=MO,TU,WE,TH,FR
DESCRIPTION:Intercessory Prayer Phone 540-792-0132 Access Code 860275
X-ALT-DESC;FMTTYPE=text/html:<p><span>Intercessory Prayer</span><br /><br /
 >Phone 540-792-0132</p>  <p>Access Code 860275</p>  <p></p>
CATEGORIES:General
LOCATION:Via Phone Line
UID:20250301T0433070Z-577254-67@localendar.com
END:VEVENT
BEGIN:VEVENT
DTSTAMP:20260425T004936Z
DTSTART;TZID=America/New_York:20250302T130000
DTEND;TZID=America/New_York:20250302T140000
SUMMARY:Easter Speeches Rehearsal
RRULE:FREQ=WEEKLY;UNTIL=20250330;BYDAY=SU
EXDATE;TZID=America/New_York:20250302T130000
EXDATE;TZID=America/New_York:20250309T130000
EXDATE;TZID=America/New_York:20250316T130000
EXDATE;TZID=America/New_York:20250323T130000
EXDATE;TZID=America/New_York:20250330T130000
DESCRIPTION:
X-ALT-DESC;FMTTYPE=text/html:
CATEGORIES:General
UID:20250220T2121430Z-577254-70@localendar.com
END:VEVENT
BEGIN:VEVENT
DTSTAMP:20260425T004936Z
DTSTART;TZID=America/New_York:20250316T130000
DTEND;TZID=America/New_York:20250316T140000
SUMMARY:Youth Choir Rehearsal
DESCRIPTION:
X-ALT-DESC;FMTTYPE=text/html:
CATEGORIES:General
UID:20250220T2126050Z-577254-71@localendar.com
END:VEVENT
BEGIN:VEVENT
DTSTAMP:20260425T004936Z
DTSTART;TZID=America/New_York:20250309T130000
DTEND;TZID=America/New_York:20250309T140000
SUMMARY:Youth Choir Rehearsal
DESCRIPTION:
X-ALT-DESC;FMTTYPE=text/html:
CATEGORIES:General
UID:20250220T2125330Z-577254-72@localendar.com
END:VEVENT
BEGIN:VEVENT
DTSTAMP:20260425T004936Z
DTSTART;TZID=America/New_York:20250323T130000
DTEND;TZID=America/New_York:20250323T140000
SUMMARY:Youth Sing
DESCRIPTION:
X-ALT-DESC;FMTTYPE=text/html:
CATEGORIES:General
UID:20250220T2136170Z-577254-73@localendar.com
END:VEVENT
BEGIN:VEVENT
DTSTAMP:20260425T004936Z
DTSTART;TZID=America/New_York:20250302T130000
DTEND;TZID=America/New_York:20250302T140000
SUMMARY:Easter Speeches Rehearsal
DESCRIPTION:
X-ALT-DESC;FMTTYPE=text/html:
CATEGORIES:General
UID:20250220T2126210Z-577254-74@localendar.com
END:VEVENT
BEGIN:VEVENT
DTSTAMP:20260425T004936Z
DTSTART;TZID=America/New_York:20250314T130000
DTEND;TZID=America/New_York:20250314T140000
SUMMARY:Easter Speeches Rehearsal
DESCRIPTION:
X-ALT-DESC;FMTTYPE=text/html:
CATEGORIES:General
UID:20250220T2127280Z-577254-75@localendar.com
END:VEVENT
BEGIN:VEVENT
DTSTAMP:20260425T004936Z
DTSTART;TZID=America/New_York:20250321T130000
DTEND;TZID=America/New_York:20250321T140000
SUMMARY:Easter Speeches Rehearsal
DESCRIPTION:
X-ALT-DESC;FMTTYPE=text/html:
CATEGORIES:General
UID:20250220T2128290Z-577254-76@localendar.com
END:VEVENT
BEGIN:VEVENT
DTSTAMP:20260425T004936Z
DTSTART;TZID=America/New_York:20250301T130000
DTEND;TZID=America/New_York:20250301T140000
SUMMARY:Easter Speeches Rehearsal
DESCRIPTION:
X-ALT-DESC;FMTTYPE=text/html:
CATEGORIES:General
UID:20250220T2128550Z-577254-77@localendar.com
END:VEVENT
BEGIN:VEVENT
DTSTAMP:20260425T004936Z
DTSTART;TZID=America/New_York:20250322T110000
DTEND;TZID=America/New_York:20250322T120000
SUMMARY:Easter Program Rehearsal
DESCRIPTION:
X-ALT-DESC;FMTTYPE=text/html:
CATEGORIES:General
UID:20250307T2158050Z-577254-78@localendar.com
END:VEVENT
BEGIN:VEVENT
DTSTAMP:20260425T004936Z
DTSTART;TZID=America/New_York:20250315T130000
DTEND;TZID=America/New_York:20250315T140000
SUMMARY:Easter Program Rehearsal
DESCRIPTION:
X-ALT-DESC;FMTTYPE=text/html:
CATEGORIES:General
UID:20250220T2131070Z-577254-79@localendar.com
END:VEVENT
BEGIN:VEVENT
DTSTAMP:20260425T004936Z
DTSTART;TZID=America/New_York:20250308T130000
DTEND;TZID=America/New_York:20250308T140000
SUMMARY:Easter Program Rehearsal
DESCRIPTION:
X-ALT-DESC;FMTTYPE=text/html:
CATEGORIES:General
UID:20250220T2132010Z-577254-80@localendar.com
END:VEVENT
BEGIN:VEVENT
DTSTAMP:20260425T004936Z
DTSTART;TZID=America/New_York:20250328T190000
DTEND;TZID=America/New_York:20250328T210000
SUMMARY:Youth Night
DESCRIPTION:
X-ALT-DESC;FMTTYPE=text/html:
CATEGORIES:General
UID:20250301T0439070Z-577254-81@localendar.com
END:VEVENT
BEGIN:VEVENT
DTSTAMP:20260425T004936Z
DTSTART;TZID=America/New_York:20250322T183000
DTEND;TZID=America/New_York:20250322T203000
SUMMARY:JUNIOR DEACONS BOWLING EVENT
DESCRIPTION:
X-ALT-DESC;FMTTYPE=text/html:
CATEGORIES:General
LOCATION:TO BE DETERMINED
UID:20250301T0443510Z-577254-82@localendar.com
END:VEVENT
BEGIN:VEVENT
DTSTAMP:20260425T004936Z
DTSTART;TZID=America/New_York:20250413T100000
DTEND;TZID=America/New_York:20250413T120000
SUMMARY:COMMUNITY BLISS
DESCRIPTION:
X-ALT-DESC;FMTTYPE=text/html:
CATEGORIES:General
UID:20250301T0502510Z-577254-84@localendar.com
END:VEVENT
BEGIN:VEVENT
DTSTAMP:20260425T004936Z
DTSTART;VALUE=DATE:20250518
SUMMARY:WOMEN'S DAY - TENTATIVE
DESCRIPTION:
X-ALT-DESC;FMTTYPE=text/html:
CATEGORIES:General
UID:20250301T0524230Z-577254-85@localendar.com
END:VEVENT
BEGIN:VEVENT
DTSTAMP:20260425T004936Z
DTSTART;TZID=America/New_York:20250712T120000
DTEND;TZID=America/New_York:20250712T160000
SUMMARY:COMMUNITY COOKOUT
DESCRIPTION:
X-ALT-DESC;FMTTYPE=text/html:
CATEGORIES:General
UID:20250301T0534440Z-577254-87@localendar.com
END:VEVENT
BEGIN:VEVENT
DTSTAMP:20260425T004936Z
DTSTART;TZID=America/New_York:20250720T093000
DTEND;TZID=America/New_York:20250720T110000
SUMMARY:COMMUNITY BAPTISM
DESCRIPTION:
X-ALT-DESC;FMTTYPE=text/html:
CATEGORIES:General
UID:20250703T0315280Z-577254-88@localendar.com
END:VEVENT
BEGIN:VEVENT
DTSTAMP:20260425T004936Z
DTSTART;VALUE=DATE:20250817
SUMMARY:CHURCH ANNIVERSARY 
DESCRIPTION:
X-ALT-DESC;FMTTYPE=text/html:
CATEGORIES:General
UID:20250301T0540190Z-577254-89@localendar.com
END:VEVENT
BEGIN:VEVENT
DTSTAMP:20260425T004936Z
DTSTART;VALUE=DATE:20251019
SUMMARY:Pastor Frederick Jones Sr. - 10th PASTORAL ANNIVERSARY
DESCRIPTION:
X-ALT-DESC;FMTTYPE=text/html:
CATEGORIES:General
UID:20250909T2330550Z-577254-91@localendar.com
END:VEVENT
BEGIN:VEVENT
DTSTAMP:20260425T004936Z
DTSTART;TZID=America/New_York:20250308T103000
DTEND;TZID=America/New_York:20250308T130000
SUMMARY:WOMEN'S FELLOWSHIP
RRULE:FREQ=MONTHLY;UNTIL=20251213;BYDAY=2SA
EXDATE;TZID=America/New_York:20250712T103000
DESCRIPTION:
X-ALT-DESC;FMTTYPE=text/html:
CATEGORIES:General
UID:20250301T0601530Z-577254-92@localendar.com
END:VEVENT
BEGIN:VEVENT
DTSTAMP:20260425T004936Z
DTSTART;TZID=America/New_York:20250712T103000
DTEND;TZID=America/New_York:20250712T120000
SUMMARY:WOMEN'S FELLOWSHIP
DESCRIPTION:
X-ALT-DESC;FMTTYPE=text/html:
CATEGORIES:General
UID:20250301T0604290Z-577254-93@localendar.com
END:VEVENT
BEGIN:VEVENT
DTSTAMP:20260425T004936Z
DTSTART;TZID=America/New_York:20250306T190000
DTEND;TZID=America/New_York:20250306T200000
SUMMARY:Bible Study
RRULE:FREQ=WEEKLY;UNTIL=20251231;BYDAY=TH
DESCRIPTION:
X-ALT-DESC;FMTTYPE=text/html:
CATEGORIES:General
UID:20250301T0640130Z-577254-94@localendar.com
END:VEVENT
BEGIN:VEVENT
DTSTAMP:20260425T004936Z
DTSTART;TZID=America/New_York:20250622T123000
DTEND;TZID=America/New_York:20250622T133000
SUMMARY:YOUTH CHOIR REHEARSAL
DESCRIPTION:
X-ALT-DESC;FMTTYPE=text/html:
CATEGORIES:General
UID:20250615T0227580Z-577254-95@localendar.com
END:VEVENT
BEGIN:VEVENT
DTSTAMP:20260425T004936Z
DTSTART;TZID=America/New_York:20250627T190000
DTEND;TZID=America/New_York:20250627T210000
SUMMARY:YOUTH & FAMILY NIGHT
DESCRIPTION:
X-ALT-DESC;FMTTYPE=text/html:
CATEGORIES:General
UID:20250615T0200120Z-577254-96@localendar.com
END:VEVENT
BEGIN:VEVENT
DTSTAMP:20260425T004936Z
DTSTART;TZID=America/New_York:20250629T103500
DTEND;TZID=America/New_York:20250629T105000
SUMMARY:YOUTH SING
RRULE:FREQ=MONTHLY;UNTIL=20260629;BYDAY=4SU
DESCRIPTION:
X-ALT-DESC;FMTTYPE=text/html:
CATEGORIES:General
UID:20250615T0206330Z-577254-97@localendar.com
END:VEVENT
BEGIN:VEVENT
DTSTAMP:20260425T004936Z
DTSTART;TZID=America/New_York:20250608T123000
DTEND;TZID=America/New_York:20250608T133000
SUMMARY:YOUTH CHOIR REHEARSAL
DESCRIPTION:
X-ALT-DESC;FMTTYPE=text/html:
CATEGORIES:General
UID:20250615T0227330Z-577254-98@localendar.com
END:VEVENT
END:VCALENDAR
