BEGIN:VCALENDAR
PRODID:-//Ben Fortuna//iCal4j 1.0//EN
VERSION:2.0
CALSCALE:GREGORIAN
BEGIN:VTIMEZONE
TZID:America/Denver
LAST-MODIFIED:20260306T231828Z
TZURL:https://www.tzurl.org/zoneinfo-outlook/America/Denver
X-LIC-LOCATION:America/Denver
BEGIN:DAYLIGHT
TZNAME:MDT
TZOFFSETFROM:-0700
TZOFFSETTO:-0600
DTSTART:19700308T020000
RRULE:FREQ=YEARLY;BYMONTH=3;BYDAY=2SU
END:DAYLIGHT
BEGIN:STANDARD
TZNAME:MST
TZOFFSETFROM:-0600
TZOFFSETTO:-0700
DTSTART:19701101T020000
RRULE:FREQ=YEARLY;BYMONTH=11;BYDAY=1SU
END:STANDARD
END:VTIMEZONE
BEGIN:VEVENT
DTSTAMP:20260422T090147Z
DTSTART;VALUE=DATE:20250406
SUMMARY:Club Challenge
DESCRIPTION:See   Click here for flyer
X-ALT-DESC;FMTTYPE=text/html:<p>See&nbsp\; &nbsp\;<a href='https://www.csml
 a.net/events/upcoming-events' title='Club Challenge' rel='nofollow'>Click 
 here for flyer</a></p>
CATEGORIES:General
UID:20250312T1846410Z-3156122-2@localendar.com
END:VEVENT
END:VCALENDAR
