BEGIN:VCALENDAR
PRODID:-//Ben Fortuna//iCal4j 1.0//EN
VERSION:2.0
CALSCALE:GREGORIAN
BEGIN:VTIMEZONE
TZID:America/New_York
LAST-MODIFIED:20260306T231828Z
TZURL:https://www.tzurl.org/zoneinfo-outlook/America/New_York
X-LIC-LOCATION:America/New_York
BEGIN:DAYLIGHT
TZNAME:EDT
TZOFFSETFROM:-0500
TZOFFSETTO:-0400
DTSTART:19700308T020000
RRULE:FREQ=YEARLY;BYMONTH=3;BYDAY=2SU
END:DAYLIGHT
BEGIN:STANDARD
TZNAME:EST
TZOFFSETFROM:-0400
TZOFFSETTO:-0500
DTSTART:19701101T020000
RRULE:FREQ=YEARLY;BYMONTH=11;BYDAY=1SU
END:STANDARD
END:VTIMEZONE
BEGIN:VEVENT
DTSTAMP:20260425T204100Z
DTSTART;TZID=America/New_York:20160927T093000
DTEND;TZID=America/New_York:20160927T120000
SUMMARY:Company Training
RRULE:FREQ=DAILY;COUNT=3
DESCRIPTION:Utilities Safety Monitors and Hotstick Use
X-ALT-DESC;FMTTYPE=text/html:<p>Utilities Safety Monitors and Hotstick Use<
 /p>
CATEGORIES:General
UID:20160926T2055090Z-543180-30@localendar.com
END:VEVENT
BEGIN:VEVENT
DTSTAMP:20260425T204100Z
DTSTART;TZID=America/New_York:20160926T180000
DTEND;TZID=America/New_York:20160926T200000
SUMMARY:Training Night-Dinner Meeting
DESCRIPTION:
X-ALT-DESC;FMTTYPE=text/html:
CATEGORIES:General
UID:20160926T2056160Z-543180-31@localendar.com
END:VEVENT
BEGIN:VEVENT
DTSTAMP:20260425T204100Z
DTSTART;TZID=America/New_York:20210125T180000
DTEND;TZID=America/New_York:20210125T190000
SUMMARY:Board of Director's Meeting
RRULE:FREQ=MONTHLY;UNTIL=20220101;BYDAY=4MO
EXDATE;TZID=America/New_York:20211227T180000
DESCRIPTION:Station 76-Training Room   COVID-19 Precautions Remain in Effec
 t
X-ALT-DESC;FMTTYPE=text/html:<p>Station 76-Training Room</p>  <p>&nbsp\;</p
 >  <p>COVID-19 Precautions Remain in Effect</p>
CATEGORIES:General
LOCATION:Station 76-Headquarters
UID:20201231T1849050Z-543180-32@localendar.com
END:VEVENT
BEGIN:VEVENT
DTSTAMP:20260425T204100Z
DTSTART;TZID=America/New_York:20211213T180000
DTEND;TZID=America/New_York:20211213T190000
SUMMARY:Board of Director's Meeting
DESCRIPTION:COVID-19 Precautions remain in effect  
X-ALT-DESC;FMTTYPE=text/html:<p>COVID-19 Precautions remain in effect</p>  
 <p>&nbsp\;</p>
CATEGORIES:General
UID:20201231T1848050Z-543180-36@localendar.com
END:VEVENT
BEGIN:VEVENT
DTSTAMP:20260425T204100Z
DTSTART;TZID=America/New_York:20220124T180000
DTEND;TZID=America/New_York:20220124T190000
SUMMARY:MIGC Board of Directors Meeting
RRULE:FREQ=MONTHLY;UNTIL=20250101;BYDAY=4MO
EXDATE;TZID=America/New_York:20221226T180000
DESCRIPTION:6:00PM at Station 76 3641 Highway 17 Business Murrells Inlet\, 
 SC 29576
X-ALT-DESC;FMTTYPE=text/html:<p>6:00PM at Station 76</p>  <p>3641 Highway 1
 7 Business</p>  <p>Murrells Inlet\, SC 29576</p>
CATEGORIES:General
LOCATION:Station 76
UID:20220304T1421480Z-543180-37@localendar.com
END:VEVENT
BEGIN:VEVENT
DTSTAMP:20260425T204100Z
DTSTART;TZID=America/New_York:20221219T180000
DTEND;TZID=America/New_York:20221219T190000
SUMMARY:MIGC Board of Directors Meeting
DESCRIPTION:6:00PM at Station 76 3641 Highway 17 Business Murrells Inlet\, 
 SC 29576
X-ALT-DESC;FMTTYPE=text/html:<p>6:00PM at Station 76</p>  <p>3641 Highway 1
 7 Business</p>  <p>Murrells Inlet\, SC 29576</p>
CATEGORIES:General
LOCATION:Station 76
UID:20220304T1428190Z-543180-38@localendar.com
END:VEVENT
END:VCALENDAR
