BEGIN:VCALENDAR
PRODID:-//Ben Fortuna//iCal4j 1.0//EN
VERSION:2.0
CALSCALE:GREGORIAN
BEGIN:VTIMEZONE
TZID:America/Los_Angeles
LAST-MODIFIED:20260306T231828Z
TZURL:https://www.tzurl.org/zoneinfo-outlook/America/Los_Angeles
X-LIC-LOCATION:America/Los_Angeles
BEGIN:DAYLIGHT
TZNAME:PDT
TZOFFSETFROM:-0800
TZOFFSETTO:-0700
DTSTART:19700308T020000
RRULE:FREQ=YEARLY;BYMONTH=3;BYDAY=2SU
END:DAYLIGHT
BEGIN:STANDARD
TZNAME:PST
TZOFFSETFROM:-0700
TZOFFSETTO:-0800
DTSTART:19701101T020000
RRULE:FREQ=YEARLY;BYMONTH=11;BYDAY=1SU
END:STANDARD
END:VTIMEZONE
BEGIN:VEVENT
DTSTAMP:20260422T083854Z
DTSTART;TZID=America/Los_Angeles:20240620T180000
DTEND;TZID=America/Los_Angeles:20240620T200000
SUMMARY:Litha Celebration
DESCRIPTION:Litha Celebration with Sacred Circle Healing Community at Blue 
 Heron Park at 6pm.
X-ALT-DESC;FMTTYPE=text/html:<p>Litha Celebration with Sacred Circle Healin
 g Community at Blue Heron Park at 6pm.</p>
CATEGORIES:General
UID:20240614T0405280Z-3138028-2@localendar.com
END:VEVENT
BEGIN:VEVENT
DTSTAMP:20260422T083854Z
DTSTART;TZID=America/Los_Angeles:20240627T100000
DTEND;TZID=America/Los_Angeles:20240627T110000
SUMMARY:Healing Appointment 
RRULE:FREQ=WEEKLY;UNTIL=20241226;BYDAY=TH
DESCRIPTION:My healing studio is located at 33 N. Central\, suite 407 in th
 e charming and historical Woolworth building\, Medford\, Oregon..
X-ALT-DESC;FMTTYPE=text/html:<p>My healing studio is located at 33 N. Centr
 al\, suite 407 in the charming and historical Woolworth building\, Medford
 \, Oregon..</p>
CATEGORIES:General
UID:20240614T1307190Z-3138028-3@localendar.com
END:VEVENT
BEGIN:VEVENT
DTSTAMP:20260422T083854Z
DTSTART;TZID=America/Los_Angeles:20240614T120000
DTEND;TZID=America/Los_Angeles:20240614T130000
SUMMARY:Available for Healing 
RRULE:FREQ=WEEKLY;UNTIL=20241226;BYDAY=TH
EXDATE;TZID=America/Los_Angeles:20240620T120000
DESCRIPTION:My healing studio is located at 33. N. Central Avenue\, suite 4
 07\, in the charming and historical Woolworth building in Medford\, Oregon
 .
X-ALT-DESC;FMTTYPE=text/html:<p>My healing studio is located at 33. N. Cent
 ral Avenue\, suite 407\, in the charming and historical Woolworth building
  in Medford\, Oregon.</p>
CATEGORIES:General
LOCATION:Reiki Energy Healing
UID:20240614T1302470Z-3138028-4@localendar.com
END:VEVENT
BEGIN:VEVENT
DTSTAMP:20260422T083854Z
DTSTART;TZID=America/Los_Angeles:20240627T140000
DTEND;TZID=America/Los_Angeles:20240627T150000
SUMMARY:Available for Healing 
RRULE:FREQ=WEEKLY;UNTIL=20241226;BYDAY=TH
DESCRIPTION:My healing studio is located at 33. North Central Avenue in Med
 ford\, Oregon at the charming and historical Woolworth building.
X-ALT-DESC;FMTTYPE=text/html:<p>My healing studio is located at 33. North C
 entral Avenue in Medford\, Oregon at the charming and historical Woolworth
  building.</p>
CATEGORIES:General
UID:20240614T1305330Z-3138028-5@localendar.com
END:VEVENT
END:VCALENDAR
