BEGIN:VCALENDAR
PRODID:-//Ben Fortuna//iCal4j 1.0//EN
VERSION:2.0
CALSCALE:GREGORIAN
BEGIN:VTIMEZONE
TZID:America/Chicago
LAST-MODIFIED:20260306T231828Z
TZURL:https://www.tzurl.org/zoneinfo-outlook/America/Chicago
X-LIC-LOCATION:America/Chicago
BEGIN:DAYLIGHT
TZNAME:CDT
TZOFFSETFROM:-0600
TZOFFSETTO:-0500
DTSTART:19700308T020000
RRULE:FREQ=YEARLY;BYMONTH=3;BYDAY=2SU
END:DAYLIGHT
BEGIN:STANDARD
TZNAME:CST
TZOFFSETFROM:-0500
TZOFFSETTO:-0600
DTSTART:19701101T020000
RRULE:FREQ=YEARLY;BYMONTH=11;BYDAY=1SU
END:STANDARD
END:VTIMEZONE
BEGIN:VEVENT
DTSTAMP:20260426T042930Z
DTSTART;TZID=America/Chicago:20180315T090000
DTEND;TZID=America/Chicago:20180315T110000
SUMMARY:Curriculum Committee Meeting
RRULE:FREQ=MONTHLY;UNTIL=20240119;BYDAY=3FR
EXDATE;TZID=America/Chicago:20190704T090000
EXDATE;TZID=America/Chicago:20190221T090000
EXDATE;TZID=America/Chicago:20200221T090000
EXDATE;TZID=America/Chicago:20200320T090000
DESCRIPTION:NAPTA's Curriculum Committee meets the 3rd Friday of each month
  at 9 AM CST via Microsoft Teams. All NAPTA members are welcome to join. G
 et involved by emailing curriculum@naptaonline.org or communications@napta
 online.org requesting more info. 
X-ALT-DESC;FMTTYPE=text/html:<p>NAPTA's&nbsp\;<a href='https://www.naptaonl
 ine.org/curriculum' target='_blank' rel='nofollow'>Curriculum Committee</a
 > meets the 3rd Friday of each month at 9 AM CST via Microsoft Teams. All 
 NAPTA members are welcome to join. Get involved by emailing curriculum@nap
 taonline.org or communications@naptaonline.org requesting more info.&nbsp\
 ;</p>
CATEGORIES:General
UID:20221129T0531000Z-524434-117@localendar.com
END:VEVENT
BEGIN:VEVENT
DTSTAMP:20260426T042930Z
DTSTART;TZID=America/Chicago:20210207T140000
DTEND;TZID=America/Chicago:20210207T150000
SUMMARY:Troubleshooting Committee Meeting
RRULE:FREQ=MONTHLY;UNTIL=20231231;BYDAY=1MO
EXDATE;TZID=America/Chicago:20220103T140000
DESCRIPTION:NAPTA's Troubleshooting Committee meets the 1st Monday of each 
 month at 2 PM CT via Micosoft Teams. All NAPTA members are welcome to join
 . Get involved by emailing troubleshooting@naptaonline.org or communicatio
 ns@naptaonline.org requesting more info. 
X-ALT-DESC;FMTTYPE=text/html:<p>NAPTA's <a href='https://www.naptaonline.or
 g/events/tsc' target='_blank' rel='nofollow'>Troubleshooting Committee</a>
 &nbsp\;meets the 1st Monday&nbsp\;of each month at 2 PM CT via Micosoft Te
 ams. All NAPTA members are welcome to join. Get involved by emailing troub
 leshooting@naptaonline.org or&nbsp\;communications@naptaonline.org request
 ing more info.&nbsp\;</p>
CATEGORIES:General
UID:20221129T0528530Z-524434-178@localendar.com
END:VEVENT
BEGIN:VEVENT
DTSTAMP:20260426T042930Z
DTSTART;TZID=America/Chicago:20220128T130000
DTEND;TZID=America/Chicago:20220128T140000
SUMMARY:Endorsement Committee Meeting
RRULE:FREQ=MONTHLY;UNTIL=20221231;BYDAY=4FR
EXDATE;TZID=America/Chicago:20221125T130000
EXDATE;TZID=America/Chicago:20221223T130000
DESCRIPTION:NAPTA's Endorsement Committee meets the 4th Friday of each mont
 h at 1 PM CT via Microsoft Teams. All NAPTA members are welcome to join. G
 et involved by emailing endorsement@naptaonline.org or communications@napt
 aonline.org requesting more info. 
X-ALT-DESC;FMTTYPE=text/html:<p>NAPTA's <a href='https://www.naptaonline.or
 g/college-endorsement-requirements'>Endorsement Committee</a>&nbsp\;meets 
 the 4th Friday&nbsp\;of each month at 1 PM CT via Microsoft Teams. All NAP
 TA members are welcome to join. Get involved by emailing endorsement@napta
 online.org or&nbsp\;communications@naptaonline.org requesting more info.&n
 bsp\;</p>
CATEGORIES:General
UID:20211217T2218380Z-524434-182@localendar.com
END:VEVENT
BEGIN:VEVENT
DTSTAMP:20260426T042930Z
DTSTART;VALUE=DATE:20221012
SUMMARY:2022 Instructor Skills Conference XII
RRULE:FREQ=DAILY;COUNT=3
DESCRIPTION:The primary purpose for the NAPTA Instructor Skills Conference 
 (ISC) is to raise the skill level of persons who develop and deliver train
 ing and education for our industry. The conference also provides a venue f
 or Best Practice sharing and group discussion of Critical Issues\, both in
  industry training and college education.
X-ALT-DESC;FMTTYPE=text/html:<p>The primary purpose for the NAPTA<a href='h
 ttps://www.naptaonline.org/isc-home' target='_blank'> Instructor Skills Co
 nference</a> (ISC) is to raise the skill level of persons who develop and 
 deliver training and education for our industry. The conference also provi
 des a venue for Best Practice sharing and group discussion of Critical Iss
 ues\, both in industry training and college education.</p>
CATEGORIES:General
UID:20211217T2229490Z-524434-184@localendar.com
END:VEVENT
BEGIN:VEVENT
DTSTAMP:20260426T042930Z
DTSTART;TZID=America/Chicago:20220118T110000
DTEND;TZID=America/Chicago:20220118T120000
SUMMARY:Outreach Committee Meeting
RRULE:FREQ=MONTHLY;UNTIL=20231231;BYDAY=3TU
EXDATE;TZID=America/Chicago:20221220T110000
DESCRIPTION:NAPTA's Outreach Committee meets the 3rd Tuesday of each month 
 at 11 AM CST via Micosoft Teams. All NAPTA members are welcome to join. Ge
 t involved by emailing outreach@naptaonline.org or communications@naptaonl
 ine.org requesting more info. 
X-ALT-DESC;FMTTYPE=text/html:<p>NAPTA's Outreach Committee meets the 3rd Tu
 esday of each month at 11 AM CST via Micosoft Teams. All NAPTA members are
  welcome to join. Get involved by emailing outreach@naptaonline.org or&nbs
 p\;communications@naptaonline.org requesting more info.&nbsp\;</p>
CATEGORIES:General
UID:20221129T0527530Z-524434-185@localendar.com
END:VEVENT
BEGIN:VEVENT
DTSTAMP:20260426T042930Z
DTSTART;TZID=America/Chicago:20220126T140000
DTEND;TZID=America/Chicago:20220126T150000
SUMMARY:Instructor Skills Conference Committee Meeting
RRULE:FREQ=MONTHLY;UNTIL=20231231;BYDAY=4WE
EXDATE;TZID=America/Chicago:20221123T140000
EXDATE;TZID=America/Chicago:20221228T140000
DESCRIPTION:NAPTA's Instructor Skills Conference Committee meets the 4th We
 dnesday of each month at 2 PM CST via Micosoft Teams. All NAPTA members ar
 e welcome to join. Get involved by emailing communications@naptaonline.org
  requesting more info. 
X-ALT-DESC;FMTTYPE=text/html:<p>NAPTA's&nbsp\;Instructor Skills Conference 
 Committee&nbsp\;meets the 4th Wednesday&nbsp\;of each month at 2 PM CST vi
 a Micosoft Teams. All NAPTA members are welcome to join. Get involved by e
 mailing communications@naptaonline.org requesting more info.&nbsp\;</p>
CATEGORIES:General
UID:20221129T0533050Z-524434-186@localendar.com
END:VEVENT
BEGIN:VEVENT
DTSTAMP:20260426T042930Z
DTSTART;TZID=America/Chicago:20230126T120000
DTEND;TZID=America/Chicago:20230126T130000
SUMMARY:Endorsement Committee Meeting
RRULE:FREQ=MONTHLY;UNTIL=20240126;BYDAY=4TH
DESCRIPTION:NAPTA's Endorsement Committee meets the 4th Thursday of each mo
 nth at 12 PM CST via Micosoft Teams. All NAPTA members are welcome to join
 . Get involved by emailing endorsement@naptaonline.org or communications@n
 aptaonline.org requesting more info. 
X-ALT-DESC;FMTTYPE=text/html:<p><span>NAPTA's&nbsp\;Endorsement&nbsp\;Commi
 ttee meets the 4th Thursday of each month at 12 PM CST via Micosoft Teams.
  All NAPTA members are welcome to join. Get involved by emailing endorseme
 nt@naptaonline.org or&nbsp\;communications@naptaonline.org requesting more
  info.&nbsp\;</span></p>
CATEGORIES:General
UID:20221129T0525430Z-524434-190@localendar.com
END:VEVENT
BEGIN:VEVENT
DTSTAMP:20260426T042930Z
DTSTART;VALUE=DATE:20230127
SUMMARY:2023 Winter General Meeting
DESCRIPTION:The 2023 NAPTA Winter General Meeting is taking place on Friday
 \, January 27\, 2023 at the Anderson-Ball Classroom Building on San Jacint
 o College's Central Campus in Pasadena\, TX.  More Info: https://www.napta
 online.org/winter-meeting
X-ALT-DESC;FMTTYPE=text/html:<p><span>The 2023 NAPTA Winter General Meeting
  is taking place on Friday\, January 27\, 2023 at the Anderson-Ball Classr
 oom Building on San Jacinto College's Central Campus in Pasadena\, TX.&nbs
 p\;</span></p>  <p><span>More Info:&nbsp\;<a href='https://www.naptaonline
 .org/winter-meeting' target='_blank' rel='nofollow'>https://www.naptaonlin
 e.org/winter-meeting</a></span></p>
CATEGORIES:General
LOCATION:https://www.naptaonline.org/winter-meeting
UID:20221129T0537330Z-524434-191@localendar.com
END:VEVENT
BEGIN:VEVENT
DTSTAMP:20260426T042930Z
DTSTART;VALUE=DATE:20230421
SUMMARY:Troubleshooting Skills Competition VI
RRULE:FREQ=DAILY;COUNT=2
DESCRIPTION:The 2023 NAPTA Troubleshooting Skills Competition VI Championsh
 ip Round will be hosted by San Jacinto College in Pasadena\, Texas on Apri
 l 21st and 22nd\, 2023. TSC was created as a venue for advanced Process Te
 chnology students to demonstrate hands-on skills in real-time process prob
 lem solving. This signature event pits the best student teams from educati
 onal institutions across the country in a competition for the title “NAPTA
  Troubleshooting Champions”. More Info: https://www.naptaonline.org/events
 /tsc 
X-ALT-DESC;FMTTYPE=text/html:<p>The 2023 NAPTA Troubleshooting Skills Compe
 tition VI Championship Round will be hosted by San Jacinto College in Pasa
 dena\, Texas on April 21st and 22nd\, 2023.</p>  <p>TSC was created as a v
 enue for advanced Process Technology students to demonstrate hands-on skil
 ls in real-time process problem solving.</p>  <p>This signature event pits
  the best student teams from educational institutions across the country i
 n a competition for the title &ldquo\;NAPTA Troubleshooting Champions&rdqu
 o\;.</p>  <p>More Info:&nbsp\;https://www.naptaonline.org/events/tsc&nbsp\
 ;</p>  <p></p>
CATEGORIES:General
LOCATION:https://www.naptaonline.org/events/tsc
UID:20221129T0543330Z-524434-192@localendar.com
END:VEVENT
END:VCALENDAR
