BEGIN:VCALENDAR
PRODID:-//Ben Fortuna//iCal4j 1.0//EN
VERSION:2.0
CALSCALE:GREGORIAN
BEGIN:VTIMEZONE
TZID:America/New_York
LAST-MODIFIED:20260306T231828Z
TZURL:https://www.tzurl.org/zoneinfo-outlook/America/New_York
X-LIC-LOCATION:America/New_York
BEGIN:DAYLIGHT
TZNAME:EDT
TZOFFSETFROM:-0500
TZOFFSETTO:-0400
DTSTART:19700308T020000
RRULE:FREQ=YEARLY;BYMONTH=3;BYDAY=2SU
END:DAYLIGHT
BEGIN:STANDARD
TZNAME:EST
TZOFFSETFROM:-0400
TZOFFSETTO:-0500
DTSTART:19701101T020000
RRULE:FREQ=YEARLY;BYMONTH=11;BYDAY=1SU
END:STANDARD
END:VTIMEZONE
BEGIN:VEVENT
DTSTAMP:20260426T031650Z
DTSTART;TZID=America/New_York:20250810T090000
DTEND;TZID=America/New_York:20250810T100000
SUMMARY:Sunday School
RRULE:FREQ=WEEKLY;UNTIL=20251231;BYDAY=SU
DESCRIPTION:
X-ALT-DESC;FMTTYPE=text/html:
CATEGORIES:Regular Schedule
UID:20250809T2154400Z-3178254-2@localendar.com
END:VEVENT
BEGIN:VEVENT
DTSTAMP:20260426T031650Z
DTSTART;TZID=America/New_York:20250810T100000
DTEND;TZID=America/New_York:20250810T110000
SUMMARY:Sunday Morning Worship
RRULE:FREQ=WEEKLY;UNTIL=20251231;BYDAY=SU
DESCRIPTION:
X-ALT-DESC;FMTTYPE=text/html:
CATEGORIES:Regular Schedule
UID:20250809T2156210Z-3178254-3@localendar.com
END:VEVENT
BEGIN:VEVENT
DTSTAMP:20260426T031650Z
DTSTART;TZID=America/New_York:20251025T100000
DTEND;TZID=America/New_York:20251025T130000
SUMMARY:Breast Cancer Awareness Luncheon 
DESCRIPTION:Elect Lady Empowerment Ministy of Oak Grove\, Littleton\, NC wi
 ll host annual Breast Cancer Events for 2025. Join us for an unforgettable
  afternoon in solidarity and purpose. Funds raise are to help those impact
 ed by cancer in the Roanoke Valley area.  This year we will host a Breast 
 Cancer Awareness Luncheon and Annual Ballon Release - Saturday 10/25/25 st
 arting at 10:00a. Pre-Register Now until 10/10/25 This Event Is Free and O
 pen to the Public  Release a Ballon in honor/memory of a loved one. $5 per
  ballon.   Click Here For More Info\, Registration and Sponorship Oportuni
 ties 
X-ALT-DESC;FMTTYPE=text/html:<p>Elect Lady Empowerment Ministy of Oak Grove
 \, Littleton\, NC will host annual Breast Cancer Events for 2025.</p>  <p>
 </p>  <p>Join us for an unforgettable afternoon in solidarity and purpose.
  Funds raise are to help those impacted by cancer in the Roanoke Valley ar
 ea.&nbsp\;</p>  <p>This year we will host a Breast Cancer Awareness Lunche
 on and Annual Ballon Release - Saturday 10/25/25 starting at 10:00a.</p>  
 <p>Pre-Register Now until 10/10/25</p>  <p>This Event Is Free and Open to 
 the Public&nbsp\;</p>  <p>Release a Ballon in honor/memory of a loved one.
  $5 per ballon.&nbsp\;</p>  <p></p>  <p>&nbsp\;<a href='https://ogbcpromis
 eland.com/bc_awareness' target='_blank' title='BCA - Oak Grove Promiseland
 ' rel='nofollow'>Click Here</a>&nbsp\;For More Info\, Registration and Spo
 norship Oportunities&nbsp\;</p>  <p></p>  <p></p>  <p></p>  <p></p>
CATEGORIES:Church Events
UID:20250913T1924380Z-3178254-4@localendar.com
END:VEVENT
BEGIN:VEVENT
DTSTAMP:20260426T031650Z
DTSTART;VALUE=DATE:20251026
SUMMARY:Pink Out Sunday 
DESCRIPTION:Join Us showing off your pink in support of Breast Cancer Aware
 ness. Enjoy Refreshements following morning worship. 
X-ALT-DESC;FMTTYPE=text/html:<p>Join Us showing off your pink in support of
  Breast Cancer Awareness. Enjoy Refreshements following morning worship.&n
 bsp\;</p>
CATEGORIES:Church Events
UID:20250904T0211110Z-3178254-5@localendar.com
END:VEVENT
BEGIN:VEVENT
DTSTAMP:20260426T031650Z
DTSTART;TZID=America/New_York:20251101T160000
DTEND;TZID=America/New_York:20251101T190000
SUMMARY:160th  Church Anniversary ' Heritage Day'
DESCRIPTION:Join us as we celebrate 160 years of Faith Through the Years. W
 e will reflect on and celebrate our church from 1865 until the present\, f
 rom Bush Arbor to Promiseland. We will showcase our historical exhibit fol
 lowing the program in the fellowship hall. Everyone is invited.  If you'd 
 like to contribute to the historical exhibit\, please see a member of the 
 anniversary committee.  More Info ogbcpromiseland.com/anniversary
X-ALT-DESC;FMTTYPE=text/html:<p>Join us as we celebrate 160 years of Faith 
 Through the Years. We will reflect on and celebrate our church from 1865 u
 ntil the present\, from Bush Arbor to Promiseland. We will showcase our hi
 storical exhibit following the program in the fellowship hall. Everyone is
  invited.&nbsp\;</p>  <p></p>  <p>If you'd like to contribute to the histo
 rical exhibit\, please see a member of the anniversary committee.&nbsp\;</
 p>  <p>More Info</p>  <p><a href='https://ogbcpromiseland.com/anniversary'
  rel='nofollow'>ogbcpromiseland.com/anniversary</a></p>
CATEGORIES:Church Events
UID:20251018T2204540Z-3178254-6@localendar.com
END:VEVENT
BEGIN:VEVENT
DTSTAMP:20260426T031650Z
DTSTART;VALUE=DATE:20251102
SUMMARY:160th  Church Anniversary Worship Services
DESCRIPTION:Join us for morning worship celebrating 160 years. 10a  Join us
  for Lunch following morning worhsip. Join us for our conclusion of our ce
 leratory events with evening worship. Rev. T.J Walker and the First Baptis
 t Church of Weldon\, NC will be our guest.  For more info please see Deaco
 ness A. Boyd. More Info Click Here
X-ALT-DESC;FMTTYPE=text/html:<p>Join us for morning worship celebrating 160
  years. 10a&nbsp\;</p>  <p>Join us for Lunch following morning worhsip.</p
 >  <p>Join us for our conclusion of our celeratory events&nbsp\;with eveni
 ng worship. Rev. T.J Walker and the First Baptist Church of Weldon\, NC wi
 ll be our guest.&nbsp\;</p>  <p></p>  <p>For more info please see Deacones
 s A. Boyd.</p>  <p><a href='https://ogbcpromiseland.com/anniversary' rel='
 nofollow'>More Info Click Here</a></p>
CATEGORIES:Church Events
UID:20251018T2206430Z-3178254-7@localendar.com
END:VEVENT
BEGIN:VEVENT
DTSTAMP:20260426T031650Z
DTSTART;TZID=America/New_York:20251220T160000
DTEND;TZID=America/New_York:20251220T180000
SUMMARY:'The Perfect Christmas Gift' - Dinner Theater
DESCRIPTION:Join us for a magical evening of holiday cheer filled with laug
 hter\, music and the true spirit of Christmas. 
X-ALT-DESC;FMTTYPE=text/html:<p>Join us for a magical evening of holiday ch
 eer filled with laughter\, music and the true spirit of Christmas.&nbsp\;<
 /p>
CATEGORIES:Church Events
UID:20251121T0016030Z-3178254-8@localendar.com
END:VEVENT
BEGIN:VEVENT
DTSTAMP:20260426T031650Z
DTSTART;VALUE=DATE:20260329
SUMMARY:Palm Sunday Worship
DESCRIPTION:Special Guest - Rev. Davion Thomas I  Pastor of Zion Hill Bapti
 st Church\, Littleton\, NC Praise and Worship - 9:45a Regular Worship - 10
 :00a
X-ALT-DESC;FMTTYPE=text/html:<p>Special Guest - Rev. Davion Thomas I&nbsp\;
 </p>  <p>Pastor of Zion Hill Baptist Church\, Littleton\, NC</p>  <p>Prais
 e and Worship - 9:45a</p>  <p>Regular Worship - 10:00a</p>
CATEGORIES:Church Events
UID:20260316T1936580Z-3178254-9@localendar.com
END:VEVENT
BEGIN:VEVENT
DTSTAMP:20260426T031650Z
DTSTART;TZID=America/New_York:20260403T190000
DTEND;TZID=America/New_York:20260403T210000
SUMMARY:Good Friday Service - 'Evening of Remembrance' 
DESCRIPTION:Special Guest: Dr. Vernon Bryant  Pastor of Zion Chapel Ministr
 ies - Roanoke Rapids\, NC
X-ALT-DESC;FMTTYPE=text/html:<p>Special Guest: Dr. Vernon Bryant&nbsp\;</p>
   <p>Pastor of Zion Chapel Ministries - Roanoke Rapids\, NC</p>
CATEGORIES:Church Events
UID:20260316T1945580Z-3178254-10@localendar.com
END:VEVENT
BEGIN:VEVENT
DTSTAMP:20260426T031650Z
DTSTART;TZID=America/New_York:20260322T090000
DTEND;TZID=America/New_York:20260322T094500
SUMMARY:Sunday School
RRULE:FREQ=WEEKLY;UNTIL=20270322;BYDAY=SU
DESCRIPTION:
X-ALT-DESC;FMTTYPE=text/html:
CATEGORIES:Regular Schedule
UID:20260316T1939010Z-3178254-11@localendar.com
END:VEVENT
BEGIN:VEVENT
DTSTAMP:20260426T031650Z
DTSTART;TZID=America/New_York:20260116T094500
DTEND;TZID=America/New_York:20260116T111500
SUMMARY:Morning Worship
RRULE:FREQ=WEEKLY;UNTIL=20270116;BYDAY=SU
DESCRIPTION:
X-ALT-DESC;FMTTYPE=text/html:
CATEGORIES:Regular Schedule
UID:20260316T1940410Z-3178254-12@localendar.com
END:VEVENT
BEGIN:VEVENT
DTSTAMP:20260426T031650Z
DTSTART;VALUE=DATE:20260405
SUMMARY:Easter Sunday Worship
DESCRIPTION:
X-ALT-DESC;FMTTYPE=text/html:
CATEGORIES:Church Events
UID:20260316T1942080Z-3178254-13@localendar.com
END:VEVENT
BEGIN:VEVENT
DTSTAMP:20260426T031650Z
DTSTART;VALUE=DATE:20260503
SUMMARY:Women's Day 2026
DESCRIPTION:Please Stay Tuned for For Updates
X-ALT-DESC;FMTTYPE=text/html:<p>Please Stay Tuned for For Updates</p>
CATEGORIES:Church Events
UID:20260316T1943180Z-3178254-14@localendar.com
END:VEVENT
END:VCALENDAR
