BEGIN:VCALENDAR
PRODID:-//Ben Fortuna//iCal4j 1.0//EN
VERSION:2.0
CALSCALE:GREGORIAN
BEGIN:VTIMEZONE
TZID:America/Chicago
LAST-MODIFIED:20260306T231828Z
TZURL:https://www.tzurl.org/zoneinfo-outlook/America/Chicago
X-LIC-LOCATION:America/Chicago
BEGIN:DAYLIGHT
TZNAME:CDT
TZOFFSETFROM:-0600
TZOFFSETTO:-0500
DTSTART:19700308T020000
RRULE:FREQ=YEARLY;BYMONTH=3;BYDAY=2SU
END:DAYLIGHT
BEGIN:STANDARD
TZNAME:CST
TZOFFSETFROM:-0500
TZOFFSETTO:-0600
DTSTART:19701101T020000
RRULE:FREQ=YEARLY;BYMONTH=11;BYDAY=1SU
END:STANDARD
END:VTIMEZONE
BEGIN:VEVENT
DTSTAMP:20260425T114807Z
DTSTART;TZID=America/Chicago:20141209T180000
DTEND;TZID=America/Chicago:20141209T210000
SUMMARY:Guild Meeting
RRULE:FREQ=MONTHLY;UNTIL=20201120;BYDAY=2TU
DESCRIPTION:Patience Quilters meets every 2nd Tuesday of the month at 6:30P
 M at West Library\, just off Hwy 28 West behind Provine Studio\, Alexandri
 a\, La.  Before the meetings we have a little snack bar. Meetings consist 
 of a short program presentation\, administrative business\, show and tell 
 by members.  There is usually a sign outside the entrance door that can be
  seen from the drive. Guests are always welcome! 
X-ALT-DESC;FMTTYPE=text/html:<p>Patience Quilters meets every 2nd Tuesday o
 f the month at 6:30PM at <a title='Click here for directions' href='http:/
 /www.google.com/maps?f=q&amp\;source=s_q&amp\;hl=en&amp\;geocode=&amp\;q=5
 416+Provine+Place\,+Alexandria\,+LA&amp\;sll=37.0625\,-95.677068&amp\;sspn
 =43.393645\,76.201172&amp\;ie=UTF8&amp\;view=map' target='_blank'>West Lib
 rary</a>\, just off Hwy 28 West behind Provine Studio\, Alexandria\, La.&n
 bsp\; <br />Before the meetings we have a little snack bar. Meetings consi
 st of a short program presentation\, administrative business\, show and te
 ll by members.&nbsp\; There is usually a sign outside the entrance door th
 at can be seen from the drive. Guests are always welcome!&nbsp\;</p>
CATEGORIES:Clubs & Organizations
UID:20141120T2342370Z-519877-2@localendar.com
END:VEVENT
END:VCALENDAR
