BEGIN:VCALENDAR
PRODID:-//Ben Fortuna//iCal4j 1.0//EN
VERSION:2.0
CALSCALE:GREGORIAN
BEGIN:VTIMEZONE
TZID:America/Chicago
LAST-MODIFIED:20260306T231828Z
TZURL:https://www.tzurl.org/zoneinfo-outlook/America/Chicago
X-LIC-LOCATION:America/Chicago
BEGIN:DAYLIGHT
TZNAME:CDT
TZOFFSETFROM:-0600
TZOFFSETTO:-0500
DTSTART:19700308T020000
RRULE:FREQ=YEARLY;BYMONTH=3;BYDAY=2SU
END:DAYLIGHT
BEGIN:STANDARD
TZNAME:CST
TZOFFSETFROM:-0500
TZOFFSETTO:-0600
DTSTART:19701101T020000
RRULE:FREQ=YEARLY;BYMONTH=11;BYDAY=1SU
END:STANDARD
END:VTIMEZONE
BEGIN:VEVENT
DTSTAMP:20260420T083112Z
DTSTART;TZID=America/Chicago:20200301T093000
DTEND;TZID=America/Chicago:20200301T103000
SUMMARY:Worship
RRULE:FREQ=WEEKLY;UNTIL=20220905;BYDAY=SU
EXDATE;TZID=America/Chicago:20220102T093000
EXDATE;TZID=America/Chicago:20200322T093000
EXDATE;TZID=America/Chicago:20200329T093000
DESCRIPTION:
X-ALT-DESC;FMTTYPE=text/html:
CATEGORIES:General
UID:20220526T0113150Z-573910-111@localendar.com
END:VEVENT
BEGIN:VEVENT
DTSTAMP:20260420T083112Z
SUMMARY:Happy Anniversary St. Luke UCC!
RRULE:FREQ=YEARLY;WKST=SU;UNTIL=20300118;BYMONTH=1;BYMONTHDAY=18
DTSTART;VALUE=DATE:20220118
DTEND;VALUE=DATE:20220119
DESCRIPTION:120 years!!
X-ALT-DESC;FMTTYPE=text/html:<p>120 years!!</p>
CATEGORIES:General
UID:20211214T2309180Z-573910-121@localendar.com
END:VEVENT
BEGIN:VEVENT
DTSTAMP:20260420T083112Z
DTSTART;TZID=America/Chicago:20220911T221500
DTEND;TZID=America/Chicago:20220911T231500
SUMMARY:Worship Service
RRULE:FREQ=WEEKLY;UNTIL=20230607;BYDAY=SU
EXDATE;TZID=America/Chicago:20230101T221500
EXDATE;TZID=America/Chicago:20230108T221500
DESCRIPTION:
X-ALT-DESC;FMTTYPE=text/html:
CATEGORIES:General
UID:20220526T0116010Z-573910-123@localendar.com
END:VEVENT
BEGIN:VEVENT
DTSTAMP:20260420T083112Z
DTSTART;VALUE=DATE:20230101
SUMMARY:NO WORSHIP 
DESCRIPTION:
X-ALT-DESC;FMTTYPE=text/html:
CATEGORIES:General
UID:20221212T1838190Z-573910-124@localendar.com
END:VEVENT
BEGIN:VEVENT
DTSTAMP:20260420T083112Z
DTSTART;TZID=America/Chicago:20221224T170000
DTEND;TZID=America/Chicago:20221224T180000
SUMMARY:Christmas Eve Candlelight Services
DESCRIPTION:We will have 2 candlelight worship services.  5pm and 7pm
X-ALT-DESC;FMTTYPE=text/html:<p>We will have 2 candlelight worship services
 .&nbsp\; 5pm and 7pm</p>
CATEGORIES:General
UID:20221212T1902230Z-573910-125@localendar.com
END:VEVENT
BEGIN:VEVENT
DTSTAMP:20260420T083112Z
DTSTART;TZID=America/Chicago:20221224T190000
DTEND;TZID=America/Chicago:20221224T200000
SUMMARY:Christmas Eve Candlelight Services
DESCRIPTION:2nd Candlelight Worship Service 7pm
X-ALT-DESC;FMTTYPE=text/html:<p>2nd Candlelight Worship Service 7pm</p>
CATEGORIES:General
UID:20221212T1903160Z-573910-126@localendar.com
END:VEVENT
BEGIN:VEVENT
DTSTAMP:20260420T083112Z
DTSTART;TZID=America/Chicago:20230114T090000
DTEND;TZID=America/Chicago:20230114T110000
SUMMARY:Food Pantry
RRULE:FREQ=MONTHLY;UNTIL=20250114;BYDAY=2SA
DESCRIPTION:Our food pantry is open every 2nd Saturday of the month\, from 
 9am-11am...unless otherwise noted.
X-ALT-DESC;FMTTYPE=text/html:<p>Our food pantry is open every 2nd Saturday 
 of the month\, from 9am-11am...unless otherwise noted.</p>
CATEGORIES:General
UID:20221212T1907470Z-573910-127@localendar.com
END:VEVENT
BEGIN:VEVENT
DTSTAMP:20260420T083112Z
DTSTART;TZID=America/Chicago:20230107T090000
DTEND;TZID=America/Chicago:20230107T090000
SUMMARY:Striking of the Greens
DESCRIPTION:Taking down Christmas decor.
X-ALT-DESC;FMTTYPE=text/html:<p>Taking down Christmas decor.</p>
CATEGORIES:General
UID:20221212T1909320Z-573910-128@localendar.com
END:VEVENT
BEGIN:VEVENT
DTSTAMP:20260420T083112Z
DTSTART;TZID=America/Chicago:20230108T221500
DTEND;TZID=America/Chicago:20230108T231500
SUMMARY:Worship Service
DESCRIPTION:Will have Communion
X-ALT-DESC;FMTTYPE=text/html:<p>Will have Communion</p>
CATEGORIES:General
UID:20221212T1910490Z-573910-129@localendar.com
END:VEVENT
BEGIN:VEVENT
DTSTAMP:20260420T083112Z
DTSTART;TZID=America/Chicago:20230108T112000
DTEND;TZID=America/Chicago:20230108T122000
SUMMARY:Elders & Council Meetings
DESCRIPTION:After worship.
X-ALT-DESC;FMTTYPE=text/html:<p>After worship.</p>
CATEGORIES:General
UID:20221212T1911430Z-573910-130@localendar.com
END:VEVENT
BEGIN:VEVENT
DTSTAMP:20260420T083112Z
DTSTART;TZID=America/Chicago:20230115T112000
DTEND;TZID=America/Chicago:20230115T122000
SUMMARY:Endowment Meeting
DESCRIPTION:After Worship
X-ALT-DESC;FMTTYPE=text/html:<p>After Worship</p>
CATEGORIES:General
UID:20221212T1912190Z-573910-131@localendar.com
END:VEVENT
BEGIN:VEVENT
DTSTAMP:20260420T083112Z
DTSTART;TZID=America/Chicago:20230122T112000
DTEND;TZID=America/Chicago:20230122T122000
SUMMARY:Continuing Gifts Meeting
DESCRIPTION:After Worship.
X-ALT-DESC;FMTTYPE=text/html:<p>After Worship.</p>
CATEGORIES:General
UID:20221212T1913040Z-573910-132@localendar.com
END:VEVENT
BEGIN:VEVENT
DTSTAMP:20260420T083112Z
DTSTART;VALUE=DATE:20230122
SUMMARY:Tidings Deadline
DESCRIPTION:If you have anything you'd like to have in the upcoming Tidings
 \, please be sure to have it into Paula by this day.
X-ALT-DESC;FMTTYPE=text/html:<p>If you have anything you'd like to have in 
 the upcoming Tidings\, please be sure to have it into Paula by this day.</
 p>
CATEGORIES:General
UID:20221212T1913410Z-573910-133@localendar.com
END:VEVENT
END:VCALENDAR
