BEGIN:VCALENDAR
PRODID:-//Ben Fortuna//iCal4j 1.0//EN
VERSION:2.0
CALSCALE:GREGORIAN
BEGIN:VTIMEZONE
TZID:America/Los_Angeles
LAST-MODIFIED:20260306T231828Z
TZURL:https://www.tzurl.org/zoneinfo-outlook/America/Los_Angeles
X-LIC-LOCATION:America/Los_Angeles
BEGIN:DAYLIGHT
TZNAME:PDT
TZOFFSETFROM:-0800
TZOFFSETTO:-0700
DTSTART:19700308T020000
RRULE:FREQ=YEARLY;BYMONTH=3;BYDAY=2SU
END:DAYLIGHT
BEGIN:STANDARD
TZNAME:PST
TZOFFSETFROM:-0700
TZOFFSETTO:-0800
DTSTART:19701101T020000
RRULE:FREQ=YEARLY;BYMONTH=11;BYDAY=1SU
END:STANDARD
END:VTIMEZONE
BEGIN:VEVENT
DTSTAMP:20260425T233433Z
DTSTART;VALUE=DATE:20190507
SUMMARY:Satry Farms & Yard Sale EXPO
RRULE:FREQ=DAILY;COUNT=87
EXDATE;VALUE=DATE:20190526
DESCRIPTION:May 7th till Aug 1st 2019 - You can display your farm items or 
 sell things at the yard sale. - Globit Region
X-ALT-DESC;FMTTYPE=text/html:<p>May 7th till Aug 1st 2019 - You can display
  your farm items or sell things at the yard sale. - Globit Region</p>
CATEGORIES:General
LOCATION:HG: tanglegrid.net:8002:expo isle
UID:20190526T1813020Z-594132-2@localendar.com
END:VEVENT
BEGIN:VEVENT
DTSTAMP:20260425T233433Z
DTSTART;VALUE=DATE:20190526
SUMMARY:Satry Farms & Yard Sale EXPO
DESCRIPTION:May 7th till Aug 1st 2019 - You can display your farm items or 
 sell things at the yard sale. - Globit Region
X-ALT-DESC;FMTTYPE=text/html:<p>May 7th till Aug 1st 2019 - You can display
  your farm items or sell things at the yard sale. - Globit Region</p>
CATEGORIES:General
LOCATION:HG: tanglegrid.net:8002:expo isle
UID:20190526T1810560Z-594132-3@localendar.com
END:VEVENT
BEGIN:VEVENT
DTSTAMP:20260425T233433Z
DTSTART;VALUE=DATE:20190827
SUMMARY:Steam Punk EXPO
RRULE:FREQ=DAILY;COUNT=29
DESCRIPTION:Aug 27th till Sept 24th 2019 - Anything Steam or Steam Punk. Re
 gion is Globits so you can also sell your items.
X-ALT-DESC;FMTTYPE=text/html:<p>Aug 27th till Sept 24th 2019 - Anything Ste
 am or Steam Punk. Region is Globits so you can also sell your items.</p>
CATEGORIES:General
LOCATION:TanGLe Grid - HG: tanglegrid.net:8002:expo isle
UID:20190526T1820590Z-594132-4@localendar.com
END:VEVENT
BEGIN:VEVENT
DTSTAMP:20260425T233433Z
DTSTART;VALUE=DATE:20191015
SUMMARY:Halloween EXPO
RRULE:FREQ=DAILY;COUNT=36
DESCRIPTION:Oct 15th till Nov 19th 2019. All things scary. Region is Gloebi
 ts so you can sell your items.
X-ALT-DESC;FMTTYPE=text/html:<p>Oct 15th till Nov 19th 2019. All things sca
 ry. Region is Gloebits so you can sell your items.</p>
CATEGORIES:General
LOCATION:TanGLe Grid - HG: tanglegrid.net:8002:expo isle
UID:20190526T1826150Z-594132-5@localendar.com
END:VEVENT
BEGIN:VEVENT
DTSTAMP:20260425T233433Z
DTSTART;VALUE=DATE:20191201
SUMMARY:Winter EXPO
RRULE:FREQ=DAILY;COUNT=44
DESCRIPTION:Dec 1st till Jan 13th 2020. This is a Gloebits region so you ca
 n sell your items. Get in the Xmas Spirit.
X-ALT-DESC;FMTTYPE=text/html:<p>Dec 1st till Jan 13th 2020. This is a Gloeb
 its region so you can sell your items. Get in the Xmas Spirit.</p>
CATEGORIES:General
LOCATION:TanGLe Grid - HG: tanglegrid.net:8002:expo isle
UID:20190526T1829520Z-594132-6@localendar.com
END:VEVENT
BEGIN:VEVENT
DTSTAMP:20260425T233433Z
DTSTART;VALUE=DATE:20200205
SUMMARY:Sci-Fi EXPO
RRULE:FREQ=DAILY;COUNT=30
DESCRIPTION:Starts Feb 5th till March 5th 2020. Everyone is welcome to setu
 p displays or just come see the displays. Vote for your favorite one.
X-ALT-DESC;FMTTYPE=text/html:<p>Starts Feb 5th till March 5th 2020. Everyon
 e is welcome to setup displays or just come see the displays. Vote for you
 r favorite one.</p>
CATEGORIES:Career Fairs & Trade Shows
LOCATION:TanGLe Grid - HG:hop:// tanglegrid.net:8002/expo isle
UID:20191127T0741020Z-594132-7@localendar.com
END:VEVENT
BEGIN:VEVENT
DTSTAMP:20260425T233433Z
DTSTART;VALUE=DATE:20200405
SUMMARY:Avatar Fashion & Accessories EXPO
RRULE:FREQ=DAILY;COUNT=26
DESCRIPTION:Starts (April 2nd till April 30th) - Everyone is welcome to set
 up displays or just come see the displays. Vote for your favorite one.
X-ALT-DESC;FMTTYPE=text/html:<p>Starts (April 2nd till April 30th) - Everyo
 ne is welcome to setup displays or just come see the displays. Vote for yo
 ur favorite one.</p>
CATEGORIES:General
LOCATION:TanGLe Grid - HG:hop:// tanglegrid.net:8002/expo isle
UID:20191127T0740450Z-594132-8@localendar.com
END:VEVENT
BEGIN:VEVENT
DTSTAMP:20260425T233433Z
DTSTART;VALUE=DATE:20200507
SUMMARY:Satry Farms & Yard Sale EXPO
RRULE:FREQ=DAILY;COUNT=87
DESCRIPTION:Starts (May 7th till Aug 1st) - Everyone is welcome to setup di
 splays or just come see the displays. Vote for your favorite one.
X-ALT-DESC;FMTTYPE=text/html:<p>Starts (May 7th till Aug 1st) - Everyone is
  welcome to setup displays or just come see the displays. Vote for your fa
 vorite one.</p>
CATEGORIES:General
LOCATION:TanGLe Grid - HG:hop:// tanglegrid.net:8002/expo isle
UID:20191127T0740330Z-594132-9@localendar.com
END:VEVENT
BEGIN:VEVENT
DTSTAMP:20260425T233433Z
DTSTART;VALUE=DATE:20200827
SUMMARY:Steam Punk EXPO
RRULE:FREQ=DAILY;COUNT=29
DESCRIPTION:Starts (Aug 27th till Sept 24th) - Everyone is welcome to setup
  displays or just come see the displays. Vote for your favorite one.
X-ALT-DESC;FMTTYPE=text/html:<p>Starts (Aug 27th till Sept 24th) - Everyone
  is welcome to setup displays or just come see the displays. Vote for your
  favorite one.</p>
CATEGORIES:General
LOCATION:TanGLe Grid - HG:hop:// tanglegrid.net:8002/expo isle
UID:20191127T0741360Z-594132-10@localendar.com
END:VEVENT
BEGIN:VEVENT
DTSTAMP:20260425T233433Z
DTSTART;VALUE=DATE:20201015
SUMMARY:Halloween EXPO
RRULE:FREQ=DAILY;COUNT=36
DESCRIPTION:Starts (Oct 15th till Nov 19th) - Everyone is welcome to setup 
 displays or just come see the displays. Vote for your favorite one.
X-ALT-DESC;FMTTYPE=text/html:<p>Starts (Oct 15th till Nov 19th) - Everyone 
 is welcome to setup displays or just come see the displays. Vote for your 
 favorite one.</p>
CATEGORIES:General
LOCATION:TanGLe Grid - HG:hop:// tanglegrid.net:8002/expo isle
UID:20191127T0741510Z-594132-11@localendar.com
END:VEVENT
BEGIN:VEVENT
DTSTAMP:20260425T233433Z
DTSTART;VALUE=DATE:20201201
SUMMARY:Winter EXPO
RRULE:FREQ=DAILY;COUNT=44
DESCRIPTION:Starts (Dec 1st till Jan 13th 2021) - Everyone is welcome to se
 tup displays or just come see the displays. Vote for your favorite one.
X-ALT-DESC;FMTTYPE=text/html:<p>Starts (Dec 1st till Jan 13th 2021) - Every
 one is welcome to setup displays or just come see the displays. Vote for y
 our favorite one.</p>
CATEGORIES:General
LOCATION:TanGLe Grid - HG:hop:// tanglegrid.net:8002/expo isle
UID:20191127T0742130Z-594132-12@localendar.com
END:VEVENT
BEGIN:VEVENT
DTSTAMP:20260425T233433Z
DTSTART;TZID=America/Los_Angeles:20200706T100000
DTEND;TZID=America/Los_Angeles:20200706T120000
SUMMARY:DJ Leslie Classic Rock
DESCRIPTION:Come one come all to the GCG Refuge Region for 2 hours of great
  classic rock tunes. DJ Leslie will be spinning some of your all time favs
 .
X-ALT-DESC;FMTTYPE=text/html:<p dir='auto'>Come one come all to the GCG Ref
 uge Region for 2 hours of great classic rock tunes. DJ Leslie will be spin
 ning some of your all time favs.</p>
CATEGORIES:Entertainment
UID:20200630T0348460Z-594132-13@localendar.com
END:VEVENT
BEGIN:VEVENT
DTSTAMP:20260425T233433Z
DTSTART;TZID=America/Los_Angeles:20200803T100000
DTEND;TZID=America/Los_Angeles:20200803T120000
SUMMARY:DJ Leslie Classic Rock
DESCRIPTION:Come one come all to the GCG Refuge Region for 2 hours of great
  classic rock tunes. DJ Leslie will be spinning some of your all time favs
 .
X-ALT-DESC;FMTTYPE=text/html:<p>Come one come all to the GCG Refuge Region 
 for 2 hours of great classic rock tunes. DJ Leslie will be spinning some o
 f your all time favs.</p>
CATEGORIES:Entertainment
UID:20200630T0409120Z-594132-14@localendar.com
END:VEVENT
BEGIN:VEVENT
DTSTAMP:20260425T233433Z
DTSTART;TZID=America/Los_Angeles:20200907T100000
DTEND;TZID=America/Los_Angeles:20200907T120000
SUMMARY:DJ Leslie Classic Rock
DESCRIPTION:All your fav classic rock tunes by DJ Leslie
X-ALT-DESC;FMTTYPE=text/html:<p>All your fav classic rock tunes by DJ Lesli
 e</p>
CATEGORIES:Entertainment
UID:20200803T1621070Z-594132-15@localendar.com
END:VEVENT
BEGIN:VEVENT
DTSTAMP:20260425T233433Z
DTSTART;TZID=America/Los_Angeles:20201012T100000
DTEND;TZID=America/Los_Angeles:20201012T120000
SUMMARY:DJ Leslie Classic Rock
DESCRIPTION:Come one come all to the Halloween EXPO for 2 hours of great cl
 assic rock tunes. DJ Leslie will be spinning some of your all time favs.
X-ALT-DESC;FMTTYPE=text/html:<p>Come one come all to the Halloween EXPO for
  2 hours of great classic rock tunes. DJ Leslie will be spinning some of y
 our all time favs.</p>
CATEGORIES:General
UID:20201005T1042090Z-594132-16@localendar.com
END:VEVENT
BEGIN:VEVENT
DTSTAMP:20260425T233433Z
DTSTART;TZID=America/Los_Angeles:20200819T100000
DTEND;TZID=America/Los_Angeles:20200819T160000
SUMMARY:DJ Leslie Classic Motown
DESCRIPTION:6 hours of commercial free Motown. TanGLe Radio. http://www.tan
 glegrid.net:7004 in about land or our website player: https://www.tanglegr
 id.com/tradio/
X-ALT-DESC;FMTTYPE=text/html:<p>6 hours of commercial free Motown. TanGLe R
 adio. http://www.tanglegrid.net:7004 in about land or our website player:&
 nbsp\;<a href='https://www.tanglegrid.com/tradio/'>https://www.tanglegrid.
 com/tradio/</a></p>
CATEGORIES:Entertainment
UID:20200819T1228280Z-594132-20@localendar.com
END:VEVENT
BEGIN:VEVENT
DTSTAMP:20260425T233433Z
DTSTART;TZID=America/Los_Angeles:20201111T100000
DTEND;TZID=America/Los_Angeles:20201111T160000
SUMMARY:GRID SHUT DOWN
DESCRIPTION:Grid will be down from 12pm till 6am PDT (Grid Time). Yearly Ma
 intaine - Thank you for understanding.
X-ALT-DESC;FMTTYPE=text/html:<p>Grid will be down from 12pm till 6am PDT (G
 rid Time).</p>  <p>Yearly Maintaine - Thank you for understanding.</p>
CATEGORIES:General
UID:20201110T0804040Z-594132-21@localendar.com
END:VEVENT
BEGIN:VEVENT
DTSTAMP:20260425T233433Z
DTSTART;TZID=America/Los_Angeles:20210104T100000
DTEND;TZID=America/Los_Angeles:20210104T120000
SUMMARY:DJ Leslie Classic Rock
DESCRIPTION:Come one come all to the BLUE MOON Region for 2 hours of great 
 classic rock tunes. DJ Leslie will be spinning some of your all time favs.
 
X-ALT-DESC;FMTTYPE=text/html:<p>Come one come all to the&nbsp\;BLUE MOON Re
 gion for 2 hours of great classic rock tunes. DJ Leslie will be spinning s
 ome of your all time favs.</p>
CATEGORIES:Entertainment
UID:20201104T0703490Z-594132-30@localendar.com
END:VEVENT
BEGIN:VEVENT
DTSTAMP:20260425T233433Z
DTSTART;TZID=America/Los_Angeles:20210201T100000
DTEND;TZID=America/Los_Angeles:20210201T120000
SUMMARY:DJ Leslie Classic Rock
DESCRIPTION:Come one come all to the BLUE MOON Region for 2 hours of great 
 classic rock tunes. DJ Leslie will be spinning some of your all time favs.
 
X-ALT-DESC;FMTTYPE=text/html:<p>Come one come all to the&nbsp\;BLUE MOON Re
 gion for 2 hours of great classic rock tunes. DJ Leslie will be spinning s
 ome of your all time favs.</p>
CATEGORIES:General
UID:20201104T0704310Z-594132-31@localendar.com
END:VEVENT
BEGIN:VEVENT
DTSTAMP:20260425T233433Z
DTSTART;TZID=America/Los_Angeles:20210301T100000
DTEND;TZID=America/Los_Angeles:20210301T120000
SUMMARY:DJ Leslie Classic Rock
DESCRIPTION:Come one come all to the BLUE MOON Region for 2 hours of great 
 classic rock tunes. DJ Leslie will be spinning some of your all time favs.
 
X-ALT-DESC;FMTTYPE=text/html:<p>Come one come all to the&nbsp\;BLUE MOON Re
 gion for 2 hours of great classic rock tunes. DJ Leslie will be spinning s
 ome of your all time favs.</p>
CATEGORIES:General
UID:20201104T0705170Z-594132-32@localendar.com
END:VEVENT
BEGIN:VEVENT
DTSTAMP:20260425T233433Z
DTSTART;TZID=America/Los_Angeles:20210405T100000
DTEND;TZID=America/Los_Angeles:20210405T120000
SUMMARY:DJ Leslie Classic Rock
DESCRIPTION:Come one come all to the BLUE MOON Region for 2 hours of great 
 classic rock tunes. DJ Leslie will be spinning some of your all time favs.
 
X-ALT-DESC;FMTTYPE=text/html:<p>Come one come all to the&nbsp\;BLUE MOON Re
 gion for 2 hours of great classic rock tunes. DJ Leslie will be spinning s
 ome of your all time favs.</p>
CATEGORIES:General
UID:20201104T0705590Z-594132-33@localendar.com
END:VEVENT
BEGIN:VEVENT
DTSTAMP:20260425T233433Z
DTSTART;TZID=America/Los_Angeles:20210503T100000
DTEND;TZID=America/Los_Angeles:20210503T120000
SUMMARY:CANCELLED - DJ Leslie Classic Rock
DESCRIPTION:Come one come all to the BLUE MOON Region for 2 hours of great 
 classic rock tunes. DJ Leslie will be spinning some of your all time favs.
 
X-ALT-DESC;FMTTYPE=text/html:<p>Come one come all to the BLUE MOON Region f
 or 2 hours of great classic rock tunes. DJ Leslie will be spinning some of
  your all time favs.</p>
CATEGORIES:General
UID:20210503T0428340Z-594132-34@localendar.com
END:VEVENT
BEGIN:VEVENT
DTSTAMP:20260425T233433Z
DTSTART;TZID=America/Los_Angeles:20210607T100000
DTEND;TZID=America/Los_Angeles:20210607T120000
SUMMARY:DJ Leslie Classic Rock
DESCRIPTION:Come one come all to the BLUE MOON Region for 2 hours of great 
 classic rock tunes. DJ Leslie will be spinning some of your all time favs.
 
X-ALT-DESC;FMTTYPE=text/html:<p>Come one come all to the&nbsp\;BLUE MOON Re
 gion for 2 hours of great classic rock tunes. DJ Leslie will be spinning s
 ome of your all time favs.</p>
CATEGORIES:General
UID:20201104T0707100Z-594132-35@localendar.com
END:VEVENT
BEGIN:VEVENT
DTSTAMP:20260425T233433Z
DTSTART;TZID=America/Los_Angeles:20210705T100000
DTEND;TZID=America/Los_Angeles:20210705T120000
SUMMARY:DJ Leslie Classic Rock
DESCRIPTION:Come one come all to the BLUE MOON Region for 2 hours of great 
 classic rock tunes. DJ Leslie will be spinning some of your all time favs.
 
X-ALT-DESC;FMTTYPE=text/html:<p>Come one come all to the&nbsp\;BLUE MOON Re
 gion for 2 hours of great classic rock tunes. DJ Leslie will be spinning s
 ome of your all time favs.</p>
CATEGORIES:General
UID:20201104T0707440Z-594132-36@localendar.com
END:VEVENT
BEGIN:VEVENT
DTSTAMP:20260425T233433Z
DTSTART;TZID=America/Los_Angeles:20210802T100000
DTEND;TZID=America/Los_Angeles:20210802T120000
SUMMARY:DJ Leslie Classic Rock
DESCRIPTION:Come one come all to the BLUE MOON Region for 2 hours of great 
 classic rock tunes. DJ Leslie will be spinning some of your all time favs.
 
X-ALT-DESC;FMTTYPE=text/html:<p>Come one come all to the&nbsp\;BLUE MOON Re
 gion for 2 hours of great classic rock tunes. DJ Leslie will be spinning s
 ome of your all time favs.</p>
CATEGORIES:General
UID:20201104T0708260Z-594132-37@localendar.com
END:VEVENT
BEGIN:VEVENT
DTSTAMP:20260425T233433Z
DTSTART;TZID=America/Los_Angeles:20210906T100000
DTEND;TZID=America/Los_Angeles:20210906T120000
SUMMARY:DJ Leslie Classic Rock
DESCRIPTION:Come one come all to the BLUE MOON Region for 2 hours of great 
 classic rock tunes. DJ Leslie will be spinning some of your all time favs.
 
X-ALT-DESC;FMTTYPE=text/html:<p>Come one come all to the&nbsp\;BLUE MOON Re
 gion for 2 hours of great classic rock tunes. DJ Leslie will be spinning s
 ome of your all time favs.</p>
CATEGORIES:General
UID:20201104T0708570Z-594132-38@localendar.com
END:VEVENT
BEGIN:VEVENT
DTSTAMP:20260425T233433Z
DTSTART;TZID=America/Los_Angeles:20211004T100000
DTEND;TZID=America/Los_Angeles:20211004T120000
SUMMARY:DJ Leslie Classic Rock
DESCRIPTION:Come one come all to the BLUE MOON Region for 2 hours of great 
 classic rock tunes. DJ Leslie will be spinning some of your all time favs.
 
X-ALT-DESC;FMTTYPE=text/html:<p>Come one come all to the&nbsp\;BLUE MOON Re
 gion for 2 hours of great classic rock tunes. DJ Leslie will be spinning s
 ome of your all time favs.</p>
CATEGORIES:General
UID:20201104T0709330Z-594132-39@localendar.com
END:VEVENT
BEGIN:VEVENT
DTSTAMP:20260425T233433Z
DTSTART;TZID=America/Los_Angeles:20201102T100000
DTEND;TZID=America/Los_Angeles:20201102T120000
SUMMARY:DJ Leslie Classic Rock
DESCRIPTION:Come one come all to the GCG Refuge Region for 2 hours of great
  classic rock tunes. DJ Leslie will be spinning some of your all time favs
 .
X-ALT-DESC;FMTTYPE=text/html:<p>Come one come all to the&nbsp\;GCG Refuge R
 egion for 2 hours of great classic rock tunes. DJ Leslie will be spinning 
 some of your all time favs.</p>
CATEGORIES:General
UID:20201104T0718360Z-594132-41@localendar.com
END:VEVENT
BEGIN:VEVENT
DTSTAMP:20260425T233433Z
DTSTART;TZID=America/Los_Angeles:20211101T100000
DTEND;TZID=America/Los_Angeles:20211101T120000
SUMMARY:DJ Leslie Classic Rock
DESCRIPTION:Come one come all to the BLUE MOON Region for 2 hours of great 
 classic rock tunes. DJ Leslie will be spinning some of your all time favs.
 
X-ALT-DESC;FMTTYPE=text/html:<p>Come one come all to the&nbsp\;BLUE MOON Re
 gion for 2 hours of great classic rock tunes. DJ Leslie will be spinning s
 ome of your all time favs.</p>
CATEGORIES:General
UID:20201104T0711510Z-594132-42@localendar.com
END:VEVENT
BEGIN:VEVENT
DTSTAMP:20260425T233433Z
DTSTART;TZID=America/Los_Angeles:20211206T100000
DTEND;TZID=America/Los_Angeles:20211206T120000
SUMMARY:DJ Leslie Classic Rock
DESCRIPTION:Come one come all to the BLUE MOON Region for 2 hours of great 
 classic rock tunes. DJ Leslie will be spinning some of your all time favs.
 
X-ALT-DESC;FMTTYPE=text/html:<p>Come one come all to the&nbsp\;BLUE MOON Re
 gion for 2 hours of great classic rock tunes. DJ Leslie will be spinning s
 ome of your all time favs.</p>
CATEGORIES:General
UID:20201104T0712270Z-594132-43@localendar.com
END:VEVENT
BEGIN:VEVENT
DTSTAMP:20260425T233433Z
DTSTART;TZID=America/Los_Angeles:20220103T100000
DTEND;TZID=America/Los_Angeles:20220103T120000
SUMMARY:DJ Leslie Classic Rock
DESCRIPTION:Come one come all to the BLUE MOON Region for 2 hours of great 
 classic rock tunes. DJ Leslie will be spinning some of your all time favs.
 
X-ALT-DESC;FMTTYPE=text/html:<p>Come one come all to the&nbsp\;BLUE MOON Re
 gion for 2 hours of great classic rock tunes. DJ Leslie will be spinning s
 ome of your all time favs.</p>
CATEGORIES:General
UID:20201104T0713030Z-594132-44@localendar.com
END:VEVENT
BEGIN:VEVENT
DTSTAMP:20260425T233433Z
DTSTART;TZID=America/Los_Angeles:20201207T100000
DTEND;TZID=America/Los_Angeles:20201207T120000
SUMMARY:DJ Leslie Classic Rock
DESCRIPTION:Come one come all to the EXPO ISLE Region for 2 hours of great 
 classic rock tunes. DJ Leslie will be spinning some of your all time favs.
 
X-ALT-DESC;FMTTYPE=text/html:<p>Come one come all to the&nbsp\;EXPO ISLE Re
 gion for 2 hours of great classic rock tunes. DJ Leslie will be spinning s
 ome of your all time favs.</p>
CATEGORIES:General
UID:20201104T0714080Z-594132-45@localendar.com
END:VEVENT
BEGIN:VEVENT
DTSTAMP:20260425T233433Z
DTSTART;VALUE=DATE:20210721
SUMMARY:GRID DOWN
DESCRIPTION:TanGLe Grid NEWS...... GRID WILL BE DOWN: GRID will down due to
  server move. We are looking at 4 days maybe less will keep you updated vi
 a our MeWe & Facebook. Down will be July 21st and July 24th. All paid regi
 ons will get days added to their TIERS box.
X-ALT-DESC;FMTTYPE=text/html:TanGLe Grid NEWS......  GRID WILL BE DOWN: GRI
 D will down due to server move. We are looking at 4 days maybe less will k
 eep you updated via our MeWe & Facebook. Down will be July 21st and July 2
 4th. All paid regions will get days added to their TIERS box. 
CATEGORIES:Self Improvement
UID:20210718T0507420Z-594132-46@localendar.com
END:VEVENT
BEGIN:VEVENT
DTSTAMP:20260425T233433Z
DTSTART;VALUE=DATE:20210722
SUMMARY:GRID DOWN
RRULE:FREQ=DAILY;COUNT=3
DESCRIPTION:TanGLe Grid NEWS...... GRID WILL BE DOWN: GRID will down due to
  server move. We are looking at 4 days maybe less will keep you updated vi
 a our MeWe & Facebook. Down will be July 21st and July 24th. All paid regi
 ons will get days added to their TIERS box.
X-ALT-DESC;FMTTYPE=text/html:TanGLe Grid NEWS......  GRID WILL BE DOWN: GRI
 D will down due to server move. We are looking at 4 days maybe less will k
 eep you updated via our MeWe & Facebook. Down will be July 21st and July 2
 4th. All paid regions will get days added to their TIERS box. 
CATEGORIES:Self Improvement
UID:20210718T0510510Z-594132-47@localendar.com
END:VEVENT
BEGIN:VEVENT
DTSTAMP:20260425T233433Z
DTSTART;TZID=America/Los_Angeles:20220207T100000
DTEND;TZID=America/Los_Angeles:20220207T120000
SUMMARY:DJ Leslie Classic Rock
DESCRIPTION:Valentines Party with DJ Leslie
X-ALT-DESC;FMTTYPE=text/html:Valentines Party with DJ Leslie
CATEGORIES:Entertainment
UID:20211023T0409200Z-594132-48@localendar.com
END:VEVENT
BEGIN:VEVENT
DTSTAMP:20260425T233433Z
DTSTART;TZID=America/Los_Angeles:20220307T100000
DTEND;TZID=America/Los_Angeles:20220307T120000
SUMMARY:DJ Leslie Classic Rock
DESCRIPTION:Classic Rock with DJ Leslie
X-ALT-DESC;FMTTYPE=text/html:<p>Classic Rock with DJ Leslie</p>
CATEGORIES:Entertainment
UID:20220308T0340260Z-594132-49@localendar.com
END:VEVENT
BEGIN:VEVENT
DTSTAMP:20260425T233433Z
DTSTART;TZID=America/Los_Angeles:20220404T100000
DTEND;TZID=America/Los_Angeles:20220404T120000
SUMMARY:Easter Party - DJ Leslie
DESCRIPTION:Easter Party with DJ Leslie
X-ALT-DESC;FMTTYPE=text/html:Easter Party with DJ Leslie
CATEGORIES:Entertainment
UID:20211023T0412070Z-594132-50@localendar.com
END:VEVENT
BEGIN:VEVENT
DTSTAMP:20260425T233433Z
DTSTART;VALUE=DATE:20211215
SUMMARY:Christmas Ball Hunt 2021
RRULE:FREQ=DAILY;COUNT=31
DESCRIPTION:You could WIN 5\,000 tbucks. Just login and search for all 200 
 Xmas balls around TanGLe Grid. More information go to: www.tanglegrid.net/
 christmashunt/. ** ENDS JAN 15th 2022**
X-ALT-DESC;FMTTYPE=text/html:You could WIN 5\,000 tbucks. Just login and se
 arch for all 200 Xmas balls around TanGLe Grid. More information go to: ww
 w.tanglegrid.net/christmashunt/. ** ENDS JAN 15th 2022**
CATEGORIES:Entertainment
UID:20211209T1514210Z-594132-51@localendar.com
END:VEVENT
BEGIN:VEVENT
DTSTAMP:20260425T233433Z
DTSTART;VALUE=DATE:20220115
SUMMARY:Christmas Ball Hunt ENDS
DESCRIPTION:You could WIN 5\,000 tbucks. Just login and search for all 200 
 Xmas balls around TanGLe Grid. More infor go to www.tanglegrid.net/christm
 ashunt/
X-ALT-DESC;FMTTYPE=text/html:You could WIN 5\,000 tbucks. Just login and se
 arch for all 200 Xmas balls around TanGLe Grid. More infor go to www.tangl
 egrid.net/christmashunt/
CATEGORIES:Entertainment
UID:20211209T1508250Z-594132-52@localendar.com
END:VEVENT
BEGIN:VEVENT
DTSTAMP:20260425T233433Z
DTSTART;TZID=America/Los_Angeles:20220502T100000
DTEND;TZID=America/Los_Angeles:20220502T120000
SUMMARY:DJ Leslie Classic Rock
DESCRIPTION:Classic Rock Party
X-ALT-DESC;FMTTYPE=text/html:<p>Classic Rock Party</p>
CATEGORIES:Entertainment
UID:20220308T0343230Z-594132-53@localendar.com
END:VEVENT
BEGIN:VEVENT
DTSTAMP:20260425T233433Z
DTSTART;TZID=America/Los_Angeles:20220606T100000
DTEND;TZID=America/Los_Angeles:20220606T120000
SUMMARY:DJ Leslie Classic Rock
DESCRIPTION:Classic Rock Party
X-ALT-DESC;FMTTYPE=text/html:<p>Classic Rock Party</p>
CATEGORIES:Entertainment
UID:20220308T0344410Z-594132-54@localendar.com
END:VEVENT
BEGIN:VEVENT
DTSTAMP:20260425T233433Z
DTSTART;TZID=America/Los_Angeles:20220704T100000
DTEND;TZID=America/Los_Angeles:20220704T120000
SUMMARY:DJ Leslie Classic Rock
DESCRIPTION:Classic Rock Party
X-ALT-DESC;FMTTYPE=text/html:<p>Classic Rock Party</p>
CATEGORIES:Entertainment
UID:20220308T0346080Z-594132-55@localendar.com
END:VEVENT
BEGIN:VEVENT
DTSTAMP:20260425T233433Z
DTSTART;TZID=America/Los_Angeles:20220801T100000
DTEND;TZID=America/Los_Angeles:20220801T120000
SUMMARY:DJ Leslie Classic Rock
DESCRIPTION:Classic Rock Party with DJ Leslie at Blue Moon Cafe. Region: Bl
 ue Moon
X-ALT-DESC;FMTTYPE=text/html:<p>Classic Rock Party with DJ Leslie at Blue M
 oon Cafe. Region: Blue Moon</p>
CATEGORIES:Entertainment
UID:20220523T0504270Z-594132-56@localendar.com
END:VEVENT
BEGIN:VEVENT
DTSTAMP:20260425T233433Z
DTSTART;TZID=America/Los_Angeles:20220905T100000
DTEND;TZID=America/Los_Angeles:20220905T120000
SUMMARY:DJ Leslie Classic Rock
DESCRIPTION:Classic Rock Party with DJ Leslie at Blue Moon Cafe. Region: Bl
 ue Moon
X-ALT-DESC;FMTTYPE=text/html:<p>Classic Rock Party with DJ Leslie at Blue M
 oon Cafe. Region: Blue Moon</p>
CATEGORIES:Entertainment
UID:20220523T0505170Z-594132-57@localendar.com
END:VEVENT
BEGIN:VEVENT
DTSTAMP:20260425T233433Z
DTSTART;TZID=America/Los_Angeles:20221107T100000
DTEND;TZID=America/Los_Angeles:20221107T120000
SUMMARY:DJ Leslie Classic Rock
DESCRIPTION:Classic Rock Party with DJ Leslie at Blue Moon Cafe. Region: Bl
 ue Moon
X-ALT-DESC;FMTTYPE=text/html:<p>Classic Rock Party with DJ Leslie at Blue M
 oon Cafe. Region: Blue Moon</p>
CATEGORIES:Entertainment
UID:20220523T0507350Z-594132-59@localendar.com
END:VEVENT
BEGIN:VEVENT
DTSTAMP:20260425T233433Z
DTSTART;TZID=America/Los_Angeles:20221205T100000
DTEND;TZID=America/Los_Angeles:20221205T120000
SUMMARY:DJ Leslie Classic Rock
DESCRIPTION:Classic Rock Xmas Party with DJ Leslie at Blue Moon Cafe. Regio
 n: Blue Moon
X-ALT-DESC;FMTTYPE=text/html:<p>Classic Rock Xmas Party with DJ Leslie at B
 lue Moon Cafe. Region: Blue Moon</p>
CATEGORIES:Entertainment
UID:20220523T0508210Z-594132-60@localendar.com
END:VEVENT
BEGIN:VEVENT
DTSTAMP:20260425T233433Z
DTSTART;TZID=America/Los_Angeles:20221112T220000
DTEND;TZID=America/Los_Angeles:20221113T080000
SUMMARY:GRID WILL BE DOWN FOR MAINTAINCE. November 12th
DESCRIPTION:GRID WILL BE DOWN FOR MAINTAINCE. November 12th for a few hours
 . Will keep you updated.
X-ALT-DESC;FMTTYPE=text/html:<p><span><strong>GRID WILL BE DOWN FOR MAINTAI
 NCE.</strong> November 12th for a few hours. Will keep you updated.</span>
 </p>
CATEGORIES:General
UID:20221110T1556460Z-594132-61@localendar.com
END:VEVENT
BEGIN:VEVENT
DTSTAMP:20260425T233433Z
DTSTART;TZID=America/Los_Angeles:20221112T220000
DTEND;TZID=America/Los_Angeles:20221113T080000
SUMMARY:GRID WILL BE DOWN FOR MAINTAINCE. November 12th
DESCRIPTION:GRID WILL BE DOWN FOR MAINTAINCE. November 12th for a few hours
 . Will keep you updated.
X-ALT-DESC;FMTTYPE=text/html:<p><span><strong>GRID WILL BE DOWN FOR MAINTAI
 NCE.</strong> November 12th for a few hours. Will keep you updated.</span>
 </p>
CATEGORIES:General
UID:20221110T1557370Z-594132-62@localendar.com
END:VEVENT
BEGIN:VEVENT
DTSTAMP:20260425T233433Z
DTSTART;TZID=America/Los_Angeles:20230102T100000
DTEND;TZID=America/Los_Angeles:20230102T120000
SUMMARY:DJ Leslie Classic Rock
DESCRIPTION:Classic Rock with DJ Leslie
X-ALT-DESC;FMTTYPE=text/html:<p>Classic Rock with DJ Leslie</p>
CATEGORIES:General
UID:20221231T0623370Z-594132-63@localendar.com
END:VEVENT
BEGIN:VEVENT
DTSTAMP:20260425T233433Z
DTSTART;TZID=America/Los_Angeles:20230206T100000
DTEND;TZID=America/Los_Angeles:20230206T120000
SUMMARY:DJ Leslie Classic Rock
DESCRIPTION:Classic Rock With DJ Leslie
X-ALT-DESC;FMTTYPE=text/html:<p>Classic Rock With DJ Leslie</p>
CATEGORIES:General
UID:20221231T0624480Z-594132-64@localendar.com
END:VEVENT
BEGIN:VEVENT
DTSTAMP:20260425T233433Z
DTSTART;TZID=America/Los_Angeles:20230306T100000
DTEND;TZID=America/Los_Angeles:20230306T120000
SUMMARY:DJ Leslie Classic Rock
DESCRIPTION:Classic Rock with DJ Leslie
X-ALT-DESC;FMTTYPE=text/html:<p>Classic Rock with DJ Leslie</p>
CATEGORIES:General
UID:20221231T0625410Z-594132-65@localendar.com
END:VEVENT
BEGIN:VEVENT
DTSTAMP:20260425T233433Z
DTSTART;TZID=America/Los_Angeles:20230403T100000
DTEND;TZID=America/Los_Angeles:20230403T120000
SUMMARY:DJ Leslie Classic Rock
DESCRIPTION:Classic Rock with DJ Leslie
X-ALT-DESC;FMTTYPE=text/html:<p>Classic Rock with DJ Leslie</p>
CATEGORIES:General
UID:20221231T0627310Z-594132-66@localendar.com
END:VEVENT
BEGIN:VEVENT
DTSTAMP:20260425T233433Z
DTSTART;TZID=America/Los_Angeles:20230707T100000
DTEND;TZID=America/Los_Angeles:20230707T120000
SUMMARY:DJ Leslie Classic Rock
DESCRIPTION:Classic Rock & A Little Country
X-ALT-DESC;FMTTYPE=text/html:<p>Classic Rock &amp\; A Little Country</p>
CATEGORIES:Entertainment
UID:20230621T1039020Z-594132-67@localendar.com
END:VEVENT
BEGIN:VEVENT
DTSTAMP:20260425T233433Z
DTSTART;TZID=America/Los_Angeles:20240801T050000
DTEND;TZID=America/Los_Angeles:20240801T060000
SUMMARY:Super Region Sale
RRULE:FREQ=DAILY;COUNT=31
DESCRIPTION:Read all about our Aug Month Region Super Sale. Visit our WWG N
 ews site for information. SUPER Region SALE
X-ALT-DESC;FMTTYPE=text/html:<p>Read all about our Aug Month Region Super S
 ale.</p>  <p>Visit our WWG News site for information.</p>  <p><a href='htt
 ps://westworldgrid.net/wwgnews/index.php/2024/07/27/super-region-sale-aug-
 2024/' target='_blank' title='Limited Time Offer' rel='nofollow'>SUPER Reg
 ion SALE</a></p>
CATEGORIES:WWG Super Sales
LOCATION:WWG
UID:20240727T1244090Z-594132-68@localendar.com
END:VEVENT
END:VCALENDAR
