BEGIN:VCALENDAR
PRODID:-//Ben Fortuna//iCal4j 1.0//EN
VERSION:2.0
CALSCALE:GREGORIAN
BEGIN:VTIMEZONE
TZID:America/New_York
LAST-MODIFIED:20260306T231828Z
TZURL:https://www.tzurl.org/zoneinfo-outlook/America/New_York
X-LIC-LOCATION:America/New_York
BEGIN:DAYLIGHT
TZNAME:EDT
TZOFFSETFROM:-0500
TZOFFSETTO:-0400
DTSTART:19700308T020000
RRULE:FREQ=YEARLY;BYMONTH=3;BYDAY=2SU
END:DAYLIGHT
BEGIN:STANDARD
TZNAME:EST
TZOFFSETFROM:-0400
TZOFFSETTO:-0500
DTSTART:19701101T020000
RRULE:FREQ=YEARLY;BYMONTH=11;BYDAY=1SU
END:STANDARD
END:VTIMEZONE
BEGIN:VEVENT
DTSTAMP:20260422T053036Z
DTSTART;TZID=America/New_York:20251207T090000
DTEND;TZID=America/New_York:20251207T120000
SUMMARY:DJ PANTHER
RRULE:FREQ=WEEKLY;UNTIL=20301231;BYDAY=SU
DESCRIPTION:
X-ALT-DESC;FMTTYPE=text/html:
CATEGORIES:General
UID:20260324T0015330Z-3202905-2@localendar.com
END:VEVENT
BEGIN:VEVENT
DTSTAMP:20260422T053036Z
DTSTART;TZID=America/New_York:20251207T120000
DTEND;TZID=America/New_York:20251207T150000
SUMMARY:DJ CLUTCH
RRULE:FREQ=WEEKLY;UNTIL=20301231;BYDAY=SU
DESCRIPTION:
X-ALT-DESC;FMTTYPE=text/html:
CATEGORIES:General
UID:20251225T0305490Z-3202905-3@localendar.com
END:VEVENT
BEGIN:VEVENT
DTSTAMP:20260422T053036Z
DTSTART;TZID=America/New_York:20251207T150000
DTEND;TZID=America/New_York:20251207T180000
SUMMARY:TBA
RRULE:FREQ=WEEKLY;UNTIL=20301231;BYDAY=SU
DESCRIPTION:
X-ALT-DESC;FMTTYPE=text/html:
CATEGORIES:General
UID:20260414T1542300Z-3202905-4@localendar.com
END:VEVENT
BEGIN:VEVENT
DTSTAMP:20260422T053036Z
DTSTART;TZID=America/New_York:20251207T180000
DTEND;TZID=America/New_York:20251207T210000
SUMMARY:DJ TEXASROSE
RRULE:FREQ=WEEKLY;UNTIL=20301231;BYDAY=SU
DESCRIPTION:
X-ALT-DESC;FMTTYPE=text/html:
CATEGORIES:General
UID:20260324T0344120Z-3202905-5@localendar.com
END:VEVENT
BEGIN:VEVENT
DTSTAMP:20260422T053036Z
DTSTART;TZID=America/New_York:20251207T210000
DTEND;TZID=America/New_York:20251207T230000
SUMMARY:DJ MONKERS
RRULE:FREQ=WEEKLY;UNTIL=20301231;BYDAY=SU
EXDATE;TZID=America/New_York:20251207T210000
DESCRIPTION:
X-ALT-DESC;FMTTYPE=text/html:
CATEGORIES:General
UID:20260324T0344370Z-3202905-6@localendar.com
END:VEVENT
BEGIN:VEVENT
DTSTAMP:20260422T053036Z
DTSTART;TZID=America/New_York:20251201T120000
DTEND;TZID=America/New_York:20251201T150000
SUMMARY:DJ FOXXY
RRULE:FREQ=WEEKLY;UNTIL=20301231;BYDAY=MO
EXDATE;TZID=America/New_York:20260302T120000
DESCRIPTION:
X-ALT-DESC;FMTTYPE=text/html:
CATEGORIES:General
UID:20260316T1302170Z-3202905-7@localendar.com
END:VEVENT
BEGIN:VEVENT
DTSTAMP:20260422T053036Z
DTSTART;TZID=America/New_York:20251201T150000
DTEND;TZID=America/New_York:20251201T180000
SUMMARY:DJ MOONSHINEMICKEY
RRULE:FREQ=WEEKLY;UNTIL=20301231;BYDAY=MO
DESCRIPTION:
X-ALT-DESC;FMTTYPE=text/html:
CATEGORIES:General
UID:20260324T0347160Z-3202905-8@localendar.com
END:VEVENT
BEGIN:VEVENT
DTSTAMP:20260422T053036Z
DTSTART;TZID=America/New_York:20251201T180000
DTEND;TZID=America/New_York:20251201T210000
SUMMARY:DJ PROUDMOMMA
RRULE:FREQ=WEEKLY;UNTIL=20301231;BYDAY=MO
DESCRIPTION:
X-ALT-DESC;FMTTYPE=text/html:
CATEGORIES:General
UID:20260324T0347460Z-3202905-9@localendar.com
END:VEVENT
BEGIN:VEVENT
DTSTAMP:20260422T053036Z
DTSTART;TZID=America/New_York:20251201T210000
DTEND;TZID=America/New_York:20251201T230000
SUMMARY:DJ KITTEN
RRULE:FREQ=WEEKLY;UNTIL=20301231;BYDAY=MO
DESCRIPTION:
X-ALT-DESC;FMTTYPE=text/html:
CATEGORIES:General
UID:20260125T1815070Z-3202905-10@localendar.com
END:VEVENT
BEGIN:VEVENT
DTSTAMP:20260422T053036Z
DTSTART;TZID=America/New_York:20251201T090000
DTEND;TZID=America/New_York:20251201T120000
SUMMARY:DJ TOM
RRULE:FREQ=WEEKLY;UNTIL=20301231;BYDAY=MO
EXDATE;TZID=America/New_York:20251201T090000
DESCRIPTION:
X-ALT-DESC;FMTTYPE=text/html:
CATEGORIES:General
UID:20260219T1914340Z-3202905-11@localendar.com
END:VEVENT
BEGIN:VEVENT
DTSTAMP:20260422T053036Z
DTSTART;TZID=America/New_York:20251202T090000
DTEND;TZID=America/New_York:20251202T120000
SUMMARY:DJ JANI
RRULE:FREQ=WEEKLY;UNTIL=20301231;BYDAY=TU,TH
DESCRIPTION:
X-ALT-DESC;FMTTYPE=text/html:
CATEGORIES:General
UID:20260309T1125380Z-3202905-12@localendar.com
END:VEVENT
BEGIN:VEVENT
DTSTAMP:20260422T053036Z
DTSTART;TZID=America/New_York:20251202T120000
DTEND;TZID=America/New_York:20251202T150000
SUMMARY:DJ PANTHER
RRULE:FREQ=WEEKLY;UNTIL=20301231;BYDAY=TU
DESCRIPTION:
X-ALT-DESC;FMTTYPE=text/html:
CATEGORIES:General
UID:20260324T0015520Z-3202905-13@localendar.com
END:VEVENT
BEGIN:VEVENT
DTSTAMP:20260422T053036Z
DTSTART;TZID=America/New_York:20251202T150000
DTEND;TZID=America/New_York:20251202T180000
SUMMARY:TBA
RRULE:FREQ=WEEKLY;UNTIL=20301231;BYDAY=TU
DESCRIPTION:
X-ALT-DESC;FMTTYPE=text/html:
CATEGORIES:General
UID:20260414T1542510Z-3202905-14@localendar.com
END:VEVENT
BEGIN:VEVENT
DTSTAMP:20260422T053036Z
DTSTART;TZID=America/New_York:20251202T180000
DTEND;TZID=America/New_York:20251202T210000
SUMMARY:DJ CLUTCH
RRULE:FREQ=WEEKLY;UNTIL=20301231;BYDAY=TU
DESCRIPTION:
X-ALT-DESC;FMTTYPE=text/html:
CATEGORIES:General
UID:20260324T0349520Z-3202905-15@localendar.com
END:VEVENT
BEGIN:VEVENT
DTSTAMP:20260422T053036Z
DTSTART;TZID=America/New_York:20251202T210000
DTEND;TZID=America/New_York:20251202T230000
SUMMARY:DJ MARIE
RRULE:FREQ=WEEKLY;UNTIL=20301231;BYDAY=TU
EXDATE;TZID=America/New_York:20251209T210000
EXDATE;TZID=America/New_York:20251209T210000
DESCRIPTION:
X-ALT-DESC;FMTTYPE=text/html:
CATEGORIES:General
UID:20260324T0350240Z-3202905-16@localendar.com
END:VEVENT
BEGIN:VEVENT
DTSTAMP:20260422T053036Z
DTSTART;TZID=America/New_York:20251203T090000
DTEND;TZID=America/New_York:20251203T120000
SUMMARY:DJ TOM
RRULE:FREQ=WEEKLY;UNTIL=20301231;BYDAY=WE
DESCRIPTION:
X-ALT-DESC;FMTTYPE=text/html:
CATEGORIES:General
UID:20260219T1915020Z-3202905-17@localendar.com
END:VEVENT
BEGIN:VEVENT
DTSTAMP:20260422T053036Z
DTSTART;TZID=America/New_York:20251203T120000
DTEND;TZID=America/New_York:20251203T150000
SUMMARY:DJ MOONSHINEMICKEY
RRULE:FREQ=WEEKLY;UNTIL=20301231;BYDAY=WE
DESCRIPTION:
X-ALT-DESC;FMTTYPE=text/html:
CATEGORIES:General
UID:20260324T0351430Z-3202905-18@localendar.com
END:VEVENT
BEGIN:VEVENT
DTSTAMP:20260422T053036Z
DTSTART;TZID=America/New_York:20251203T150000
DTEND;TZID=America/New_York:20251203T180000
SUMMARY:DJ DANINJA
RRULE:FREQ=WEEKLY;UNTIL=20301231;BYDAY=WE
DESCRIPTION:
X-ALT-DESC;FMTTYPE=text/html:
CATEGORIES:General
UID:20260324T0352260Z-3202905-19@localendar.com
END:VEVENT
BEGIN:VEVENT
DTSTAMP:20260422T053036Z
DTSTART;TZID=America/New_York:20251203T180000
DTEND;TZID=America/New_York:20251203T210000
SUMMARY:DJ PROUDMOMMA
RRULE:FREQ=WEEKLY;UNTIL=20301231;BYDAY=WE
DESCRIPTION:
X-ALT-DESC;FMTTYPE=text/html:
CATEGORIES:General
UID:20260314T2204000Z-3202905-21@localendar.com
END:VEVENT
BEGIN:VEVENT
DTSTAMP:20260422T053036Z
DTSTART;TZID=America/New_York:20260302T120000
DTEND;TZID=America/New_York:20260302T150000
SUMMARY:DJ FOXXY
DESCRIPTION:
X-ALT-DESC;FMTTYPE=text/html:
CATEGORIES:General
UID:20260324T0346220Z-3202905-48@localendar.com
END:VEVENT
BEGIN:VEVENT
DTSTAMP:20260422T053036Z
DTSTART;TZID=America/New_York:20260123T150000
DTEND;TZID=America/New_York:20260123T180000
SUMMARY:DJ BLACKPANTHER
DESCRIPTION:
X-ALT-DESC;FMTTYPE=text/html:
CATEGORIES:General
UID:20260123T1450090Z-3202905-47@localendar.com
END:VEVENT
BEGIN:VEVENT
DTSTAMP:20260422T053036Z
DTSTART;TZID=America/New_York:20251204T180000
DTEND;TZID=America/New_York:20251204T210000
SUMMARY:DJ TEXASROSE
RRULE:FREQ=WEEKLY;UNTIL=20301231;BYDAY=TH
DESCRIPTION:
X-ALT-DESC;FMTTYPE=text/html:
CATEGORIES:General
UID:20260324T0354000Z-3202905-26@localendar.com
END:VEVENT
BEGIN:VEVENT
DTSTAMP:20260422T053036Z
DTSTART;TZID=America/New_York:20260101T210000
DTEND;TZID=America/New_York:20260101T230000
SUMMARY:DJ MONKERS
RRULE:FREQ=WEEKLY;UNTIL=20301231;BYDAY=TH
DESCRIPTION:
X-ALT-DESC;FMTTYPE=text/html:
CATEGORIES:General
UID:20260324T0354370Z-3202905-27@localendar.com
END:VEVENT
BEGIN:VEVENT
DTSTAMP:20260422T053036Z
DTSTART;TZID=America/New_York:20251205T150000
DTEND;TZID=America/New_York:20251205T180000
SUMMARY:DJ AYLA
RRULE:FREQ=WEEKLY;UNTIL=20300327;BYDAY=FR
EXDATE;TZID=America/New_York:20260123T150000
DESCRIPTION:
X-ALT-DESC;FMTTYPE=text/html:
CATEGORIES:General
UID:20260324T0013500Z-3202905-30@localendar.com
END:VEVENT
BEGIN:VEVENT
DTSTAMP:20260422T053036Z
DTSTART;TZID=America/New_York:20251204T210000
DTEND;TZID=America/New_York:20251204T230000
SUMMARY:DJ MONKERS
RRULE:FREQ=WEEKLY;UNTIL=20251231;BYDAY=TH
EXDATE;TZID=America/New_York:20251211T210000
DESCRIPTION:
X-ALT-DESC;FMTTYPE=text/html:
CATEGORIES:General
UID:20251228T0346370Z-3202905-40@localendar.com
END:VEVENT
BEGIN:VEVENT
DTSTAMP:20260422T053036Z
DTSTART;TZID=America/New_York:20251205T180000
DTEND;TZID=America/New_York:20251205T210000
SUMMARY:DJ TEXASROSE
RRULE:FREQ=WEEKLY;UNTIL=20301231;BYDAY=FR
DESCRIPTION:
X-ALT-DESC;FMTTYPE=text/html:
CATEGORIES:General
UID:20260316T1304130Z-3202905-31@localendar.com
END:VEVENT
BEGIN:VEVENT
DTSTAMP:20260422T053036Z
DTSTART;TZID=America/New_York:20251204T120000
DTEND;TZID=America/New_York:20251204T150000
SUMMARY:DJ BLACKPANTHER
RRULE:FREQ=WEEKLY;UNTIL=20301231;BYDAY=TH
DESCRIPTION:
X-ALT-DESC;FMTTYPE=text/html:
CATEGORIES:General
UID:20260324T0016310Z-3202905-24@localendar.com
END:VEVENT
BEGIN:VEVENT
DTSTAMP:20260422T053036Z
DTSTART;TZID=America/New_York:20251204T150000
DTEND;TZID=America/New_York:20251204T180000
SUMMARY:DJ CLUTCH
RRULE:FREQ=WEEKLY;UNTIL=20251231;BYDAY=TH
DESCRIPTION:
X-ALT-DESC;FMTTYPE=text/html:
CATEGORIES:General
UID:20251228T0346230Z-3202905-38@localendar.com
END:VEVENT
BEGIN:VEVENT
DTSTAMP:20260422T053036Z
DTSTART;TZID=America/New_York:20251205T090000
DTEND;TZID=America/New_York:20251205T120000
SUMMARY:DJ GABI
RRULE:FREQ=WEEKLY;UNTIL=20301231;BYDAY=FR
DESCRIPTION:
X-ALT-DESC;FMTTYPE=text/html:
CATEGORIES:General
UID:20251228T0347120Z-3202905-28@localendar.com
END:VEVENT
BEGIN:VEVENT
DTSTAMP:20260422T053036Z
DTSTART;TZID=America/New_York:20251203T210000
DTEND;TZID=America/New_York:20251203T230000
SUMMARY:DJ BUDDYDOG
RRULE:FREQ=WEEKLY;UNTIL=20301231;BYDAY=WE
DESCRIPTION:
X-ALT-DESC;FMTTYPE=text/html:
CATEGORIES:General
UID:20260324T0019300Z-3202905-22@localendar.com
END:VEVENT
BEGIN:VEVENT
DTSTAMP:20260422T053036Z
DTSTART;TZID=America/New_York:20251206T160000
DTEND;TZID=America/New_York:20251206T210000
SUMMARY:DJ DANINJA
RRULE:FREQ=WEEKLY;UNTIL=20301231;BYDAY=SA
DESCRIPTION:
X-ALT-DESC;FMTTYPE=text/html:
CATEGORIES:General
UID:20260324T0356030Z-3202905-35@localendar.com
END:VEVENT
BEGIN:VEVENT
DTSTAMP:20260422T053036Z
DTSTART;TZID=America/New_York:20251206T130000
DTEND;TZID=America/New_York:20251206T160000
SUMMARY:DJ GREY
RRULE:FREQ=WEEKLY;UNTIL=20301231;BYDAY=SA
DESCRIPTION:
X-ALT-DESC;FMTTYPE=text/html:
CATEGORIES:General
UID:20260324T0014430Z-3202905-34@localendar.com
END:VEVENT
BEGIN:VEVENT
DTSTAMP:20260422T053036Z
DTSTART;TZID=America/New_York:20251206T100000
DTEND;TZID=America/New_York:20251206T130000
SUMMARY:DJ AYLA
RRULE:FREQ=WEEKLY;UNTIL=20301231;BYDAY=SA
DESCRIPTION:
X-ALT-DESC;FMTTYPE=text/html:
CATEGORIES:General
UID:20260324T0014590Z-3202905-33@localendar.com
END:VEVENT
BEGIN:VEVENT
DTSTAMP:20260422T053036Z
DTSTART;TZID=America/New_York:20251205T120000
DTEND;TZID=America/New_York:20251205T150000
SUMMARY:DJ FOXXY
RRULE:FREQ=WEEKLY;UNTIL=20301231;BYDAY=FR
DESCRIPTION:
X-ALT-DESC;FMTTYPE=text/html:
CATEGORIES:General
UID:20260316T1303510Z-3202905-29@localendar.com
END:VEVENT
BEGIN:VEVENT
DTSTAMP:20260422T053036Z
DTSTART;TZID=America/New_York:20251204T090000
DTEND;TZID=America/New_York:20251204T120000
SUMMARY:TBA
RRULE:FREQ=WEEKLY;UNTIL=20251231;BYDAY=TH
DESCRIPTION:
X-ALT-DESC;FMTTYPE=text/html:
CATEGORIES:General
UID:20251228T0346090Z-3202905-39@localendar.com
END:VEVENT
BEGIN:VEVENT
DTSTAMP:20260422T053036Z
DTSTART;TZID=America/New_York:20251205T210000
DTEND;TZID=America/New_York:20251206T000000
SUMMARY:DJ MARIE
RRULE:FREQ=WEEKLY;UNTIL=20301231;BYDAY=FR
DESCRIPTION:
X-ALT-DESC;FMTTYPE=text/html:
CATEGORIES:General
UID:20260125T1816360Z-3202905-32@localendar.com
END:VEVENT
BEGIN:VEVENT
DTSTAMP:20260422T053036Z
DTSTART;TZID=America/New_York:20260101T150000
DTEND;TZID=America/New_York:20260101T180000
SUMMARY:DJ CLUTCH
RRULE:FREQ=WEEKLY;UNTIL=20301231;BYDAY=TH
DESCRIPTION:
X-ALT-DESC;FMTTYPE=text/html:
CATEGORIES:General
UID:20251228T0349150Z-3202905-25@localendar.com
END:VEVENT
BEGIN:VEVENT
DTSTAMP:20260422T053036Z
DTSTART;TZID=America/New_York:20251230T210000
DTEND;TZID=America/New_York:20251231T000000
SUMMARY:DJ MARIE
RRULE:FREQ=WEEKLY;UNTIL=20301231;BYDAY=SA
DESCRIPTION:
X-ALT-DESC;FMTTYPE=text/html:
CATEGORIES:General
UID:20260324T0357180Z-3202905-36@localendar.com
END:VEVENT
BEGIN:VEVENT
DTSTAMP:20260422T053036Z
DTSTART;TZID=America/New_York:20251209T210000
DTEND;TZID=America/New_York:20251209T230000
SUMMARY:DJ MONKERS
DESCRIPTION:
X-ALT-DESC;FMTTYPE=text/html:
CATEGORIES:General
UID:20251228T0337260Z-3202905-41@localendar.com
END:VEVENT
BEGIN:VEVENT
DTSTAMP:20260422T053036Z
DTSTART;TZID=America/New_York:20251207T210000
DTEND;TZID=America/New_York:20251207T230000
SUMMARY:DJ MONKERS
DESCRIPTION:
X-ALT-DESC;FMTTYPE=text/html:
CATEGORIES:General
UID:20251228T0336540Z-3202905-43@localendar.com
END:VEVENT
BEGIN:VEVENT
DTSTAMP:20260422T053036Z
DTSTART;TZID=America/New_York:20251211T210000
DTEND;TZID=America/New_York:20251211T230000
SUMMARY:DJ MONKERS
DESCRIPTION:
X-ALT-DESC;FMTTYPE=text/html:
CATEGORIES:General
UID:20251228T0346540Z-3202905-44@localendar.com
END:VEVENT
BEGIN:VEVENT
DTSTAMP:20260422T053036Z
DTSTART;TZID=America/New_York:20260101T090000
DTEND;TZID=America/New_York:20260101T120000
SUMMARY:TBA
DESCRIPTION:
X-ALT-DESC;FMTTYPE=text/html:
CATEGORIES:General
UID:20251228T1834370Z-3202905-46@localendar.com
END:VEVENT
BEGIN:VEVENT
DTSTAMP:20260422T053036Z
DTSTART;TZID=America/New_York:20251201T090000
DTEND;TZID=America/New_York:20251201T120000
SUMMARY:TBA
DESCRIPTION:
X-ALT-DESC;FMTTYPE=text/html:
CATEGORIES:General
UID:20251228T1833560Z-3202905-45@localendar.com
END:VEVENT
END:VCALENDAR
