BEGIN:VCALENDAR
PRODID:-//Ben Fortuna//iCal4j 1.0//EN
VERSION:2.0
CALSCALE:GREGORIAN
BEGIN:VTIMEZONE
TZID:Europe/Paris
LAST-MODIFIED:20260306T231828Z
TZURL:https://www.tzurl.org/zoneinfo-outlook/Europe/Paris
X-LIC-LOCATION:Europe/Paris
BEGIN:DAYLIGHT
TZNAME:CEST
TZOFFSETFROM:+0100
TZOFFSETTO:+0200
DTSTART:19700329T020000
RRULE:FREQ=YEARLY;BYMONTH=3;BYDAY=-1SU
END:DAYLIGHT
BEGIN:STANDARD
TZNAME:CET
TZOFFSETFROM:+0200
TZOFFSETTO:+0100
DTSTART:19701025T030000
RRULE:FREQ=YEARLY;BYMONTH=10;BYDAY=-1SU
END:STANDARD
END:VTIMEZONE
BEGIN:VEVENT
DTSTAMP:20260421T072010Z
SUMMARY:CCPCT 45
DTSTART;VALUE=DATE:20220920
DTEND;VALUE=DATE:20220921
RRULE:FREQ=WEEKLY;UNTIL=20221029;BYDAY=MO,TU,WE,TH,FR
DESCRIPTION:formation continue obligatoire Formation à la mobilité Départem
 ent 45
X-ALT-DESC;FMTTYPE=text/html:<br/>formation continue obligatoire\nFormation
  à la mobilité \nDépartement 45
CATEGORIES:Education
UID:20211129T2024150Z-611188-24@localendar.com
END:VEVENT
BEGIN:VEVENT
DTSTAMP:20260421T072010Z
DTSTART;VALUE=DATE:20220903
SUMMARY:FCO/MOBILITE 28
RRULE:FREQ=DAILY;COUNT=2
DESCRIPTION:formation continue obligatoire Formation à la mobilité Départem
 ent 45
X-ALT-DESC;FMTTYPE=text/html:<br/>formation continue obligatoire\nFormation
  à la mobilité \nDépartement 45
CATEGORIES:Education
UID:20211129T2118530Z-611188-30@localendar.com
END:VEVENT
BEGIN:VEVENT
DTSTAMP:20260421T072010Z
DTSTART;VALUE=DATE:20221119
SUMMARY:FCO/MOBILITE 28
RRULE:FREQ=DAILY;COUNT=2
DESCRIPTION:formation continue obligatoire Formation à la mobilité Départem
 ent 45
X-ALT-DESC;FMTTYPE=text/html:<br/>formation continue obligatoire\nFormation
  à la mobilité \nDépartement 45
CATEGORIES:Education
UID:20211129T2119390Z-611188-31@localendar.com
END:VEVENT
BEGIN:VEVENT
DTSTAMP:20260421T072010Z
DTSTART;VALUE=DATE:20220910
SUMMARY:FORMATION CONTINUE OBLIGATOIRE/ MOBILITE 45
RRULE:FREQ=DAILY;COUNT=2
DESCRIPTION:formation continue obligatoire Formation à la mobilité Départem
 ent 45
X-ALT-DESC;FMTTYPE=text/html:<br/>formation continue obligatoire\nFormation
  à la mobilité \nDépartement 45
CATEGORIES:Education
UID:20211129T2121490Z-611188-34@localendar.com
END:VEVENT
BEGIN:VEVENT
DTSTAMP:20260421T072010Z
DTSTART;VALUE=DATE:20221203
SUMMARY:FORMATION CONTINUE OBLIGATOIRE/ MOBILITE 45
RRULE:FREQ=DAILY;COUNT=2
DESCRIPTION:formation continue obligatoire Formation à la mobilité Départem
 ent 45
X-ALT-DESC;FMTTYPE=text/html:<br/>formation continue obligatoire\nFormation
  à la mobilité \nDépartement 45
CATEGORIES:Education
UID:20211129T2122260Z-611188-35@localendar.com
END:VEVENT
BEGIN:VEVENT
DTSTAMP:20260421T072010Z
DTSTART;VALUE=DATE:20221024
SUMMARY:TPMR 28
RRULE:FREQ=DAILY;COUNT=3
DESCRIPTION:formation continue obligatoire Formation à la mobilité Départem
 ent 45
X-ALT-DESC;FMTTYPE=text/html:<br/>formation continue obligatoire\nFormation
  à la mobilité \nDépartement 45
CATEGORIES:Education
UID:20211130T2008590Z-611188-36@localendar.com
END:VEVENT
BEGIN:VEVENT
DTSTAMP:20260421T072010Z
DTSTART;TZID=Europe/Paris:20221026T210000
DTEND;TZID=Europe/Paris:20221026T220000
SUMMARY:TPMR 45
RRULE:FREQ=DAILY;COUNT=3
DESCRIPTION:formation continue obligatoire Formation à la mobilité Départem
 ent 45
X-ALT-DESC;FMTTYPE=text/html:<br/>formation continue obligatoire\nFormation
  à la mobilité \nDépartement 45
CATEGORIES:Education
UID:20211130T2009300Z-611188-37@localendar.com
END:VEVENT
END:VCALENDAR
