BEGIN:VCALENDAR
PRODID:-//Ben Fortuna//iCal4j 1.0//EN
VERSION:2.0
CALSCALE:GREGORIAN
BEGIN:VTIMEZONE
TZID:America/New_York
LAST-MODIFIED:20260306T231828Z
TZURL:https://www.tzurl.org/zoneinfo-outlook/America/New_York
X-LIC-LOCATION:America/New_York
BEGIN:DAYLIGHT
TZNAME:EDT
TZOFFSETFROM:-0500
TZOFFSETTO:-0400
DTSTART:19700308T020000
RRULE:FREQ=YEARLY;BYMONTH=3;BYDAY=2SU
END:DAYLIGHT
BEGIN:STANDARD
TZNAME:EST
TZOFFSETFROM:-0400
TZOFFSETTO:-0500
DTSTART:19701101T020000
RRULE:FREQ=YEARLY;BYMONTH=11;BYDAY=1SU
END:STANDARD
END:VTIMEZONE
BEGIN:VEVENT
DTSTAMP:20260421T074813Z
DTSTART;TZID=America/New_York:20171229T094500
DTEND;TZID=America/New_York:20171229T094500
SUMMARY:Worship Service
RRULE:FREQ=WEEKLY;UNTIL=20240101;BYDAY=SU
EXDATE;TZID=America/New_York:20200126T094500
EXDATE;TZID=America/New_York:20200223T094500
EXDATE;TZID=America/New_York:20200322T094500
EXDATE;TZID=America/New_York:20200329T094500
EXDATE;TZID=America/New_York:20190407T094500
EXDATE;TZID=America/New_York:20200412T094500
EXDATE;TZID=America/New_York:20200419T094500
EXDATE;TZID=America/New_York:20200426T094500
EXDATE;TZID=America/New_York:20190428T094500
EXDATE;TZID=America/New_York:20180520T094500
EXDATE;TZID=America/New_York:20180603T094500
EXDATE;TZID=America/New_York:20170924T094500
EXDATE;TZID=America/New_York:20190929T094500
EXDATE;TZID=America/New_York:20171001T094500
EXDATE;TZID=America/New_York:20171224T094500
EXDATE;TZID=America/New_York:20191229T094500
DESCRIPTION:
X-ALT-DESC;FMTTYPE=text/html:
CATEGORIES:General
UID:20201118T1718590Z-543032-138@localendar.com
END:VEVENT
BEGIN:VEVENT
DTSTAMP:20260421T074813Z
DTSTART;TZID=America/New_York:20190131T093000
DTEND;TZID=America/New_York:20190131T093000
SUMMARY:United Methodist Men
RRULE:FREQ=WEEKLY;UNTIL=20230208;BYDAY=TH
EXDATE;TZID=America/New_York:20180329T093000
EXDATE;TZID=America/New_York:20190704T093000
EXDATE;TZID=America/New_York:20191128T093000
EXDATE;TZID=America/New_York:20201224T093000
DESCRIPTION:
X-ALT-DESC;FMTTYPE=text/html:
CATEGORIES:General
UID:20190125T1523280Z-543032-212@localendar.com
END:VEVENT
BEGIN:VEVENT
DTSTAMP:20260421T074813Z
DTSTART;TZID=America/New_York:20180207T090000
DTEND;TZID=America/New_York:20180207T110000
SUMMARY:Food Pantry at Goodwill
RRULE:FREQ=MONTHLY;UNTIL=20230207;BYDAY=1WE,3WE
EXDATE;TZID=America/New_York:20200101T090000
EXDATE;TZID=America/New_York:20180207T090000
DESCRIPTION:
X-ALT-DESC;FMTTYPE=text/html:
CATEGORIES:General
UID:20201118T1720000Z-543032-215@localendar.com
END:VEVENT
BEGIN:VEVENT
DTSTAMP:20260421T074813Z
DTSTART;TZID=America/New_York:20190212T100000
DTEND;TZID=America/New_York:20190212T100000
SUMMARY:Council of Ministries Meeting
RRULE:FREQ=MONTHLY;UNTIL=20230214;BYDAY=2TU
EXDATE;TZID=America/New_York:20190514T100000
DESCRIPTION:
X-ALT-DESC;FMTTYPE=text/html:
CATEGORIES:General
UID:20200124T1544240Z-543032-218@localendar.com
END:VEVENT
BEGIN:VEVENT
DTSTAMP:20260421T074813Z
DTSTART;TZID=America/New_York:20190205T200000
DTEND;TZID=America/New_York:20190205T200000
SUMMARY:Praise Band Practice
RRULE:FREQ=WEEKLY;UNTIL=20230205;BYDAY=TU
EXDATE;TZID=America/New_York:20190402T200000
EXDATE;TZID=America/New_York:20191224T200000
DESCRIPTION:
X-ALT-DESC;FMTTYPE=text/html:
CATEGORIES:General
UID:20190125T1521350Z-543032-269@localendar.com
END:VEVENT
BEGIN:VEVENT
DTSTAMP:20260421T074813Z
DTSTART;TZID=America/New_York:20190225T180000
DTEND;TZID=America/New_York:20190225T180000
SUMMARY:Trustees
RRULE:FREQ=MONTHLY;UNTIL=20230225;BYDAY=2MO
EXDATE;TZID=America/New_York:20190422T180000
EXDATE;TZID=America/New_York:20190527T180000
DESCRIPTION:
X-ALT-DESC;FMTTYPE=text/html:
CATEGORIES:General
UID:20191007T1410030Z-543032-271@localendar.com
END:VEVENT
BEGIN:VEVENT
DTSTAMP:20260421T074813Z
DTSTART;TZID=America/New_York:20190909T170000
DTEND;TZID=America/New_York:20190909T170000
SUMMARY:Finance Meeting
RRULE:FREQ=MONTHLY;UNTIL=20230304;BYDAY=2MO
EXDATE;TZID=America/New_York:20190506T170000
EXDATE;TZID=America/New_York:20190701T170000
EXDATE;TZID=America/New_York:20190909T170000
DESCRIPTION:
X-ALT-DESC;FMTTYPE=text/html:
CATEGORIES:General
UID:20190830T1336300Z-543032-273@localendar.com
END:VEVENT
BEGIN:VEVENT
DTSTAMP:20260421T074813Z
DTSTART;TZID=America/New_York:20191016T140000
DTEND;TZID=America/New_York:20191016T170000
SUMMARY:Free Store
RRULE:FREQ=WEEKLY;UNTIL=20221016;BYDAY=TH
EXDATE;TZID=America/New_York:20191128T140000
EXDATE;TZID=America/New_York:20201224T140000
DESCRIPTION:
X-ALT-DESC;FMTTYPE=text/html:
CATEGORIES:General
UID:20191025T1339570Z-543032-318@localendar.com
END:VEVENT
END:VCALENDAR
