BEGIN:VCALENDAR
PRODID:-//Ben Fortuna//iCal4j 1.0//EN
VERSION:2.0
CALSCALE:GREGORIAN
BEGIN:VTIMEZONE
TZID:America/Los_Angeles
LAST-MODIFIED:20260306T231828Z
TZURL:https://www.tzurl.org/zoneinfo-outlook/America/Los_Angeles
X-LIC-LOCATION:America/Los_Angeles
BEGIN:DAYLIGHT
TZNAME:PDT
TZOFFSETFROM:-0800
TZOFFSETTO:-0700
DTSTART:19700308T020000
RRULE:FREQ=YEARLY;BYMONTH=3;BYDAY=2SU
END:DAYLIGHT
BEGIN:STANDARD
TZNAME:PST
TZOFFSETFROM:-0700
TZOFFSETTO:-0800
DTSTART:19701101T020000
RRULE:FREQ=YEARLY;BYMONTH=11;BYDAY=1SU
END:STANDARD
END:VTIMEZONE
BEGIN:VEVENT
DTSTAMP:20260425T151945Z
DTSTART;TZID=America/Los_Angeles:20221221T080000
DTEND;TZID=America/Los_Angeles:20221221T090000
SUMMARY:Old Guy's Ride - Omelet Factory (serving breakfast) - 8860 Magnolia
  Ave\, Santee\, CA 92071  *** Wait for the email confirmation ***
DESCRIPTION:Breakfast at 0800 This Wednesday is the day.  Breakfast at omel
 ette factory 0800 ride at 0900. For Maps to CA-1F ride starting points: [C
 lick Here] Ride end times are approximations and may very.
X-ALT-DESC;FMTTYPE=text/html:<p>Breakfast at 0800</p>  <p>This Wednesday is
  the day.&nbsp\; Breakfast at omelette factory 0800 ride at 0900.</p><br/>
 <br> <br>\n<hr>\nFor Maps to CA-1F ride starting points:\n\n<a href='http:
 //www.gwrra-ca1f.org/Touring 'target='_blank'><b>[Click Here]</b></a>\n\n\
 n<br>\n<b>Ride end times are approximations and may very.</b>\n<script>win
 dow.moveTo(0\,0)\;window.resizeTo(700\,700)\;</script>
CATEGORIES:Clubs & Organizations
UID:20220321T1603000Z-280943-3108@localendar.com
END:VEVENT
BEGIN:VEVENT
DTSTAMP:20260425T151945Z
DTSTART;TZID=America/Los_Angeles:20221207T080000
DTEND;TZID=America/Los_Angeles:20221207T090000
SUMMARY:Old Guy's Ride - Omelet Factory (serving breakfast) - 8860 Magnolia
  Ave\, Santee\, CA 92071  *** Wait for the email confirmation ***
DESCRIPTION:Breakfast at 0800 This Wednesday is the day.  Breakfast at omel
 ette factory 0800 ride at 0900. For Maps to CA-1F ride starting points: [C
 lick Here] Ride end times are approximations and may very.
X-ALT-DESC;FMTTYPE=text/html:<p>Breakfast at 0800</p>  <p>This Wednesday is
  the day.&nbsp\; Breakfast at omelette factory 0800 ride at 0900.</p><br/>
 <br> <br>\n<hr>\nFor Maps to CA-1F ride starting points:\n\n<a href='http:
 //www.gwrra-ca1f.org/Touring 'target='_blank'><b>[Click Here]</b></a>\n\n\
 n<br>\n<b>Ride end times are approximations and may very.</b>\n<script>win
 dow.moveTo(0\,0)\;window.resizeTo(700\,700)\;</script>
CATEGORIES:Clubs & Organizations
UID:20220321T1603080Z-280943-3107@localendar.com
END:VEVENT
BEGIN:VEVENT
DTSTAMP:20260425T151945Z
DTSTART;TZID=America/Los_Angeles:20221109T080000
DTEND;TZID=America/Los_Angeles:20221109T090000
SUMMARY:Old Guy's Ride - Omelet Factory (serving breakfast) - 8860 Magnolia
  Ave\, Santee\, CA 92071  *** Wait for the email confirmation ***
DESCRIPTION:Breakfast at 0800 This Wednesday is the day.  Breakfast at omel
 ette factory 0800 ride at 0900. For Maps to CA-1F ride starting points: [C
 lick Here] Ride end times are approximations and may very.
X-ALT-DESC;FMTTYPE=text/html:<p>Breakfast at 0800</p>  <p>This Wednesday is
  the day.&nbsp\; Breakfast at omelette factory 0800 ride at 0900.</p><br/>
 <br> <br>\n<hr>\nFor Maps to CA-1F ride starting points:\n\n<a href='http:
 //www.gwrra-ca1f.org/Touring 'target='_blank'><b>[Click Here]</b></a>\n\n\
 n<br>\n<b>Ride end times are approximations and may very.</b>\n<script>win
 dow.moveTo(0\,0)\;window.resizeTo(700\,700)\;</script>
CATEGORIES:Clubs & Organizations
UID:20220321T1601080Z-280943-3104@localendar.com
END:VEVENT
BEGIN:VEVENT
DTSTAMP:20260425T151945Z
DTSTART;TZID=America/Los_Angeles:20221008T073000
DTEND;TZID=America/Los_Angeles:20221008T073000
SUMMARY:EWMA-SD Chapter Gathering - Best Western Seven Seas Cafe - Mission 
 Valley - 411 Hotel Circle South\, San Diego\, California 92108
DESCRIPTION:411 Hotel Circle South\, San Diego\, California 92108 For Maps 
 to CA-1F ride starting points: [Click Here] Ride end times are approximati
 ons and may very.
X-ALT-DESC;FMTTYPE=text/html:<p><span>411 Hotel Circle South\, San Diego\, 
 California 92108</span></p><br/><br> <br>\n<hr>\nFor Maps to CA-1F ride st
 arting points:\n\n<a href='http://www.gwrra-ca1f.org/Touring 'target='_bla
 nk'><b>[Click Here]</b></a>\n\n\n<br>\n<b>Ride end times are approximation
 s and may very.</b>\n<script>window.moveTo(0\,0)\;window.resizeTo(700\,700
 )\;</script>
CATEGORIES:Clubs & Organizations
UID:20220823T0056390Z-280943-3136@localendar.com
END:VEVENT
BEGIN:VEVENT
DTSTAMP:20260425T151945Z
DTSTART;TZID=America/Los_Angeles:20220930T080000
DTEND;TZID=America/Los_Angeles:20220930T090000
SUMMARY:EWMASD - Sequoia National Park and Kings Canyon National Park 4 day
  ride.
RRULE:FREQ=DAILY;COUNT=4
DESCRIPTION:For Maps to CA-1F ride starting points: [Click Here] Ride end t
 imes are approximations and may very.
X-ALT-DESC;FMTTYPE=text/html:<br/><br> <br>\n<hr>\nFor Maps to CA-1F ride s
 tarting points:\n\n<a href='http://www.gwrra-ca1f.org/Touring 'target='_bl
 ank'><b>[Click Here]</b></a>\n\n\n<br>\n<b>Ride end times are approximatio
 ns and may very.</b>\n<script>window.moveTo(0\,0)\;window.resizeTo(700\,70
 0)\;</script>
CATEGORIES:Clubs & Organizations
UID:20220906T1339250Z-280943-3138@localendar.com
END:VEVENT
BEGIN:VEVENT
DTSTAMP:20260425T151945Z
DTSTART;TZID=America/Los_Angeles:20220917T073000
DTEND;TZID=America/Los_Angeles:20220917T073000
SUMMARY:EWMA-SD Chapter Gathering - Best Western Seven Seas Cafe - Mission 
 Valley - 411 Hotel Circle South\, San Diego\, California 92108
DESCRIPTION:411 Hotel Circle South\, San Diego\, California 92108 For Maps 
 to CA-1F ride starting points: [Click Here] Ride end times are approximati
 ons and may very.
X-ALT-DESC;FMTTYPE=text/html:<p><span>411 Hotel Circle South\, San Diego\, 
 California 92108</span></p><br/><br> <br>\n<hr>\nFor Maps to CA-1F ride st
 arting points:\n\n<a href='http://www.gwrra-ca1f.org/Touring 'target='_bla
 nk'><b>[Click Here]</b></a>\n\n\n<br>\n<b>Ride end times are approximation
 s and may very.</b>\n<script>window.moveTo(0\,0)\;window.resizeTo(700\,700
 )\;</script>
CATEGORIES:Clubs & Organizations
UID:20220823T0054280Z-280943-2992@localendar.com
END:VEVENT
BEGIN:VEVENT
DTSTAMP:20260425T151945Z
DTSTART;TZID=America/Los_Angeles:20221026T080000
DTEND;TZID=America/Los_Angeles:20221026T090000
SUMMARY:Old Guy's Ride - Omelet Factory (serving breakfast) - 8860 Magnolia
  Ave\, Santee\, CA 92071  *** Wait for the email confirmation ***
DESCRIPTION:Breakfast at 0800 This Wednesday is the day.  Breakfast at omel
 ette factory 0800 ride at 0900. For Maps to CA-1F ride starting points: [C
 lick Here] Ride end times are approximations and may very.
X-ALT-DESC;FMTTYPE=text/html:<p>Breakfast at 0800</p>  <p>This Wednesday is
  the day.&nbsp\; Breakfast at omelette factory 0800 ride at 0900.</p><br/>
 <br> <br>\n<hr>\nFor Maps to CA-1F ride starting points:\n\n<a href='http:
 //www.gwrra-ca1f.org/Touring 'target='_blank'><b>[Click Here]</b></a>\n\n\
 n<br>\n<b>Ride end times are approximations and may very.</b>\n<script>win
 dow.moveTo(0\,0)\;window.resizeTo(700\,700)\;</script>
CATEGORIES:Clubs & Organizations
UID:20220321T1559320Z-280943-3101@localendar.com
END:VEVENT
BEGIN:VEVENT
DTSTAMP:20260425T151945Z
DTSTART;TZID=America/Los_Angeles:20220928T080000
DTEND;TZID=America/Los_Angeles:20220928T090000
SUMMARY:Old Guy's Ride - Omelet Factory (serving breakfast) - 8860 Magnolia
  Ave\, Santee\, CA 92071  *** Wait for the email confirmation ***
DESCRIPTION:Breakfast at 0800 This Wednesday is the day.  Breakfast at omel
 ette factory 0800 ride at 0900. For Maps to CA-1F ride starting points: [C
 lick Here] Ride end times are approximations and may very.
X-ALT-DESC;FMTTYPE=text/html:<p>Breakfast at 0800</p>  <p>This Wednesday is
  the day.&nbsp\; Breakfast at omelette factory 0800 ride at 0900.</p><br/>
 <br> <br>\n<hr>\nFor Maps to CA-1F ride starting points:\n\n<a href='http:
 //www.gwrra-ca1f.org/Touring 'target='_blank'><b>[Click Here]</b></a>\n\n\
 n<br>\n<b>Ride end times are approximations and may very.</b>\n<script>win
 dow.moveTo(0\,0)\;window.resizeTo(700\,700)\;</script>
CATEGORIES:Clubs & Organizations
UID:20220321T1557260Z-280943-3098@localendar.com
END:VEVENT
BEGIN:VEVENT
DTSTAMP:20260425T151945Z
DTSTART;TZID=America/Los_Angeles:20220831T080000
DTEND;TZID=America/Los_Angeles:20220831T090000
SUMMARY:Old Guy's Ride - Omelet Factory (serving breakfast) - 8860 Magnolia
  Ave\, Santee\, CA 92071  *** Wait for the email confirmation ***
DESCRIPTION:Breakfast at 0800 This Wednesday is the day.  Breakfast at omel
 ette factory 0800 ride at 0900. For Maps to CA-1F ride starting points: [C
 lick Here] Ride end times are approximations and may very.
X-ALT-DESC;FMTTYPE=text/html:<p>Breakfast at 0800</p>  <p>This Wednesday is
  the day.&nbsp\; Breakfast at omelette factory 0800 ride at 0900.</p><br/>
 <br> <br>\n<hr>\nFor Maps to CA-1F ride starting points:\n\n<a href='http:
 //www.gwrra-ca1f.org/Touring 'target='_blank'><b>[Click Here]</b></a>\n\n\
 n<br>\n<b>Ride end times are approximations and may very.</b>\n<script>win
 dow.moveTo(0\,0)\;window.resizeTo(700\,700)\;</script>
CATEGORIES:Clubs & Organizations
UID:20220321T1555180Z-280943-3095@localendar.com
END:VEVENT
BEGIN:VEVENT
DTSTAMP:20260425T151945Z
DTSTART;TZID=America/Los_Angeles:20221123T080000
DTEND;TZID=America/Los_Angeles:20221123T090000
SUMMARY:Old Guy's Ride - Omelet Factory (serving breakfast) - 8860 Magnolia
  Ave\, Santee\, CA 92071  *** Wait for the email confirmation ***
DESCRIPTION:Breakfast at 0800 This Wednesday is the day.  Breakfast at omel
 ette factory 0800 ride at 0900. For Maps to CA-1F ride starting points: [C
 lick Here] Ride end times are approximations and may very.
X-ALT-DESC;FMTTYPE=text/html:<p>Breakfast at 0800</p>  <p>This Wednesday is
  the day.&nbsp\; Breakfast at omelette factory 0800 ride at 0900.</p><br/>
 <br> <br>\n<hr>\nFor Maps to CA-1F ride starting points:\n\n<a href='http:
 //www.gwrra-ca1f.org/Touring 'target='_blank'><b>[Click Here]</b></a>\n\n\
 n<br>\n<b>Ride end times are approximations and may very.</b>\n<script>win
 dow.moveTo(0\,0)\;window.resizeTo(700\,700)\;</script>
CATEGORIES:Clubs & Organizations
UID:20220321T1601350Z-280943-3105@localendar.com
END:VEVENT
BEGIN:VEVENT
DTSTAMP:20260425T151945Z
DTSTART;TZID=America/Los_Angeles:20221012T080000
DTEND;TZID=America/Los_Angeles:20221012T090000
SUMMARY:Old Guy's Ride - Omelet Factory (serving breakfast) - 8860 Magnolia
  Ave\, Santee\, CA 92071  *** Wait for the email confirmation ***
DESCRIPTION:Breakfast at 0800 This Wednesday is the day.  Breakfast at omel
 ette factory 0800 ride at 0900. For Maps to CA-1F ride starting points: [C
 lick Here] Ride end times are approximations and may very.
X-ALT-DESC;FMTTYPE=text/html:<p>Breakfast at 0800</p>  <p>This Wednesday is
  the day.&nbsp\; Breakfast at omelette factory 0800 ride at 0900.</p><br/>
 <br> <br>\n<hr>\nFor Maps to CA-1F ride starting points:\n\n<a href='http:
 //www.gwrra-ca1f.org/Touring 'target='_blank'><b>[Click Here]</b></a>\n\n\
 n<br>\n<b>Ride end times are approximations and may very.</b>\n<script>win
 dow.moveTo(0\,0)\;window.resizeTo(700\,700)\;</script>
CATEGORIES:Clubs & Organizations
UID:20220321T1559510Z-280943-3102@localendar.com
END:VEVENT
BEGIN:VEVENT
DTSTAMP:20260425T151945Z
DTSTART;TZID=America/Los_Angeles:20220914T080000
DTEND;TZID=America/Los_Angeles:20220914T090000
SUMMARY:Old Guy's Ride - Omelet Factory (serving breakfast) - 8860 Magnolia
  Ave\, Santee\, CA 92071  *** Wait for the email confirmation ***
DESCRIPTION:Breakfast at 0800 This Wednesday is the day.  Breakfast at omel
 ette factory 0800 ride at 0900. For Maps to CA-1F ride starting points: [C
 lick Here] Ride end times are approximations and may very.
X-ALT-DESC;FMTTYPE=text/html:<p>Breakfast at 0800</p>  <p>This Wednesday is
  the day.&nbsp\; Breakfast at omelette factory 0800 ride at 0900.</p><br/>
 <br> <br>\n<hr>\nFor Maps to CA-1F ride starting points:\n\n<a href='http:
 //www.gwrra-ca1f.org/Touring 'target='_blank'><b>[Click Here]</b></a>\n\n\
 n<br>\n<b>Ride end times are approximations and may very.</b>\n<script>win
 dow.moveTo(0\,0)\;window.resizeTo(700\,700)\;</script>
CATEGORIES:Clubs & Organizations
UID:20220321T1557130Z-280943-3097@localendar.com
END:VEVENT
BEGIN:VEVENT
DTSTAMP:20260425T151945Z
DTSTART;TZID=America/Los_Angeles:20221210T073000
DTEND;TZID=America/Los_Angeles:20221210T073000
SUMMARY:EWMA-SD Chapter Gathering - Best Western Seven Seas Cafe - Mission 
 Valley - 411 Hotel Circle South\, San Diego\, California 92108
DESCRIPTION:411 Hotel Circle South\, San Diego\, California 92108 For Maps 
 to CA-1F ride starting points: [Click Here] Ride end times are approximati
 ons and may very.
X-ALT-DESC;FMTTYPE=text/html:<p><span>411 Hotel Circle South\, San Diego\, 
 California 92108</span></p><br/><br> <br>\n<hr>\nFor Maps to CA-1F ride st
 arting points:\n\n<a href='http://www.gwrra-ca1f.org/Touring 'target='_bla
 nk'><b>[Click Here]</b></a>\n\n\n<br>\n<b>Ride end times are approximation
 s and may very.</b>\n<script>window.moveTo(0\,0)\;window.resizeTo(700\,700
 )\;</script>
CATEGORIES:Clubs & Organizations
UID:20220830T1343580Z-280943-3140@localendar.com
END:VEVENT
BEGIN:VEVENT
DTSTAMP:20260425T151945Z
DTSTART;TZID=America/Los_Angeles:20221112T073000
DTEND;TZID=America/Los_Angeles:20221112T073000
SUMMARY:EWMA-SD Chapter Gathering - Best Western Seven Seas Cafe - Mission 
 Valley - 411 Hotel Circle South\, San Diego\, California 92108
DESCRIPTION:411 Hotel Circle South\, San Diego\, California 92108 For Maps 
 to CA-1F ride starting points: [Click Here] Ride end times are approximati
 ons and may very.
X-ALT-DESC;FMTTYPE=text/html:<p><span>411 Hotel Circle South\, San Diego\, 
 California 92108</span></p><br/><br> <br>\n<hr>\nFor Maps to CA-1F ride st
 arting points:\n\n<a href='http://www.gwrra-ca1f.org/Touring 'target='_bla
 nk'><b>[Click Here]</b></a>\n\n\n<br>\n<b>Ride end times are approximation
 s and may very.</b>\n<script>window.moveTo(0\,0)\;window.resizeTo(700\,700
 )\;</script>
CATEGORIES:Clubs & Organizations
UID:20220830T1343160Z-280943-3139@localendar.com
END:VEVENT
END:VCALENDAR
