BEGIN:VCALENDAR
PRODID:-//Ben Fortuna//iCal4j 1.0//EN
VERSION:2.0
CALSCALE:GREGORIAN
BEGIN:VTIMEZONE
TZID:America/Chicago
LAST-MODIFIED:20260306T231828Z
TZURL:https://www.tzurl.org/zoneinfo-outlook/America/Chicago
X-LIC-LOCATION:America/Chicago
BEGIN:DAYLIGHT
TZNAME:CDT
TZOFFSETFROM:-0600
TZOFFSETTO:-0500
DTSTART:19700308T020000
RRULE:FREQ=YEARLY;BYMONTH=3;BYDAY=2SU
END:DAYLIGHT
BEGIN:STANDARD
TZNAME:CST
TZOFFSETFROM:-0500
TZOFFSETTO:-0600
DTSTART:19701101T020000
RRULE:FREQ=YEARLY;BYMONTH=11;BYDAY=1SU
END:STANDARD
END:VTIMEZONE
BEGIN:VEVENT
DTSTAMP:20260422T080304Z
DTSTART;TZID=America/Chicago:20220828T070000
DTEND;TZID=America/Chicago:20220828T160000
SUMMARY:St. Stephen Charity Golf Tournament
DESCRIPTION:This four-person scramble is sponsored by St. Stephen Lutheran 
 Church. All proceeds benefit the Liberty Women's Clinic. Saturday\, August
  28\, 2021 Registration begins at 7 a.m. with shotgun start at 8 a.m. (If 
 the number of registered teams warrants two start times\, the second will 
 be at 1 p.m.) Excelsior Springs Golf Course 1201 E. Golf Hill Dr. Excelsio
 r Springs\, MO 64024 Event contacts: Robert Brinser 816-830-0965 r.brinser
 @specialtyrolledmetals.com Craig Knaak 816-377-6311
X-ALT-DESC;FMTTYPE=text/html:<p>This four-person scramble is sponsored by S
 t. Stephen Lutheran Church. All proceeds benefit the Liberty Women's Clini
 c.<br /><br />Saturday\, August 28\, 2021<br />Registration begins at 7 a.
 m. with shotgun start at 8 a.m.<br />(If the number of registered teams wa
 rrants two start times\, the second will be at 1 p.m.)<br /><br />Excelsio
 r Springs Golf Course<br />1201 E. Golf Hill Dr.<br />Excelsior Springs\, 
 MO 64024<br /><br />Event contacts: <br />Robert Brinser 816-830-0965 <br 
 /><a href='mailto:r.brinser@specialtyrolledmetals.com'>r.brinser@specialty
 rolledmetals.com</a><br />Craig Knaak 816-377-6311</p>
CATEGORIES:General
LOCATION:Excelsior Springs Golf Course
UID:20210707T1628080Z-462440-1039@localendar.com
END:VEVENT
BEGIN:VEVENT
DTSTAMP:20260422T080304Z
DTSTART;TZID=America/Chicago:20220827T150000
DTEND;TZID=America/Chicago:20220827T190000
SUMMARY:Historic Downtown Liberty Cruise Nights-LAST SATURDAY ∙ APRIL - AUG
 UST ∙ 3-7 PM
DESCRIPTION:Check out your ultimate dream car while you listen to the cool 
 tunes of yesterday. Take in a little shopping and grab a tasty bite at one
  of the many terrific restaurants on or adjacent to the square. 
X-ALT-DESC;FMTTYPE=text/html:<p>Check out your ultimate dream car while you
  listen to the cool tunes of yesterday. Take in a little shopping and grab
  a tasty bite at one of the many terrific restaurants on or adjacent to th
 e square.&nbsp\;</p>
CATEGORIES:General
LOCATION:Historic Downtown Liberty Town Square
UID:20220303T1534380Z-462440-1386@localendar.com
END:VEVENT
END:VCALENDAR
