BEGIN:VCALENDAR
PRODID:-//Ben Fortuna//iCal4j 1.0//EN
VERSION:2.0
CALSCALE:GREGORIAN
BEGIN:VTIMEZONE
TZID:Australia/Melbourne
LAST-MODIFIED:20260306T231828Z
TZURL:https://www.tzurl.org/zoneinfo-outlook/Australia/Melbourne
X-LIC-LOCATION:Australia/Melbourne
BEGIN:STANDARD
TZNAME:AEST
TZOFFSETFROM:+1100
TZOFFSETTO:+1000
DTSTART:19700405T030000
RRULE:FREQ=YEARLY;BYMONTH=4;BYDAY=1SU
END:STANDARD
BEGIN:DAYLIGHT
TZNAME:AEDT
TZOFFSETFROM:+1000
TZOFFSETTO:+1100
DTSTART:19701004T020000
RRULE:FREQ=YEARLY;BYMONTH=10;BYDAY=1SU
END:DAYLIGHT
END:VTIMEZONE
BEGIN:VEVENT
DTSTAMP:20260423T070742Z
DTSTART;TZID=Australia/Melbourne:20240427T110000
DTEND;TZID=Australia/Melbourne:20240427T150000
SUMMARY:Paul's Run
DESCRIPTION:
X-ALT-DESC;FMTTYPE=text/html:
CATEGORIES:General
UID:20240417T0946200Z-3123221-2@localendar.com
END:VEVENT
BEGIN:VEVENT
DTSTAMP:20260423T070742Z
DTSTART;VALUE=DATE:20240901
SUMMARY:Dog Scent Trials
DESCRIPTION:
X-ALT-DESC;FMTTYPE=text/html:
CATEGORIES:General
UID:20240720T0530210Z-3123221-3@localendar.com
END:VEVENT
BEGIN:VEVENT
DTSTAMP:20260423T070742Z
DTSTART;TZID=Australia/Melbourne:20240720T140000
DTEND;TZID=Australia/Melbourne:20240720T160000
SUMMARY:Gundaroo Produce Swap Meet
DESCRIPTION:
X-ALT-DESC;FMTTYPE=text/html:
CATEGORIES:General
UID:20240720T0531590Z-3123221-4@localendar.com
END:VEVENT
BEGIN:VEVENT
DTSTAMP:20260423T070742Z
DTSTART;TZID=Australia/Melbourne:20240804T150000
DTEND;TZID=Australia/Melbourne:20240804T160000
SUMMARY:Gundaroo Produce Swap Meet
DESCRIPTION:
X-ALT-DESC;FMTTYPE=text/html:
CATEGORIES:General
UID:20240720T0532470Z-3123221-5@localendar.com
END:VEVENT
BEGIN:VEVENT
DTSTAMP:20260423T070742Z
DTSTART;TZID=Australia/Melbourne:20240901T150000
DTEND;TZID=Australia/Melbourne:20240901T160000
SUMMARY:Gundaroo Produce Swap Meet
DESCRIPTION:
X-ALT-DESC;FMTTYPE=text/html:
CATEGORIES:General
UID:20240720T0533120Z-3123221-6@localendar.com
END:VEVENT
BEGIN:VEVENT
DTSTAMP:20260423T070742Z
DTSTART;TZID=Australia/Melbourne:20241006T150000
DTEND;TZID=Australia/Melbourne:20241006T160000
SUMMARY:Gundaroo Produce Swap Meet
DESCRIPTION:
X-ALT-DESC;FMTTYPE=text/html:
CATEGORIES:General
UID:20240720T0533470Z-3123221-7@localendar.com
END:VEVENT
BEGIN:VEVENT
DTSTAMP:20260423T070742Z
DTSTART;TZID=Australia/Melbourne:20241103T150000
DTEND;TZID=Australia/Melbourne:20241103T160000
SUMMARY:Gundaroo Produce Swap Meet
DESCRIPTION:
X-ALT-DESC;FMTTYPE=text/html:
CATEGORIES:General
UID:20240720T0534280Z-3123221-8@localendar.com
END:VEVENT
BEGIN:VEVENT
DTSTAMP:20260423T070742Z
DTSTART;TZID=Australia/Melbourne:20241201T150000
DTEND;TZID=Australia/Melbourne:20241201T160000
SUMMARY:Gundaroo Produce Swap Meet
DESCRIPTION:
X-ALT-DESC;FMTTYPE=text/html:
CATEGORIES:General
UID:20240720T0534500Z-3123221-9@localendar.com
END:VEVENT
BEGIN:VEVENT
DTSTAMP:20260423T070742Z
DTSTART;TZID=Australia/Melbourne:20250105T150000
DTEND;TZID=Australia/Melbourne:20250105T160000
SUMMARY:Gundaroo Produce Swap Meet
DESCRIPTION:
X-ALT-DESC;FMTTYPE=text/html:
CATEGORIES:General
UID:20240720T0535130Z-3123221-10@localendar.com
END:VEVENT
BEGIN:VEVENT
DTSTAMP:20260423T070742Z
DTSTART;TZID=Australia/Melbourne:20260315T150000
DTEND;TZID=Australia/Melbourne:20260315T163000
SUMMARY:Auskick (Oval)
RRULE:FREQ=WEEKLY;UNTIL=20260503;BYDAY=SU
EXDATE;TZID=Australia/Melbourne:20260405T150000
EXDATE;TZID=Australia/Melbourne:20260412T150000
DESCRIPTION:Non-public event.  Oval booked for Auskick club use.
X-ALT-DESC;FMTTYPE=text/html:<p>Non-public event.&nbsp\; Oval booked for Au
 skick club use.</p>
CATEGORIES:General
UID:20260218T2225030Z-3123221-16@localendar.com
END:VEVENT
BEGIN:VEVENT
DTSTAMP:20260423T070742Z
DTSTART;VALUE=DATE:20241020
SUMMARY:Dogs ACT & Dogs Tuggeranong Dog Training Club Scent Trials
DESCRIPTION:
X-ALT-DESC;FMTTYPE=text/html:
CATEGORIES:General
UID:20240829T1217590Z-3123221-12@localendar.com
END:VEVENT
BEGIN:VEVENT
DTSTAMP:20260423T070742Z
DTSTART;VALUE=DATE:20241117
SUMMARY:Gundaroo Community Association Community Festival - TEAR DOWN
DESCRIPTION:
X-ALT-DESC;FMTTYPE=text/html:
CATEGORIES:General
UID:20240829T1221270Z-3123221-14@localendar.com
END:VEVENT
BEGIN:VEVENT
DTSTAMP:20260423T070742Z
DTSTART;VALUE=DATE:20241115
SUMMARY:Gundaroo Community Association Community Festival - SET UP
DESCRIPTION:
X-ALT-DESC;FMTTYPE=text/html:
CATEGORIES:General
UID:20240829T1219560Z-3123221-13@localendar.com
END:VEVENT
BEGIN:VEVENT
DTSTAMP:20260423T070742Z
DTSTART;VALUE=DATE:20241019
SUMMARY:Dogs ACT & Dogs Tuggeranong Dog Training Club Scent Trials
DESCRIPTION:
X-ALT-DESC;FMTTYPE=text/html:
CATEGORIES:General
UID:20240829T1217100Z-3123221-11@localendar.com
END:VEVENT
BEGIN:VEVENT
DTSTAMP:20260423T070742Z
DTSTART;VALUE=DATE:20241116
SUMMARY:Gundaroo Community Association Community Festival
DESCRIPTION:
X-ALT-DESC;FMTTYPE=text/html:
CATEGORIES:General
UID:20240829T1221020Z-3123221-15@localendar.com
END:VEVENT
END:VCALENDAR
