BEGIN:VCALENDAR
PRODID:-//Ben Fortuna//iCal4j 1.0//EN
VERSION:2.0
CALSCALE:GREGORIAN
BEGIN:VTIMEZONE
TZID:America/Los_Angeles
LAST-MODIFIED:20260306T231828Z
TZURL:https://www.tzurl.org/zoneinfo-outlook/America/Los_Angeles
X-LIC-LOCATION:America/Los_Angeles
BEGIN:DAYLIGHT
TZNAME:PDT
TZOFFSETFROM:-0800
TZOFFSETTO:-0700
DTSTART:19700308T020000
RRULE:FREQ=YEARLY;BYMONTH=3;BYDAY=2SU
END:DAYLIGHT
BEGIN:STANDARD
TZNAME:PST
TZOFFSETFROM:-0700
TZOFFSETTO:-0800
DTSTART:19701101T020000
RRULE:FREQ=YEARLY;BYMONTH=11;BYDAY=1SU
END:STANDARD
END:VTIMEZONE
BEGIN:VEVENT
DTSTAMP:20260421T162342Z
DTSTART;TZID=America/Los_Angeles:20230608T173000
DTEND;TZID=America/Los_Angeles:20230608T193000
SUMMARY:Club Practice
RRULE:FREQ=WEEKLY;UNTIL=20231208;BYDAY=TH
EXDATE;TZID=America/Los_Angeles:20230622T173000
DESCRIPTION:Please have players arrive in baseball attire and with equipmen
 t: Short sleeve shirt Baseball pants Cleats Hat Belt Athletic Cup Baseball
  glove Bat Helmet Please contact us directly if you need assistance with g
 ear or have any questions.
X-ALT-DESC;FMTTYPE=text/html:<p>Please have players arrive in baseball atti
 re and with equipment:</p>  <ul>  <li>Short sleeve shirt</li>  <li>Basebal
 l pants</li>  <li>Cleats</li>  <li>Hat</li>  <li>Belt</li>  <li><strong>At
 hletic Cup</strong></li>  <li>Baseball glove</li>  <li>Bat</li>  <li>Helme
 t</li>  </ul>  <p>Please contact us directly if you need assistance with g
 ear or have any questions.</p>
CATEGORIES:Practice
LOCATION:Fruitland Elementary
UID:20230511T2216080Z-3036922-2@localendar.com
END:VEVENT
BEGIN:VEVENT
DTSTAMP:20260421T162342Z
DTSTART;TZID=America/Los_Angeles:20230622T173000
DTEND;TZID=America/Los_Angeles:20230622T193000
SUMMARY:Club Practice
DESCRIPTION:Please have players arrive in baseball attire and with equipmen
 t: Short sleeve shirt Baseball pants Cleats Hat Belt Athletic Cup Baseball
  glove Bat Helmet Please contact us directly if you need assistance with g
 ear or have any questions.
X-ALT-DESC;FMTTYPE=text/html:<p>Please have players arrive in baseball atti
 re and with equipment:</p>  <ul>  <li>Short sleeve shirt</li>  <li>Basebal
 l pants</li>  <li>Cleats</li>  <li>Hat</li>  <li>Belt</li>  <li><strong>At
 hletic Cup</strong></li>  <li>Baseball glove</li>  <li>Bat</li>  <li>Helme
 t</li>  </ul>  <p>Please contact us directly if you need assistance with g
 ear or have any questions.</p>
CATEGORIES:Practice
LOCATION:Waller Road Elementary
UID:20230622T1745080Z-3036922-3@localendar.com
END:VEVENT
BEGIN:VEVENT
DTSTAMP:20260421T162342Z
DTSTART;TZID=America/Los_Angeles:20230622T183000
DTEND;TZID=America/Los_Angeles:20230622T193000
SUMMARY:Speed and Agility Training with Travis Calloway
RRULE:FREQ=WEEKLY;UNTIL=20230626;BYDAY=MO
DESCRIPTION:Please have players arrive in athletic attire. A water bottle i
 s strongly encouraged. Training takes place at the New Level facility next
  to Round 1 South Hill Mall. Note: There is currently a $50 per month fee 
 for this optional training. Please contact us directly if you need assista
 nce with gear or have any questions.
X-ALT-DESC;FMTTYPE=text/html:<p>Please have players arrive in athletic atti
 re. A water bottle is strongly encouraged.</p>  <p></p>  <p>Training takes
  place at the New Level facility next to Round 1 South Hill Mall.</p>  <p>
 </p>  <p>Note: There is currently a $50 per month fee for this optional tr
 aining.</p>  <p></p>  <p>Please contact us directly if you need assistance
  with gear or have any questions.</p>
CATEGORIES:General
LOCATION:New Level Facility
UID:20230622T1748570Z-3036922-4@localendar.com
END:VEVENT
END:VCALENDAR
