BEGIN:VCALENDAR
PRODID:-//Ben Fortuna//iCal4j 1.0//EN
VERSION:2.0
CALSCALE:GREGORIAN
BEGIN:VTIMEZONE
TZID:America/New_York
LAST-MODIFIED:20260306T231828Z
TZURL:https://www.tzurl.org/zoneinfo-outlook/America/New_York
X-LIC-LOCATION:America/New_York
BEGIN:DAYLIGHT
TZNAME:EDT
TZOFFSETFROM:-0500
TZOFFSETTO:-0400
DTSTART:19700308T020000
RRULE:FREQ=YEARLY;BYMONTH=3;BYDAY=2SU
END:DAYLIGHT
BEGIN:STANDARD
TZNAME:EST
TZOFFSETFROM:-0400
TZOFFSETTO:-0500
DTSTART:19701101T020000
RRULE:FREQ=YEARLY;BYMONTH=11;BYDAY=1SU
END:STANDARD
END:VTIMEZONE
BEGIN:VEVENT
DTSTAMP:20260421T111413Z
DTSTART;TZID=America/New_York:20241222T130000
DTEND;TZID=America/New_York:20241222T140000
SUMMARY:Elder Jeter's Christmas Play Debut
DESCRIPTION:On Sunday\, December 22\, 2024 at 1:00pm Elder Jeter will debut
  in a Christmas Play at Exodus United Baptist Church located at 2000 Wilbu
 r Street here in Winston-Salem\, NC. Let's support our Associate Pastor!
X-ALT-DESC;FMTTYPE=text/html:<p>On Sunday\, December 22\, 2024 at 1:00pm El
 der Jeter will debut in a Christmas Play at Exodus United Baptist Church l
 ocated at 2000 Wilbur Street here in Winston-Salem\, NC. Let's support our
  Associate Pastor!</p>
CATEGORIES:General
UID:20241218T2328370Z-379710-2@localendar.com
END:VEVENT
BEGIN:VEVENT
DTSTAMP:20260421T111413Z
DTSTART;TZID=America/New_York:20241229T100000
DTEND;TZID=America/New_York:20241229T110000
SUMMARY:5 AND 5
DESCRIPTION:December 29\, 2024\, will mark the fifth Sunday of the month. M
 MOC will begin a new worship challenge entitled 5 AND 5. Each attendee\, m
 ember\, and friend are asked to invite and bring five additional people to
  our fellowship. Mustard seed faith moves mountain. I suggest using your p
 hones and social media for the Kingdom. See you on the 29th with your five
 .
X-ALT-DESC;FMTTYPE=text/html:<p>December 29\, 2024\, will mark the fifth Su
 nday of the month. MMOC will begin a new worship challenge entitled <span 
 style='background-color: #ffff99\;'><strong><span style='color: #333300\;'
 >5</span> AND <span style='color: #333300\;'>5</span></strong>.</span> Eac
 h attendee\, member\, and friend are asked to invite and bring five additi
 onal people to our fellowship. Mustard seed faith moves mountain. I sugges
 t using your phones and social media for the Kingdom. See you on the 29th 
 with your five.</p>
CATEGORIES:General
UID:20241218T2338100Z-379710-3@localendar.com
END:VEVENT
BEGIN:VEVENT
DTSTAMP:20260421T111413Z
DTSTART;TZID=America/New_York:20241229T110000
DTEND;TZID=America/New_York:20241229T120000
SUMMARY:Arai Blessence Wilson Dedication
DESCRIPTION:On December 29\, 2024\, Ashanta Wilson’s daughter\, Little Miss
  Arai Blessence Wilson will be re-dedicated to the Lord at the end of the 
 morning worship service. “Behold\, children are a heritage from the Lord\,
  the fruit of the womb is a reward”- Psalm 127:3.
X-ALT-DESC;FMTTYPE=text/html:<p>On December 29\, 2024\, Ashanta Wilson&rsqu
 o\;s daughter\, <em><strong>Little Miss Arai Blessence Wilson</strong></em
 > will be re-dedicated to the Lord at the end of the morning worship servi
 ce. <br />&ldquo\;<em>Behold\, children are a heritage from the&nbsp\;Lord
 \, the fruit of the womb is a reward</em>&rdquo\;- Psalm 127:3.</p>
CATEGORIES:General
UID:20241218T2337460Z-379710-4@localendar.com
END:VEVENT
BEGIN:VEVENT
DTSTAMP:20260421T111413Z
DTSTART;TZID=America/New_York:20241231T190000
DTEND;TZID=America/New_York:20241231T200000
SUMMARY:Watch Night Service
DESCRIPTION:On December 31st our Watch Night Service will be held at Exodus
  United Baptist Church with Pastor Tembila Covington\, her congregation\, 
 and friends. Services begin at 7:00pm. The church address is 2000 Wilbur S
 treet here in Winston-Salem\, NC. 
X-ALT-DESC;FMTTYPE=text/html:<p>On December 31st our Watch Night Service wi
 ll be held at Exodus United Baptist Church with Pastor Tembila Covington\,
  her congregation\, and friends. Services begin at 7:00pm. The church addr
 ess is 2000 Wilbur Street here in Winston-Salem\, NC.&nbsp\;</p>
CATEGORIES:General
UID:20241218T2345310Z-379710-5@localendar.com
END:VEVENT
BEGIN:VEVENT
DTSTAMP:20260421T111413Z
DTSTART;TZID=America/New_York:20250104T100000
DTEND;TZID=America/New_York:20250104T110000
SUMMARY:Women & Men's Bible Study
DESCRIPTION:On Saturday\, January 4th we will launch Women’s and Men’s Bibl
 e study on the Upper and Lower levels of our church. The men will be instr
 ucted by Elder Darris Little in the lower level and the women will be inst
 ructed by our very own\, Deacon Brenda Little. We look forward to spending
  time in the Word with the Lord.
X-ALT-DESC;FMTTYPE=text/html:<p>On Saturday\, January 4th we will launch Wo
 men&rsquo\;s and Men&rsquo\;s Bible study on the Upper and Lower levels of
  our church. The men will be instructed by Elder Darris Little in the lowe
 r level and the women will be instructed by our very own\, Deacon Brenda L
 ittle. We look forward to spending time in the Word with the Lord. <br /> 
 </p>
CATEGORIES:General
UID:20241218T2348100Z-379710-6@localendar.com
END:VEVENT
BEGIN:VEVENT
DTSTAMP:20260421T111413Z
DTSTART;TZID=America/New_York:20250106T070000
DTEND;TZID=America/New_York:20250106T080000
SUMMARY:Monday Morning Prayer
RRULE:FREQ=WEEKLY;UNTIL=20251229;BYDAY=MO
DESCRIPTION:On Monday\, January 6th we will launch Monday Morning Prayer fr
 om 7:00am until 7:30am. The time has been strategically scheduled to not i
 nterfere with work hours. This is a recurring event. Prayer Line: Dial-in 
 Number (605) 472-5190 Access code: 3103643
X-ALT-DESC;FMTTYPE=text/html:<p>On Monday\, January 6th we will launch Mond
 ay Morning Prayer from 7:00am until 7:30am. The time has been strategicall
 y scheduled to not interfere with work hours. This is a recurring event. <
 br /> <br /> <span style='color: #000000\;'><strong><span style='text-deco
 ration: underline\;'><a href='tel:336.283.7055' rel='nofollow'><span style
 ='color: #000000\; text-decoration: underline\;'>Prayer Line:<br />Dial-in
  Number (605) 472-5190<br />Access code: 3103643</span></a></span></strong
 ></span></p>
CATEGORIES:General
UID:20241218T2354160Z-379710-7@localendar.com
END:VEVENT
BEGIN:VEVENT
DTSTAMP:20260421T111413Z
DTSTART;TZID=America/New_York:20250106T183000
DTEND;TZID=America/New_York:20250106T193000
SUMMARY:In-Person Deacon Meeting
DESCRIPTION:On January 6 at 6:30pm there is a scheduled in-person Deacon Me
 eting. 
X-ALT-DESC;FMTTYPE=text/html:<p>On January 6 at 6:30pm there is a scheduled
  in-person Deacon Meeting.&nbsp\;</p>
CATEGORIES:General
UID:20241218T2356270Z-379710-8@localendar.com
END:VEVENT
BEGIN:VEVENT
DTSTAMP:20260421T111413Z
DTSTART;TZID=America/New_York:20250119T170000
DTEND;TZID=America/New_York:20250119T180000
SUMMARY:2025 Martin Luther King\, Jr. Commemorative Celebrations
DESCRIPTION:January 19\, 2025 will mark the Martin Luther King\, Jr. Commem
 orative Celebrations. On Sunday\, January 19th at 5:00pm\, MMOC will celeb
 rate with the Ministers Conference of Winston Salem and Vicinity at Union 
 Baptist Church\, located at 1200 N. Trade Street here in Winston-Salem\, N
 C. 
X-ALT-DESC;FMTTYPE=text/html:<p>January 19\, 2025 will mark the Martin Luth
 er King\, Jr. Commemorative Celebrations. On Sunday\, January 19th at 5:00
 pm\, MMOC will celebrate with the Ministers Conference of Winston Salem an
 d Vicinity at Union Baptist Church\, located at 1200 N. Trade Street here 
 in Winston-Salem\, NC.&nbsp\;</p>
CATEGORIES:General
LOCATION:Union Baptist Church
UID:20241219T0000110Z-379710-9@localendar.com
END:VEVENT
BEGIN:VEVENT
DTSTAMP:20260421T111413Z
DTSTART;TZID=America/New_York:20250120T090000
DTEND;TZID=America/New_York:20250120T100000
SUMMARY:Martin Luther King\, Jr. Commemorative Breakfast
DESCRIPTION:January 20th will mark the Martin Luther King\, Jr. Commemorati
 ve Celebrations. On Monday\, January 20th\, The Winston-Salem Chronicle wi
 ll host a MLK Day Breakfast. Ticket purchase for this celebratory breakfas
 t and additional information will be forthcoming.
X-ALT-DESC;FMTTYPE=text/html:<p>January 20th will mark the Martin Luther Ki
 ng\, Jr. Commemorative Celebrations. On Monday\, January 20th\, The Winsto
 n-Salem Chronicle will host a MLK Day Breakfast. Ticket purchase for this 
 celebratory breakfast and additional information will be forthcoming. <br 
 /> </p>
CATEGORIES:General
UID:20241219T0002100Z-379710-10@localendar.com
END:VEVENT
BEGIN:VEVENT
DTSTAMP:20260421T111413Z
DTSTART;TZID=America/New_York:20250201T110000
DTEND;TZID=America/New_York:20250201T120000
SUMMARY:Men and Women's Bible Study
RRULE:FREQ=MONTHLY;UNTIL=20260207;BYDAY=1SA
DESCRIPTION:Join us at Mt. Moriah Outreach Center for Men and Women's Bible
  Study led by Elder and Deacon Little. Come let us tudy God's Word togethe
 r. 
X-ALT-DESC;FMTTYPE=text/html:<p>Join us at Mt. Moriah Outreach Center for M
 en and Women's Bible Study led by Elder and Deacon Little. Come let us tud
 y God's Word together.&nbsp\;</p>
CATEGORIES:General
UID:20250201T1345450Z-379710-11@localendar.com
END:VEVENT
BEGIN:VEVENT
DTSTAMP:20260421T111413Z
DTSTART;TZID=America/New_York:20250203T183000
DTEND;TZID=America/New_York:20250203T193000
SUMMARY:In-Person Deacon Meeting
DESCRIPTION:The MMOC Deacon Board will meet in-person to discuss church pro
 jects\, safety\, and update Team information. “Each of you should use what
 ever gift you have received to serve others\, as faithful stewards of God’
 s grace in its various forms.” 1 Peter 4:10
X-ALT-DESC;FMTTYPE=text/html:<p>The MMOC Deacon Board will meet in-person t
 o discuss church projects\, safety\, and update Team information.&nbsp\;<e
 m>&ldquo\;Each of you should use whatever gift you have received to serve 
 others\, as faithful stewards of God&rsquo\;s grace in its various forms.&
 rdquo\; 1 Peter 4:10</em></p>
CATEGORIES:General
UID:20250201T1408370Z-379710-12@localendar.com
END:VEVENT
END:VCALENDAR
