BEGIN:VCALENDAR
PRODID:-//Ben Fortuna//iCal4j 1.0//EN
VERSION:2.0
CALSCALE:GREGORIAN
BEGIN:VTIMEZONE
TZID:America/Toronto
LAST-MODIFIED:20260306T231828Z
TZURL:https://www.tzurl.org/zoneinfo/America/Toronto
X-LIC-LOCATION:America/Toronto
X-PROLEPTIC-TZNAME:LMT
BEGIN:STANDARD
TZNAME:EST
TZOFFSETFROM:-051732
TZOFFSETTO:-0500
DTSTART:18950101T000000
END:STANDARD
BEGIN:DAYLIGHT
TZNAME:EDT
TZOFFSETFROM:-0500
TZOFFSETTO:-0400
DTSTART:19180414T020000
RDATE:19190330T233000
RDATE:19200502T020000
RDATE:19210515T020000
END:DAYLIGHT
BEGIN:STANDARD
TZNAME:EST
TZOFFSETFROM:-0400
TZOFFSETTO:-0500
DTSTART:19181027T020000
RDATE:19191026T000000
RDATE:19200926T000000
RDATE:19210915T020000
RDATE:19450930T020000
END:STANDARD
BEGIN:DAYLIGHT
TZNAME:EDT
TZOFFSETFROM:-0500
TZOFFSETTO:-0400
DTSTART:19220514T020000
RRULE:FREQ=YEARLY;UNTIL=19230513T070000Z;BYMONTH=5;BYDAY=2SU
END:DAYLIGHT
BEGIN:STANDARD
TZNAME:EST
TZOFFSETFROM:-0400
TZOFFSETTO:-0500
DTSTART:19220917T020000
RRULE:FREQ=YEARLY;UNTIL=19260919T060000Z;BYMONTH=9;BYDAY=3SU
END:STANDARD
BEGIN:DAYLIGHT
TZNAME:EDT
TZOFFSETFROM:-0500
TZOFFSETTO:-0400
DTSTART:19240504T020000
RRULE:FREQ=YEARLY;UNTIL=19270501T070000Z;BYMONTH=5;BYDAY=1SU
END:DAYLIGHT
BEGIN:STANDARD
TZNAME:EST
TZOFFSETFROM:-0400
TZOFFSETTO:-0500
DTSTART:19270925T020000
RRULE:FREQ=YEARLY;UNTIL=19370926T060000Z;BYYEARDAY=-92,-93,-94,-95,-96,-97,
 -98;BYDAY=SU
END:STANDARD
BEGIN:DAYLIGHT
TZNAME:EDT
TZOFFSETFROM:-0500
TZOFFSETTO:-0400
DTSTART:19280429T020000
RRULE:FREQ=YEARLY;UNTIL=19370425T070000Z;BYYEARDAY=-245,-246,-247,-248,-249
 ,-250,-251;BYDAY=SU
END:DAYLIGHT
BEGIN:DAYLIGHT
TZNAME:EDT
TZOFFSETFROM:-0500
TZOFFSETTO:-0400
DTSTART:19380424T020000
RRULE:FREQ=YEARLY;UNTIL=19400428T070000Z;BYMONTH=4;BYDAY=-1SU
END:DAYLIGHT
BEGIN:STANDARD
TZNAME:EST
TZOFFSETFROM:-0400
TZOFFSETTO:-0500
DTSTART:19380925T020000
RRULE:FREQ=YEARLY;UNTIL=19390924T060000Z;BYMONTH=9;BYDAY=-1SU
END:STANDARD
BEGIN:DAYLIGHT
TZNAME:EWT
TZOFFSETFROM:-0400
TZOFFSETTO:-0400
DTSTART:19420209T030000
END:DAYLIGHT
BEGIN:DAYLIGHT
TZNAME:EPT
TZOFFSETFROM:-0400
TZOFFSETTO:-0400
DTSTART:19450814T190000
END:DAYLIGHT
BEGIN:DAYLIGHT
TZNAME:EDT
TZOFFSETFROM:-0500
TZOFFSETTO:-0400
DTSTART:19460428T020000
RRULE:FREQ=YEARLY;UNTIL=19860427T070000Z;BYMONTH=4;BYDAY=-1SU
END:DAYLIGHT
BEGIN:STANDARD
TZNAME:EST
TZOFFSETFROM:-0400
TZOFFSETTO:-0500
DTSTART:19460929T020000
RRULE:FREQ=YEARLY;UNTIL=19480926T060000Z;BYMONTH=9;BYDAY=-1SU
END:STANDARD
BEGIN:STANDARD
TZNAME:EST
TZOFFSETFROM:-0400
TZOFFSETTO:-0500
DTSTART:19491127T020000
RRULE:FREQ=YEARLY;UNTIL=19501126T060000Z;BYMONTH=11;BYDAY=-1SU
END:STANDARD
BEGIN:STANDARD
TZNAME:EST
TZOFFSETFROM:-0400
TZOFFSETTO:-0500
DTSTART:19510930T020000
RRULE:FREQ=YEARLY;UNTIL=19560930T060000Z;BYMONTH=9;BYDAY=-1SU
END:STANDARD
BEGIN:STANDARD
TZNAME:EST
TZOFFSETFROM:-0400
TZOFFSETTO:-0500
DTSTART:19571027T020000
RRULE:FREQ=YEARLY;UNTIL=20061029T060000Z;BYMONTH=10;BYDAY=-1SU
END:STANDARD
BEGIN:DAYLIGHT
TZNAME:EDT
TZOFFSETFROM:-0500
TZOFFSETTO:-0400
DTSTART:19870405T020000
RRULE:FREQ=YEARLY;UNTIL=20060402T070000Z;BYMONTH=4;BYDAY=1SU
END:DAYLIGHT
BEGIN:DAYLIGHT
TZNAME:EDT
TZOFFSETFROM:-0500
TZOFFSETTO:-0400
DTSTART:20070311T020000
RRULE:FREQ=YEARLY;BYMONTH=3;BYDAY=2SU
END:DAYLIGHT
BEGIN:STANDARD
TZNAME:EST
TZOFFSETFROM:-0400
TZOFFSETTO:-0500
DTSTART:20071104T020000
RRULE:FREQ=YEARLY;BYMONTH=11;BYDAY=1SU
END:STANDARD
END:VTIMEZONE
BEGIN:VEVENT
DTSTAMP:20260422T001108Z
DTSTART;VALUE=DATE:20160719
SUMMARY:Grand Lodge Annual Communication
DESCRIPTION:
X-ALT-DESC;FMTTYPE=text/html:
CATEGORIES:General
UID:20160704T1906570Z-484616-66@localendar.com
END:VEVENT
BEGIN:VEVENT
DTSTAMP:20260422T001108Z
DTSTART;VALUE=DATE:20160718
SUMMARY:Grand Lodge Annual Communication
DESCRIPTION:
X-ALT-DESC;FMTTYPE=text/html:
CATEGORIES:General
UID:20160704T1910280Z-484616-67@localendar.com
END:VEVENT
BEGIN:VEVENT
DTSTAMP:20260422T001108Z
DTSTART;VALUE=DATE:20160720
SUMMARY:Grand Lodge Annual Communication
DESCRIPTION:
X-ALT-DESC;FMTTYPE=text/html:
CATEGORIES:General
UID:20160704T1908510Z-484616-68@localendar.com
END:VEVENT
BEGIN:VEVENT
DTSTAMP:20260422T001108Z
DTSTART;VALUE=DATE:20160721
SUMMARY:Grand Lodge Annual Communication
DESCRIPTION:
X-ALT-DESC;FMTTYPE=text/html:
CATEGORIES:General
UID:20160704T1911140Z-484616-69@localendar.com
END:VEVENT
BEGIN:VEVENT
DTSTAMP:20260422T001108Z
DTSTART;TZID=America/Toronto:20160912T190000
DTEND;TZID=America/Toronto:20160912T220000
SUMMARY:Official Visit
DESCRIPTION:
X-ALT-DESC;FMTTYPE=text/html:
CATEGORIES:General
UID:20160704T1912490Z-484616-70@localendar.com
END:VEVENT
BEGIN:VEVENT
DTSTAMP:20260422T001108Z
DTSTART;TZID=America/Toronto:20161203T170000
DTEND;TZID=America/Toronto:20161203T210000
SUMMARY:4th. Annual Christmas Dinner
DESCRIPTION:
X-ALT-DESC;FMTTYPE=text/html:
CATEGORIES:General
UID:20160704T1914030Z-484616-71@localendar.com
END:VEVENT
BEGIN:VEVENT
DTSTAMP:20260422T001108Z
DTSTART;TZID=America/Toronto:20190610T190000
DTEND;TZID=America/Toronto:20190610T213000
SUMMARY:Garden City 616
DESCRIPTION:Regular Meeting followed by Strawberry Social
X-ALT-DESC;FMTTYPE=text/html:<p>Regular Meeting followed by Strawberry Soci
 al</p>
CATEGORIES:General
UID:20190527T2332040Z-484616-72@localendar.com
END:VEVENT
BEGIN:VEVENT
DTSTAMP:20260422T001108Z
DTSTART;TZID=America/Toronto:20190613T190000
DTEND;TZID=America/Toronto:20190613T213000
SUMMARY:Maple Leaf 103
DESCRIPTION:Regular Meeting
X-ALT-DESC;FMTTYPE=text/html:<p>Regular Meeting</p>
CATEGORIES:General
UID:20190527T2329590Z-484616-73@localendar.com
END:VEVENT
BEGIN:VEVENT
DTSTAMP:20260422T001108Z
DTSTART;TZID=America/Toronto:20190618T190000
DTEND;TZID=America/Toronto:20190618T213000
SUMMARY:Dufferin 338
DESCRIPTION:Installation
X-ALT-DESC;FMTTYPE=text/html:<p>Installation</p>
CATEGORIES:General
UID:20190527T2330140Z-484616-74@localendar.com
END:VEVENT
BEGIN:VEVENT
DTSTAMP:20260422T001108Z
DTSTART;TZID=America/Toronto:20190620T190000
DTEND;TZID=America/Toronto:20190620T213000
SUMMARY:Mountain 221
DESCRIPTION:Installation
X-ALT-DESC;FMTTYPE=text/html:<p>Installation</p>
CATEGORIES:General
UID:20190527T2330270Z-484616-75@localendar.com
END:VEVENT
BEGIN:VEVENT
DTSTAMP:20260422T001108Z
DTSTART;TZID=America/Toronto:20190624T190000
DTEND;TZID=America/Toronto:20190624T213000
SUMMARY:Garden City 616
DESCRIPTION:Emergent Meeting Work in the First
X-ALT-DESC;FMTTYPE=text/html:<p>Emergent Meeting</p>  <p>Work in the First<
 /p>
CATEGORIES:General
UID:20190527T2330410Z-484616-76@localendar.com
END:VEVENT
BEGIN:VEVENT
DTSTAMP:20260422T001108Z
DTSTART;TZID=America/Toronto:20190625T190000
DTEND;TZID=America/Toronto:20190625T213000
SUMMARY:St George's 15
DESCRIPTION:Installation
X-ALT-DESC;FMTTYPE=text/html:<p>Installation</p>
CATEGORIES:General
UID:20190527T2331260Z-484616-77@localendar.com
END:VEVENT
BEGIN:VEVENT
DTSTAMP:20260422T001108Z
DTSTART;TZID=America/Toronto:20190627T190000
DTEND;TZID=America/Toronto:20190627T210000
SUMMARY:District A Meeting
DESCRIPTION:
X-ALT-DESC;FMTTYPE=text/html:
CATEGORIES:General
UID:20190527T2332310Z-484616-78@localendar.com
END:VEVENT
BEGIN:VEVENT
DTSTAMP:20260422T001108Z
DTSTART;VALUE=DATE:20190715
SUMMARY:Grand Lodge Annual Communication
RRULE:FREQ=DAILY;COUNT=4
DESCRIPTION:
X-ALT-DESC;FMTTYPE=text/html:
CATEGORIES:General
UID:20190527T2334070Z-484616-79@localendar.com
END:VEVENT
BEGIN:VEVENT
DTSTAMP:20260422T001108Z
DTSTART;TZID=America/Toronto:20190909T180000
DTEND;TZID=America/Toronto:20190909T210000
SUMMARY:Garden City 616 OV
DESCRIPTION:
X-ALT-DESC;FMTTYPE=text/html:
CATEGORIES:General
UID:20190527T2335300Z-484616-80@localendar.com
END:VEVENT
BEGIN:VEVENT
DTSTAMP:20260422T001108Z
DTSTART;TZID=America/Toronto:20200113T193000
DTEND;TZID=America/Toronto:20200113T220000
SUMMARY:Garden City 616 Regular Meeting
RRULE:FREQ=MONTHLY;UNTIL=20221111;BYDAY=2MO
EXDATE;TZID=America/Toronto:20200511T193000
EXDATE;TZID=America/Toronto:20200914T193000
EXDATE;TZID=America/Toronto:20200914T193000
EXDATE;TZID=America/Toronto:20200914T193000
EXDATE;TZID=America/Toronto:20200914T193000
EXDATE;TZID=America/Toronto:20201012T193000
DESCRIPTION:
X-ALT-DESC;FMTTYPE=text/html:
CATEGORIES:General
UID:20191227T1621210Z-484616-81@localendar.com
END:VEVENT
BEGIN:VEVENT
DTSTAMP:20260422T001108Z
DTSTART;TZID=America/Toronto:20200118T080000
DTEND;TZID=America/Toronto:20200118T110000
SUMMARY:Breakfast & GP Meeting
DESCRIPTION:
X-ALT-DESC;FMTTYPE=text/html:
CATEGORIES:General
UID:20200112T0204490Z-484616-82@localendar.com
END:VEVENT
BEGIN:VEVENT
DTSTAMP:20260422T001108Z
DTSTART;TZID=America/Toronto:20200212T193000
DTEND;TZID=America/Toronto:20200212T220000
SUMMARY:Seymour Lodge Official Visit
DESCRIPTION:
X-ALT-DESC;FMTTYPE=text/html:
CATEGORIES:General
UID:20191227T1615440Z-484616-83@localendar.com
END:VEVENT
BEGIN:VEVENT
DTSTAMP:20260422T001108Z
DTSTART;TZID=America/Toronto:20200304T193000
DTEND;TZID=America/Toronto:20200304T223000
SUMMARY:Niagara No. 2 Official Visit
DESCRIPTION:
X-ALT-DESC;FMTTYPE=text/html:
CATEGORIES:General
UID:20191227T1616410Z-484616-84@localendar.com
END:VEVENT
BEGIN:VEVENT
DTSTAMP:20260422T001108Z
DTSTART;TZID=America/Toronto:20200407T193000
DTEND;TZID=America/Toronto:20200407T223000
SUMMARY:Ivy 115 Official Visit
DESCRIPTION:
X-ALT-DESC;FMTTYPE=text/html:
CATEGORIES:General
UID:20191227T1617440Z-484616-85@localendar.com
END:VEVENT
BEGIN:VEVENT
DTSTAMP:20260422T001108Z
DTSTART;TZID=America/Toronto:20200314T100000
DTEND;TZID=America/Toronto:20200314T130000
SUMMARY:Brock Daylight Lodge No. 745 Official Visit
DESCRIPTION:
X-ALT-DESC;FMTTYPE=text/html:
CATEGORIES:General
UID:20191227T1618410Z-484616-86@localendar.com
END:VEVENT
BEGIN:VEVENT
DTSTAMP:20260422T001108Z
DTSTART;TZID=America/Toronto:20200416T193000
DTEND;TZID=America/Toronto:20200416T223000
SUMMARY:Mountain Lodge No. 221 Official Visit
DESCRIPTION:
X-ALT-DESC;FMTTYPE=text/html:
CATEGORIES:General
UID:20191227T1619550Z-484616-87@localendar.com
END:VEVENT
BEGIN:VEVENT
DTSTAMP:20260422T001108Z
DTSTART;TZID=America/Toronto:20200511T190000
DTEND;TZID=America/Toronto:20200511T213000
SUMMARY:Garden City 616 Regular Meeting - Installation
DESCRIPTION:
X-ALT-DESC;FMTTYPE=text/html:
CATEGORIES:General
UID:20191227T1622500Z-484616-88@localendar.com
END:VEVENT
BEGIN:VEVENT
DTSTAMP:20260422T001108Z
DTSTART;TZID=America/Toronto:20200914T193000
DTEND;TZID=America/Toronto:20200914T220000
SUMMARY:Garden City 616 Regular Meeting - CANCELLED
DESCRIPTION: 
X-ALT-DESC;FMTTYPE=text/html:<p><span style='color: #ff0000\; font-size: 10
 pt\;'>&nbsp\;</span></p>
CATEGORIES:General
UID:20200910T1257290Z-484616-89@localendar.com
END:VEVENT
BEGIN:VEVENT
DTSTAMP:20260422T001108Z
DTSTART;TZID=America/Toronto:20201026T193000
DTEND;TZID=America/Toronto:20201026T220000
SUMMARY:Garden City 616 Regular Meeting - CANCELLED
DESCRIPTION:
X-ALT-DESC;FMTTYPE=text/html:
CATEGORIES:General
UID:20200910T1259100Z-484616-90@localendar.com
END:VEVENT
BEGIN:VEVENT
DTSTAMP:20260422T001108Z
DTSTART;VALUE=DATE:20231009
SUMMARY:Thanksgiving Day - Enjoy the Turkey and Ham - No Lodge Meeting Toda
 y
DESCRIPTION: 
X-ALT-DESC;FMTTYPE=text/html:<p><em>&nbsp\;</em></p>
CATEGORIES:General
UID:20231002T1307070Z-484616-91@localendar.com
END:VEVENT
BEGIN:VEVENT
DTSTAMP:20260422T001108Z
DTSTART;TZID=America/Toronto:20231023T193000
DTEND;TZID=America/Toronto:20231023T223000
SUMMARY:Regular Meeting - Double Third by the Philipino Degree Team
DESCRIPTION:
X-ALT-DESC;FMTTYPE=text/html:<p><strong></strong></p>
CATEGORIES:General
UID:20231002T1309290Z-484616-92@localendar.com
END:VEVENT
BEGIN:VEVENT
DTSTAMP:20260422T001108Z
DTSTART;TZID=America/Toronto:20231030T190000
DTEND;TZID=America/Toronto:20231030T220000
SUMMARY:Emergent Meeting followed by Games Night
DESCRIPTION:
X-ALT-DESC;FMTTYPE=text/html:
CATEGORIES:General
UID:20231025T1548170Z-484616-93@localendar.com
END:VEVENT
BEGIN:VEVENT
DTSTAMP:20260422T001108Z
DTSTART;VALUE=DATE:20231113
SUMMARY:Regular Meeting - Third Degree
DESCRIPTION:
X-ALT-DESC;FMTTYPE=text/html:
CATEGORIES:General
UID:20231027T2218530Z-484616-94@localendar.com
END:VEVENT
BEGIN:VEVENT
DTSTAMP:20260422T001108Z
DTSTART;VALUE=DATE:20231211
SUMMARY: Regular Meeting
DESCRIPTION:
X-ALT-DESC;FMTTYPE=text/html:
CATEGORIES:General
UID:20231027T2219440Z-484616-95@localendar.com
END:VEVENT
BEGIN:VEVENT
DTSTAMP:20260422T001108Z
DTSTART;VALUE=DATE:20231118
SUMMARY:3 Lodge Anniversary Celebration - Garden City Lodge 221
DESCRIPTION:
X-ALT-DESC;FMTTYPE=text/html:
CATEGORIES:General
UID:20231027T2221260Z-484616-96@localendar.com
END:VEVENT
BEGIN:VEVENT
DTSTAMP:20260422T001108Z
DTSTART;VALUE=DATE:20231209
SUMMARY:Widows and Families Christmas Dinner
DESCRIPTION:
X-ALT-DESC;FMTTYPE=text/html:
CATEGORIES:General
UID:20231027T2222140Z-484616-97@localendar.com
END:VEVENT
BEGIN:VEVENT
DTSTAMP:20260422T001108Z
SUMMARY:Regular Meeting
DTSTART;VALUE=DATE:20240212
DTEND;VALUE=DATE:20240213
RRULE:FREQ=MONTHLY;UNTIL=20260108;BYDAY=2MO
EXDATE;VALUE=DATE:20240108
DESCRIPTION:
X-ALT-DESC;FMTTYPE=text/html:
CATEGORIES:General
UID:20231027T2224430Z-484616-98@localendar.com
END:VEVENT
BEGIN:VEVENT
DTSTAMP:20260422T001108Z
DTSTART;VALUE=DATE:20240108
SUMMARY:Regular Meeting - First Degree
DESCRIPTION:
X-ALT-DESC;FMTTYPE=text/html:
CATEGORIES:General
UID:20231027T2225000Z-484616-99@localendar.com
END:VEVENT
END:VCALENDAR
