BEGIN:VCALENDAR
PRODID:-//Ben Fortuna//iCal4j 1.0//EN
VERSION:2.0
CALSCALE:GREGORIAN
BEGIN:VTIMEZONE
TZID:America/New_York
LAST-MODIFIED:20260306T231828Z
TZURL:https://www.tzurl.org/zoneinfo-outlook/America/New_York
X-LIC-LOCATION:America/New_York
BEGIN:DAYLIGHT
TZNAME:EDT
TZOFFSETFROM:-0500
TZOFFSETTO:-0400
DTSTART:19700308T020000
RRULE:FREQ=YEARLY;BYMONTH=3;BYDAY=2SU
END:DAYLIGHT
BEGIN:STANDARD
TZNAME:EST
TZOFFSETFROM:-0400
TZOFFSETTO:-0500
DTSTART:19701101T020000
RRULE:FREQ=YEARLY;BYMONTH=11;BYDAY=1SU
END:STANDARD
END:VTIMEZONE
BEGIN:VEVENT
DTSTAMP:20260420T155542Z
DTSTART;TZID=America/New_York:20140412T180000
DTEND;TZID=America/New_York:20140412T200000
SUMMARY:Josties in Concert
DESCRIPTION:A meal will be provided at 5:00 and the concert will start prom
 ptly at 6:00. Check out josties.com to learn more about the family. If you
  have any questions please contact (828) 524-0919.
X-ALT-DESC;FMTTYPE=text/html:<p><span style='color: #000000\;'><span style=
 'font-size: small\; color: #ffffff\;'>A meal will be provided at 5:00 and 
 the concert will start promptly at 6:00. Check out josties.com to learn mo
 re about the family.</span></span></p><br/>If you have any questions pleas
 e contact (828) 524-0919.
CATEGORIES:General
LOCATION:
UID:20140409T0404500Z-504999-2@localendar.com
END:VEVENT
BEGIN:VEVENT
DTSTAMP:20260420T155542Z
DTSTART;TZID=America/New_York:20140420T080000
DTEND;TZID=America/New_York:20140420T080000
SUMMARY:Early Rise Service
DESCRIPTION:We will serve a continental style breakfast after the service. 
 Sunday school will take place at 10:00 a.m. followed by Worship Service at
  11:00 a.m. If you have any questions please contact (828) 524-0919.
X-ALT-DESC;FMTTYPE=text/html:<p><span style='color: #ffffff\;'>We will serv
 e a continental style breakfast after the service. Sunday school will take
  place at 10:00 a.m. followed by Worship Service at 11:00 a.m.</span></p><
 br/>If you have any questions please contact (828) 524-0919.
CATEGORIES:General
LOCATION:
UID:20140408T1732480Z-504999-3@localendar.com
END:VEVENT
BEGIN:VEVENT
DTSTAMP:20260420T155542Z
DTSTART;TZID=America/New_York:20140418T190000
DTEND;TZID=America/New_York:20140418T200000
SUMMARY:Easter Cantata
DESCRIPTION:Our choir will join together with 2 other choirs to present 'Th
 e Day He Wore My Crown' on Friday\, April 18th at 7:00 p.m. at  Coweeta Ba
 ptist Church. Don't miss this special time of worship. If you have any que
 stions please contact (828) 524-0919.
X-ALT-DESC;FMTTYPE=text/html:<p><span style='color: #ffffff\;'>Our choir wi
 ll join together with 2 other choirs to present 'The Day He Wore My Crown'
  on Friday\, April 18th at 7:00 p.m. at &nbsp\;Coweeta Baptist Church. Don
 't miss this special time of worship.</span></p><br/>If you have any quest
 ions please contact (828) 524-0919.
CATEGORIES:General
LOCATION:
UID:20140413T0348090Z-504999-4@localendar.com
END:VEVENT
BEGIN:VEVENT
DTSTAMP:20260420T155542Z
DTSTART;TZID=America/New_York:20140622T180000
DTEND;TZID=America/New_York:20140622T210000
SUMMARY:Vacation Bible School
RRULE:FREQ=DAILY;COUNT=6
EXDATE;TZID=America/New_York:20140627T180000
DESCRIPTION:Arrow Island: Choosing God’s Way shows students the importance 
 of choosing obedience\, godly friends\, kindness\, courage\, and active fa
 ith. If you have any questions please contact (828) 524-0919.
X-ALT-DESC;FMTTYPE=text/html:<p><span style='color: #ffffff\;'>Arrow Island
 : Choosing God&rsquo\;s Way shows students the&nbsp\;importance of choosin
 g obedience\, godly friends\,&nbsp\;kindness\, courage\, and active faith.
 </span></p><br/>If you have any questions please contact (828) 524-0919.
CATEGORIES:General
LOCATION:
UID:20140415T0427080Z-504999-5@localendar.com
END:VEVENT
BEGIN:VEVENT
DTSTAMP:20260420T155542Z
DTSTART;TZID=America/New_York:20140627T180000
DTEND;TZID=America/New_York:20140627T200000
SUMMARY:VBS Commencement
DESCRIPTION:Arrow Island: Choosing God’s Way shows students the importance 
 of choosing obedience\, godly friends\, kindness\, courage\, and active fa
 ith. If you have any questions please contact (828) 524-0919.
X-ALT-DESC;FMTTYPE=text/html:<p><span style='color: #000000\;'><span style=
 'color: #ffffff\;'>Arrow Island: Choosing God&rsquo\;s Way shows students 
 the&nbsp\;importance of choosing obedience\, godly friends\,&nbsp\;kindnes
 s\, courage\, and active faith.</span><br /></span></p><br/>If you have an
 y questions please contact (828) 524-0919.
CATEGORIES:General
LOCATION:
UID:20140415T0429080Z-504999-6@localendar.com
END:VEVENT
BEGIN:VEVENT
DTSTAMP:20260420T155542Z
DTSTART;TZID=America/New_York:20140518T160000
DTEND;TZID=America/New_York:20140518T173000
SUMMARY:Ladies SCENTIMENT Ministry
DESCRIPTION:Join us for an afternoon of fellowship\, study and encouragemen
 t. Our topic this month is 'Being a Godly Woman'. We are strongly encourag
 ing the daughters to attend with their mothers since we have just celebrat
 ed Mother's Day.  If you have any questions please contact (828) 524-0919.
 
X-ALT-DESC;FMTTYPE=text/html:<p><span style='color: #ffffff\;'>Join us for 
 an afternoon of fellowship\, study and encouragement. Our topic this month
  is 'Being a Godly Woman'. We are strongly encouraging the daughters to at
 tend with their mothers since we have just celebrated Mother's Day.&nbsp\;
 </span></p><br/>If you have any questions please contact (828) 524-0919.
CATEGORIES:General
LOCATION:
UID:20140509T2228080Z-504999-7@localendar.com
END:VEVENT
BEGIN:VEVENT
DTSTAMP:20260420T155542Z
DTSTART;TZID=America/New_York:20140714T120000
DTEND;TZID=America/New_York:20140714T130000
SUMMARY:World Changers
RRULE:FREQ=DAILY;COUNT=5
DESCRIPTION:We have the opportunity to prepare lunch for a group of young p
 eople working on a local construction crew. Contact Lori if you would like
  to help. If you have any questions please contact (828) 524-0919.
X-ALT-DESC;FMTTYPE=text/html:<p><span style='color: #ffffff\;'>We have the 
 opportunity to prepare lunch for a group of young people working on a loca
 l construction crew. Contact Lori if you would like to help.</span></p><br
 />If you have any questions please contact (828) 524-0919.
CATEGORIES:General
LOCATION:
UID:20140726T0300140Z-504999-8@localendar.com
END:VEVENT
BEGIN:VEVENT
DTSTAMP:20260420T155542Z
DTSTART;TZID=America/New_York:20140726T110000
DTEND;TZID=America/New_York:20140726T160000
SUMMARY:Picnic on the River
DESCRIPTION:Join us for our annual picnic at the Rogers' cabin on the river
 . We will meet at the church at 9:30 if you would like to carpool. Please 
 bring food items to share with others and don't forget your lawn chairs. I
 f you would like to float down the river you will need to bring an inner t
 ube. If you have any questions please contact (828) 524-0919.
X-ALT-DESC;FMTTYPE=text/html:<p><span style='color: #ffffff\;'>Join us for 
 our annual picnic at the Rogers' cabin on the river. We will meet at the c
 hurch at 9:30 if you would like to carpool. Please bring food items to sha
 re with others and don't forget your lawn chairs. If you would like to flo
 at down the river you will need to bring an inner tube.</span></p><br/>If 
 you have any questions please contact (828) 524-0919.
CATEGORIES:General
LOCATION:
UID:20140726T0304430Z-504999-9@localendar.com
END:VEVENT
BEGIN:VEVENT
DTSTAMP:20260420T155542Z
DTSTART;VALUE=DATE:20140804
SUMMARY:Summer Mission Trip
RRULE:FREQ=DAILY;COUNT=3
DESCRIPTION:We are heading to Shelby Mission Camp in Shelby\, NC for a spec
 ial time of ministering to people within the local community. If you are i
 nterested in participating please see Bro. Albert. If you have any questio
 ns please contact (828) 524-0919.
X-ALT-DESC;FMTTYPE=text/html:<p><span style='color: #ffffff\;'>We are headi
 ng to Shelby Mission Camp in Shelby\, NC for a special time of ministering
  to people within the local community. If you are interested in participat
 ing please see Bro. Albert.</span></p><br/>If you have any questions pleas
 e contact (828) 524-0919.
CATEGORIES:General
LOCATION:
UID:20140726T0308070Z-504999-10@localendar.com
END:VEVENT
BEGIN:VEVENT
DTSTAMP:20260420T155542Z
DTSTART;VALUE=DATE:20140912
SUMMARY:Fall Ladies Retreat
RRULE:FREQ=DAILY;COUNT=2
DESCRIPTION:It is time for our SCENTIMENT Retreat at the cabin on the river
 . We will begin at dinner on Friday evening and conclude at 2:00 on Saturd
 ay. Our guest speaker is Donna Plemmons and our topic is 'The Garden of th
 e Mind'. Don't miss this special time of study and fellowship. If you have
  any questions please contact (828) 524-0919.
X-ALT-DESC;FMTTYPE=text/html:<p><span style='color: #ffffff\;'>It is time f
 or our SCENTIMENT Retreat at the cabin on the river. We will begin at dinn
 er on Friday evening and conclude at 2:00 on Saturday. Our guest speaker i
 s Donna Plemmons and our topic is 'The Garden of the Mind'. Don't miss thi
 s special time of study and fellowship.</span></p><br/>If you have any que
 stions please contact (828) 524-0919.
CATEGORIES:General
LOCATION:
UID:20140726T0312330Z-504999-11@localendar.com
END:VEVENT
BEGIN:VEVENT
DTSTAMP:20260420T155542Z
DTSTART;TZID=America/New_York:20140927T080000
DTEND;TZID=America/New_York:20140927T120000
SUMMARY:Church Workday
DESCRIPTION:Come help us beautify our grounds and buildings in preparation 
 for Homecoming.   If you have any questions please contact (828) 524-0919.
 
X-ALT-DESC;FMTTYPE=text/html:<p><span style='color: #ffffff\;'>Come help us
  beautify our grounds and buildings in preparation for Homecoming.</span><
 /p>\n<p>&nbsp\;</p><br/>If you have any questions please contact (828) 524
 -0919.
CATEGORIES:General
UID:20140925T0250490Z-504999-12@localendar.com
END:VEVENT
BEGIN:VEVENT
DTSTAMP:20260420T155542Z
DTSTART;TZID=America/New_York:20141005T094500
DTEND;TZID=America/New_York:20141005T130000
SUMMARY:Homecoming Service
DESCRIPTION:Join us for our annual celebration! Heaven's Mountain Band will
  share in concert at 9:45 a.m. There will be special music and drama prese
 nted by our youth and adults followed by a homecoming message from Pastor 
 Albert Grey. We will have a time of great fellowship during our dinner on 
 the grounds following service. If you have any questions please contact (8
 28) 524-0919.
X-ALT-DESC;FMTTYPE=text/html:<p><span style='color: #ffffff\;'>Join us for 
 our annual celebration!&nbsp\;Heaven's Mountain Band will share in concert
  at 9:45 a.m. There will be&nbsp\;special music and drama presented by our
  youth and adults followed by a homecoming message from Pastor Albert Grey
 . We will have a time of great fellowship during our dinner on the grounds
  following service.</span></p><br/>If you have any questions please contac
 t (828) 524-0919.
CATEGORIES:General
UID:20140925T0259580Z-504999-13@localendar.com
END:VEVENT
BEGIN:VEVENT
DTSTAMP:20260420T155542Z
DTSTART;TZID=America/New_York:20150622T180000
DTEND;TZID=America/New_York:20150622T210000
SUMMARY:Vacation Bible School
RRULE:FREQ=DAILY;COUNT=5
DESCRIPTION:Join us for and exciting week of 'To the Edge'! Ages 2 - 8th gr
 ade If you have any questions please contact (828) 524-0919.
X-ALT-DESC;FMTTYPE=text/html:<p><span style='color: #ffffff\;'>Join us for 
 and exciting week of 'To the Edge'!</span></p>\n<p><span style='color: #ff
 ffff\;'>Ages 2 - 8th grade</span></p><br/>If you have any questions please
  contact (828) 524-0919.
CATEGORIES:General
UID:20150711T0423480Z-504999-14@localendar.com
END:VEVENT
BEGIN:VEVENT
DTSTAMP:20260420T155542Z
DTSTART;TZID=America/New_York:20150509T100000
DTEND;TZID=America/New_York:20150509T110000
SUMMARY:Mother's Day Brunch
DESCRIPTION:Our youth will be cooking and serving brunch for all the mother
 s. Please make plans to attend this special morning in your honor. If you 
 have any questions please contact (828) 524-0919.
X-ALT-DESC;FMTTYPE=text/html:<p><span style='color: #ffffff\;'>Our youth wi
 ll be cooking and serving brunch for all the mothers.</span></p>\n<p><span
  style='color: #ffffff\;'>Please make plans to attend this special morning
  in your honor.</span></p><br/>If you have any questions please contact (8
 28) 524-0919.
CATEGORIES:General
UID:20150711T0427470Z-504999-15@localendar.com
END:VEVENT
BEGIN:VEVENT
DTSTAMP:20260420T155542Z
DTSTART;TZID=America/New_York:20150531T170000
DTEND;TZID=America/New_York:20150531T180000
SUMMARY:Celebrating Our Children
DESCRIPTION:Come support the children and youth as they share with us what 
 they have been learning on Sunday and Wedneday. There will be a finger foo
 d social following the service. If you have any questions please contact (
 828) 524-0919.
X-ALT-DESC;FMTTYPE=text/html:<p><span style='color: #ffffff\;'>Come support
  the children and youth as they share with us what they have been learning
  on Sunday and Wedneday. There will be a finger food social following the 
 service.</span></p><br/>If you have any questions please contact (828) 524
 -0919.
CATEGORIES:General
UID:20150711T0430220Z-504999-16@localendar.com
END:VEVENT
BEGIN:VEVENT
DTSTAMP:20260420T155542Z
DTSTART;TZID=America/New_York:20150712T150000
DTEND;TZID=America/New_York:20150712T163000
SUMMARY:SCENTIMENT Ladies Meeting
DESCRIPTION:Our ladies will meet for a time of fellowship\, Bible study and
  encouragement. Our topic for the day is 'Don't Flip Flop on Jesus'. Pleas
 e join us! If you have any questions please contact (828) 524-0919.
X-ALT-DESC;FMTTYPE=text/html:<p><span style='color: #ffffff\;'>Our ladies w
 ill meet for a time of fellowship\, Bible study and encouragement. Our top
 ic for the day is 'Don't Flip Flop on Jesus'. Please join us!</span></p><b
 r/>If you have any questions please contact (828) 524-0919.
CATEGORIES:General
UID:20150711T0433090Z-504999-17@localendar.com
END:VEVENT
BEGIN:VEVENT
DTSTAMP:20260420T155542Z
DTSTART;TZID=America/New_York:20150815T183000
DTEND;TZID=America/New_York:20150815T200000
SUMMARY:Concert: Heaven's Mountain Band
DESCRIPTION:We look forward to having Heaven's Mountain Band return to shar
 e in concert with us. Join us for a great evening of bluegrass and gospel 
 music. If you have any questions please contact (828) 524-0919.
X-ALT-DESC;FMTTYPE=text/html:<p><span style='color: #ffffff\;'>We look forw
 ard to having Heaven's Mountain Band return to share in concert with us. J
 oin us for a great evening of bluegrass and gospel music.</span></p><br/>I
 f you have any questions please contact (828) 524-0919.
CATEGORIES:General
UID:20150711T0435460Z-504999-18@localendar.com
END:VEVENT
BEGIN:VEVENT
DTSTAMP:20260420T155542Z
DTSTART;TZID=America/New_York:20150822T110000
DTEND;TZID=America/New_York:20150822T170000
SUMMARY:Picnic on the River
DESCRIPTION:Join us for and afternoon of fun\, food\, fellowship and tubing
 ! Bring your favorite dish to the Rogers' cabin. We will eat at noon. Don'
 t miss this highlight of the summer! If you have any questions please cont
 act (828) 524-0919.
X-ALT-DESC;FMTTYPE=text/html:<p><span style='color: #ffffff\;'>Join us for 
 and afternoon of fun\, food\, fellowship and tubing! Bring your favorite d
 ish to the Rogers' cabin. We will eat at noon. Don't miss this highlight o
 f the summer!</span></p><br/>If you have any questions please contact (828
 ) 524-0919.
CATEGORIES:General
UID:20150711T0453590Z-504999-19@localendar.com
END:VEVENT
BEGIN:VEVENT
DTSTAMP:20260420T155542Z
DTSTART;TZID=America/New_York:20150911T180000
DTEND;TZID=America/New_York:20150911T180000
SUMMARY:Fall Ladies Retreat
DESCRIPTION:All ladies are invited to attend our retreat at the Rogers' cab
 in on the river. Our guest speaker is Amy Johnson and our topic is 'Rest i
 n the Lord'.  If you have any questions please contact (828) 524-0919.
X-ALT-DESC;FMTTYPE=text/html:<p><span style='color: #ffffff\;'>All ladies a
 re invited to attend our retreat at the Rogers' cabin on the river. Our gu
 est speaker is Amy Johnson and our topic is 'Rest in the Lord'.&nbsp\;</sp
 an></p><br/>If you have any questions please contact (828) 524-0919.
CATEGORIES:General
UID:20150711T0448070Z-504999-20@localendar.com
END:VEVENT
BEGIN:VEVENT
DTSTAMP:20260420T155542Z
DTSTART;TZID=America/New_York:20150912T080000
DTEND;TZID=America/New_York:20150912T140000
SUMMARY:Fall Ladies Retreat
DESCRIPTION:Our ladies retreat will continue today until 2:00 p.m. If you h
 ave any questions please contact (828) 524-0919.
X-ALT-DESC;FMTTYPE=text/html:<p><span style='color: #ffffff\;'>Our ladies r
 etreat will continue today until 2:00 p.m.</span></p><br/>If you have any 
 questions please contact (828) 524-0919.
CATEGORIES:General
UID:20150711T0451170Z-504999-21@localendar.com
END:VEVENT
BEGIN:VEVENT
DTSTAMP:20260420T155542Z
DTSTART;TZID=America/New_York:20160917T110000
DTEND;TZID=America/New_York:20160917T170000
SUMMARY:Church Picnic
DESCRIPTION:Come have a day of fun at Standing Indian Campground at 11:00. 
 The church is providing the hotdogs so you bring the extras. Don't forget 
 to bring your lawn chairs. If you have any questions please contact (828) 
 524-0919.
X-ALT-DESC;FMTTYPE=text/html:<p><span style='color: #ffffff\;'>Come have a 
 day of fun at Standing Indian Campground at 11:00.</span></p>  <p><span st
 yle='color: #ffffff\;'>The church is providing the hotdogs so you bring th
 e extras.</span></p>  <p><span style='color: #ffffff\;'>Don't forget to br
 ing your lawn chairs.</span></p><br/>If you have any questions please cont
 act (828) 524-0919.
CATEGORIES:General
UID:20160914T0046150Z-504999-22@localendar.com
END:VEVENT
BEGIN:VEVENT
DTSTAMP:20260420T155542Z
DTSTART;TZID=America/New_York:20160925T150000
DTEND;TZID=America/New_York:20160925T163000
SUMMARY:SCENTIMENT Ladies Meeting
DESCRIPTION:Attention Ladies! Please join us for a time of fellowship\, Bib
 le study and encouragement at 3:00. Our topic is 'A Wake Up Call'. If you 
 have any questions please contact (828) 524-0919.
X-ALT-DESC;FMTTYPE=text/html:<p><span style='color: #ffffff\;'>Attention La
 dies!</span></p>  <p><span style='color: #ffffff\;'>Please join us for a t
 ime of fellowship\, Bible study and encouragement at 3:00.</span></p>  <p>
 <span style='color: #ffffff\;'>Our topic is 'A Wake Up Call'.</span></p><b
 r/>If you have any questions please contact (828) 524-0919.
CATEGORIES:General
UID:20160914T0050350Z-504999-23@localendar.com
END:VEVENT
BEGIN:VEVENT
DTSTAMP:20260420T155542Z
DTSTART;VALUE=DATE:20160905
SUMMARY:Happy Labor Day!
DESCRIPTION:If you have any questions please contact (828) 524-0919.
X-ALT-DESC;FMTTYPE=text/html:<br/>If you have any questions please contact 
 (828) 524-0919.
CATEGORIES:General
UID:20160914T0052420Z-504999-24@localendar.com
END:VEVENT
BEGIN:VEVENT
DTSTAMP:20260420T155542Z
DTSTART;TZID=America/New_York:20161002T100000
DTEND;TZID=America/New_York:20161002T120000
SUMMARY:Homecoming Service
DESCRIPTION:Come join us for our annual celebration at 10:00. This is a spe
 cial time to reflect on how God has truly blessed this body of believers. 
 We will have special music\, puppets/drama\, and an encouraging message fr
 om God's Word. We will be serving dinner on the grounds following the serv
 ice. If you have any questions please contact (828) 524-0919.
X-ALT-DESC;FMTTYPE=text/html:<p><span style='color: #ffffff\;'>Come join us
  for our annual celebration at 10:00.</span></p>  <p><span style='color: #
 ffffff\;'>This is a special time to reflect on how God has truly blessed t
 his body of believers.</span></p>  <p><span style='color: #ffffff\;'>We wi
 ll have special music\, puppets/drama\, and an encouraging message from Go
 d's Word.</span></p>  <p><span style='color: #ffffff\;'>We will be serving
  dinner on the grounds following the service.</span></p><br/>If you have a
 ny questions please contact (828) 524-0919.
CATEGORIES:General
UID:20160914T0057530Z-504999-25@localendar.com
END:VEVENT
BEGIN:VEVENT
DTSTAMP:20260420T155542Z
DTSTART;TZID=America/New_York:20161014T180000
DTEND;TZID=America/New_York:20161015T140000
SUMMARY:Fall Ladies Retreat
RRULE:FREQ=DAILY;COUNT=2
EXDATE;TZID=America/New_York:20161014T180000
EXDATE;TZID=America/New_York:20161015T180000
DESCRIPTION:This is the ladies highlight of the year. Our guest speaker is 
 Theresa Bixby from Greenville\, South Carolina and our topic is 'Our Highe
 st Devotion'. We will begin with dinner around 6:30 and end around 2:00 in
  the afternoon. Bring your Bible and sleeping bag as we enjoy the crisp fa
 ll air at the Roger's cabin on the river.  If you have any questions\, ple
 ase see Lori Grey. If you have any questions please contact (828) 524-0919
 .
X-ALT-DESC;FMTTYPE=text/html:<p><span style='color: #ffffff\;'>This is the 
 ladies highlight of the year. Our guest speaker is Theresa Bixby from Gree
 nville\, South Carolina and our topic is 'Our Highest Devotion'.</span></p
 >  <p><span style='color: #ffffff\;'>We will begin with dinner around 6:30
  and end around 2:00 in the afternoon.</span></p>  <p><span style='color: 
 #ffffff\;'>Bring your Bible and sleeping bag as we enjoy the crisp fall ai
 r at the Roger's cabin on the river.&nbsp\;</span></p>  <p><span style='co
 lor: #ffffff\;'>If you have any questions\, please see Lori Grey.</span></
 p><br/>If you have any questions please contact (828) 524-0919.
CATEGORIES:General
UID:20160914T0105570Z-504999-26@localendar.com
END:VEVENT
BEGIN:VEVENT
DTSTAMP:20260420T155542Z
DTSTART;TZID=America/New_York:20161014T180000
DTEND;TZID=America/New_York:20161015T140000
SUMMARY:Fall Ladies Retreat
DESCRIPTION:This is the ladies highlight of the year. Our guest speaker is 
 Theresa Bixby from Greenville\, South Carolina and our topic is 'Our Highe
 st Devotion'. We will begin with dinner around 6:30 Friday and end around 
 2:00 in the afternoon on Saturday. Bring your Bible and sleeping bag as we
  enjoy the crisp fall air at the Roger's cabin on the river.  If you have 
 any questions\, please see Lori Grey. If you have any questions please con
 tact (828) 524-0919.
X-ALT-DESC;FMTTYPE=text/html:<p><span style='color: #ffffff\;'>This is the 
 ladies highlight of the year. Our guest speaker is Theresa Bixby from Gree
 nville\, South Carolina and our topic is 'Our Highest Devotion'.</span></p
 >  <p><span style='color: #ffffff\;'>We will begin with dinner around 6:30
  Friday and end around 2:00 in the afternoon on Saturday.</span></p>  <p><
 span style='color: #ffffff\;'>Bring your Bible and sleeping bag as we enjo
 y the crisp fall air at the Roger's cabin on the river.&nbsp\;</span></p> 
  <p><span style='color: #ffffff\;'>If you have any questions\, please see 
 Lori Grey.</span></p><br/>If you have any questions please contact (828) 5
 24-0919.
CATEGORIES:General
UID:20160914T0108440Z-504999-27@localendar.com
END:VEVENT
BEGIN:VEVENT
DTSTAMP:20260420T155542Z
DTSTART;TZID=America/New_York:20161015T180000
DTEND;TZID=America/New_York:20161016T140000
SUMMARY:Fall Ladies Retreat
DESCRIPTION:This is the ladies highlight of the year. Our guest speaker is 
 Theresa Bixby from Greenville\, South Carolina and our topic is 'Our Highe
 st Devotion'. We will begin with dinner around 6:30 Friday and end around 
 2:00 in the afternoon on Saturday. Bring your Bible and sleeping bag as we
  enjoy the crisp fall air at the Roger's cabin on the river.  If you have 
 any questions\, please see Lori Grey. If you have any questions please con
 tact (828) 524-0919.
X-ALT-DESC;FMTTYPE=text/html:<p><span style='color: #ffffff\;'>This is the 
 ladies highlight of the year. Our guest speaker is Theresa Bixby from Gree
 nville\, South Carolina and our topic is 'Our Highest Devotion'.</span></p
 >  <p><span style='color: #ffffff\;'>We will begin with dinner around 6:30
  Friday and end around 2:00 in the afternoon on Saturday.</span></p>  <p><
 span style='color: #ffffff\;'>Bring your Bible and sleeping bag as we enjo
 y the crisp fall air at the Roger's cabin on the river.&nbsp\;</span></p> 
  <p><span style='color: #ffffff\;'>If you have any questions\, please see 
 Lori Grey.</span></p><br/>If you have any questions please contact (828) 5
 24-0919.
CATEGORIES:General
UID:20160914T0108270Z-504999-28@localendar.com
END:VEVENT
BEGIN:VEVENT
DTSTAMP:20260420T155542Z
DTSTART;TZID=America/New_York:20161028T090000
DTEND;TZID=America/New_York:20161028T180000
SUMMARY:Bright Lights Encouragement Retreat
RRULE:FREQ=DAILY;COUNT=2
EXDATE;TZID=America/New_York:20161028T090000
DESCRIPTION:This is a very important time of sharing\, Bible study\, encour
 agement\, prayer and fellowship for leaders across the area. The conferenc
 e is free of charge with meals provided and lodging if needed. If you have
  any questions please contact (828) 524-0919.
X-ALT-DESC;FMTTYPE=text/html:<p><span style='color: #ffffff\;'>This is a ve
 ry important time of sharing\, Bible study\, encouragement\, prayer and fe
 llowship for leaders across the area.</span></p>  <p><span style='color: #
 ffffff\;'>The conference is free of charge with meals provided and lodging
  if needed.</span></p><br/>If you have any questions please contact (828) 
 524-0919.
CATEGORIES:General
UID:20160914T0119230Z-504999-29@localendar.com
END:VEVENT
BEGIN:VEVENT
DTSTAMP:20260420T155542Z
DTSTART;TZID=America/New_York:20161028T160000
DTEND;TZID=America/New_York:20161028T210000
SUMMARY:Bright Lights Encouragement Retreat
DESCRIPTION:This is a very important time of sharing\, Bible study\, encour
 agement\, prayer and fellowship for leaders across the area. The conferenc
 e is free of charge with meals provided and lodging if needed. If you have
  any questions please contact (828) 524-0919.
X-ALT-DESC;FMTTYPE=text/html:<p><span style='color: #ffffff\;'>This is a ve
 ry important time of sharing\, Bible study\, encouragement\, prayer and fe
 llowship for leaders across the area.</span></p>  <p><span style='color: #
 ffffff\;'>The conference is free of charge with meals provided and lodging
  if needed.</span></p><br/>If you have any questions please contact (828) 
 524-0919.
CATEGORIES:General
UID:20160914T0120210Z-504999-30@localendar.com
END:VEVENT
BEGIN:VEVENT
DTSTAMP:20260420T155542Z
DTSTART;TZID=America/New_York:20161030T170000
DTEND;TZID=America/New_York:20161030T180000
SUMMARY:Celebrating Our Children
DESCRIPTION:Come support and encourage our young people as they share what 
 the Lord has been teaching them this past quarter. The kids will be sharin
 g Bible verses\, lessons\, music\, puppets and drama. There will be a fing
 er food fellowship following the service.   If you have any questions plea
 se contact (828) 524-0919.
X-ALT-DESC;FMTTYPE=text/html:<p><span style='color: #ffffff\;'>Come support
  and encourage our young people as they share what the Lord has been teach
 ing them this past quarter.</span></p>  <p><span style='color: #ffffff\;'>
 The kids will be sharing Bible verses\, lessons\, music\, puppets and dram
 a.</span></p>  <p><span style='color: #ffffff\;'>There will be a finger fo
 od fellowship following the service.</span></p>  <p>&nbsp\;</p><br/>If you
  have any questions please contact (828) 524-0919.
CATEGORIES:General
UID:20160914T0125090Z-504999-31@localendar.com
END:VEVENT
BEGIN:VEVENT
DTSTAMP:20260420T155542Z
DTSTART;TZID=America/New_York:20160620T173000
DTEND;TZID=America/New_York:20160620T200000
SUMMARY:Vacation Bible School
RRULE:FREQ=DAILY;COUNT=5
DESCRIPTION:Come to 'Cowabunga Farm' as we study the life of Joseph. Childr
 en ages 2 - youth are invited to attend. We will serve dinner each night a
 t 5:30 and classes wil be from 6:00 - 8:00. If you have any questions plea
 se contact (828) 524-0919.
X-ALT-DESC;FMTTYPE=text/html:<p><span style='color: #ffffff\;'>Come to 'Cow
 abunga Farm' as we study the life of Joseph.</span></p>  <p><span style='c
 olor: #ffffff\;'>Children ages 2 - youth are invited to attend.</span></p>
   <p><span style='color: #ffffff\;'>We will serve dinner each night at 5:3
 0 and classes wil be from 6:00 - 8:00.</span></p><br/>If you have any ques
 tions please contact (828) 524-0919.
CATEGORIES:General
UID:20160914T0130200Z-504999-32@localendar.com
END:VEVENT
BEGIN:VEVENT
DTSTAMP:20260420T155542Z
DTSTART;TZID=America/New_York:20160827T110000
DTEND;TZID=America/New_York:20160827T170000
SUMMARY:Picnic on the River
DESCRIPTION:Join us for a fun day of food\, fellowship\, games and inner tu
 bing at the Roger's cabin on the river. Catfish will be provided so just b
 ring all the good food that goes along with it. Don't forget your lawn cha
 irs. If you have any questions please contact (828) 524-0919.
X-ALT-DESC;FMTTYPE=text/html:<p><span style='color: #ffffff\;'>Join us for 
 a fun day of food\, fellowship\, games and inner tubing at the Roger's cab
 in on the river.</span></p>  <p><span style='color: #ffffff\;'>Catfish wil
 l be provided so just bring all the good food that goes along with it.</sp
 an></p>  <p><span style='color: #ffffff\;'>Don't forget your lawn chairs.<
 /span></p><br/>If you have any questions please contact (828) 524-0919.
CATEGORIES:General
UID:20160914T0134160Z-504999-33@localendar.com
END:VEVENT
END:VCALENDAR
