BEGIN:VCALENDAR
PRODID:-//Ben Fortuna//iCal4j 1.0//EN
VERSION:2.0
CALSCALE:GREGORIAN
BEGIN:VTIMEZONE
TZID:America/Los_Angeles
LAST-MODIFIED:20260306T231828Z
TZURL:https://www.tzurl.org/zoneinfo-outlook/America/Los_Angeles
X-LIC-LOCATION:America/Los_Angeles
BEGIN:DAYLIGHT
TZNAME:PDT
TZOFFSETFROM:-0800
TZOFFSETTO:-0700
DTSTART:19700308T020000
RRULE:FREQ=YEARLY;BYMONTH=3;BYDAY=2SU
END:DAYLIGHT
BEGIN:STANDARD
TZNAME:PST
TZOFFSETFROM:-0700
TZOFFSETTO:-0800
DTSTART:19701101T020000
RRULE:FREQ=YEARLY;BYMONTH=11;BYDAY=1SU
END:STANDARD
END:VTIMEZONE
BEGIN:VEVENT
DTSTAMP:20260420T054752Z
DTSTART;TZID=America/Los_Angeles:20221208T180000
DTEND;TZID=America/Los_Angeles:20221208T200000
SUMMARY:Paint Winter's Walk at Cascade BBQ - $34
DESCRIPTION:Brandie’s Paint and Sip experience\, along with Cascade BBQ\, i
 s excited to paint with you at our first indoor public event in over 2 yea
 rs! Sadly\, this will also likely be the last public class I teach\, so pl
 ease join me! Come enjoy this Winter’s Walk painting\, created especially 
 for my last class of the year. Seating will be first come\, first served. 
 If you have any special needs please email Brandie@PaintandWineCorvallis.c
 om to convey your need. Arrive as early as 5:30pm to find your seat\, get 
 an apron and order your dinner! Painting starts at 6pm. $34 Price INCLUDES
 : All supplies needed to complete the painting of the day. Step by step gu
 ided instructions A drink ticket good for a draft beer\, cider or glass of
  wine from Cascade BBQ (minors ages 13 and up are welcome and may have a s
 oft drink) 10% off your meal purchase for the evening Participants who pur
 chase food will get a ticket for the raffle. Prizes vary! Please wear pain
 t friendly clothing!! Acrylics stain! I DO NOT provide aprons for outdoor 
 events as they will not protect your sleeves. CANCELLATIONS MUST be at lea
 st 48 hours before class so those on the waitlist have the opportunity to 
 purchase your table. If you cancel less than 48 hours before class or do n
 ot show up\, then you may not be eligible for a refund. MINIMUM CLASS SIZE
 : 8 people.  If we don’t have at least 6 people signed up 48 hours before 
 the class starts it may be cancelled.(Refunds and/or credits will be issue
 d in this case.) Thank you! Click this link to pay and reserve your spot i
 n class: Winter's Walk at Cascade BBQ
X-ALT-DESC;FMTTYPE=text/html:<p>Brandie&rsquo\;s Paint and Sip experience\,
  along with Cascade BBQ\, is excited to paint with you at our first indoor
  public event in over 2 years! Sadly\, this will also likely be the last p
 ublic class I teach\, so please join me!</p>  <p>Come enjoy this Winter&rs
 quo\;s Walk painting\, created especially for my last class of the year.</
 p>  <p>Seating will be first come\, first served. If you have any special 
 needs please email <a href='mailto:Brandie@PaintandWineCorvallis.com' rel=
 'nofollow'><span>Brandie@PaintandWineCorvallis.com</span></a> to convey yo
 ur need.</p>  <p>Arrive as early as 5:30pm to find your seat\, get an apro
 n and order your dinner!</p>  <p>Painting starts at 6pm.</p>  <p>$34 Price
  INCLUDES:</p>  <ol>  <li>All supplies needed to complete the painting of 
 the day.</li>  <li>Step by step guided instructions</li>  <li>A drink tick
 et good for a draft beer\, cider or glass of wine from Cascade BBQ (minors
  ages 13 and up are welcome and may have a soft drink)</li>  <li>10% off y
 our meal purchase for the evening</li>  <li>Participants who purchase food
  will get a ticket for the raffle. Prizes vary!</li>  </ol>  <p>Please wea
 r paint friendly clothing!! Acrylics stain! I DO NOT provide aprons for ou
 tdoor events as they will not protect your sleeves.</p>  <p>CANCELLATIONS 
 MUST be at least 48 hours before class so those on the waitlist have the o
 pportunity to purchase your table. <span>If you cancel less than 48 hours 
 before class or do not show up\, then you may not be eligible for a refund
 .</span></p>  <p>MINIMUM CLASS SIZE: 8 people.&nbsp\; If we don&rsquo\;t h
 ave at least 6 people signed up 48 hours before the class starts it may be
  cancelled.(Refunds and/or credits will be issued in this case.)</p>  <p>T
 hank you!</p>  <p>Click this link to pay and reserve your spot in class:<s
 pan>&nbsp\;<a href='https://checkout.square.site/merchant/7A692Z2TEP63M/ch
 eckout/CESSBSO2CGRO4CDHLHNWS4OQ' rel='nofollow'>Winter's Walk at Cascade B
 BQ</a></span></p>  <p></p>
CATEGORIES:Entertainment
LOCATION:Paint and Wine Corvallis at Cascade BBQ
UID:20221118T2333140Z-517969-1227@localendar.com
END:VEVENT
BEGIN:VEVENT
DTSTAMP:20260420T054752Z
DTSTART;VALUE=DATE:20221207
SUMMARY:Last Class!!! DECEMBER 8TH
DESCRIPTION:Thank you all for your love and support. Life has brought many 
 changes this last few years\, both good and bad\, as you all know. It is w
 ith regret that I am closing the public group classes of my business. I MA
 Y be available\, with lots of advanced notice\, to do a private class. And
  I'm starting to do pet portraits on commission.   I love you all and will
  miss painting with you! Cheers\, Brandie Stucky
X-ALT-DESC;FMTTYPE=text/html:<p>Thank you all for your love and support. Li
 fe has brought many changes this last few years\, both good and bad\, as y
 ou all know. It is with regret that I am closing the public group classes 
 of my business.</p>  <p>I MAY be available\, with lots of advanced notice\
 , to do a private class. And I'm starting to do pet portraits on commissio
 n. &nbsp\;</p>  <p>I love you all and will miss painting with you!</p>  <p
 >Cheers\,</p>  <p>Brandie Stucky</p>
CATEGORIES:Entertainment
UID:20221118T2338150Z-517969-1228@localendar.com
END:VEVENT
END:VCALENDAR
